Workbook

Sheet Data
A1: Column1 | B1: Column2 | C1: Column3 | D1: Column4 | E1: Column5 | F1: Column6 | G1: Column7 | H1: Column8 | I1: Column9 | J1: Column10 | K1: Column11 | L1: Column12 | M1: Column13 | N1: Column14 | O1: Column15 | P1: Column16 | Q1: Column17 | R1: Column18 | S1: Column19 | T1: Column20 | U1: Column21 | V1: Column22 | W1: Column23 | X1: Column24
A2: Divisors | C2: 1 | D2: 10 | E2: 10 | F2: 10 | G2: 10 | H2: 10 | I2: 10 | J2: 10 | K2: 10 | L2: 10 | M2: 10 | N2: 10 | O2: 10 | P2: 10 | Q2: 100 | R2: 1 | S2: 10 | T2: 10 | U2: 10 | V2: 10 | W2: 1 | X2: 1
A3: Date | B3: Time | C3: version | D3: BT1 | E3: BT2 | F3: EB100-EP14-BT3 | G3: BT6 | H3: BT7 | I3: EB100-EP14-BT12 | J3: EB100-EP14-BT14 | K3: EB100-BT16 | L3: EB100-EP14-BT17 | M3: EB100-BT20 | N3: EB100-BT21 | O3: EB100-BS1 | P3: EB100-BS1-ref | Q3: Tot.Int.Add | R3: Alarm number | S3: Calc. Supply | T3: Degree Minutes | U3: BT1 Average | V3: compr. freq. act. | W3: Relays PCA-Base | X3: Prio
A4: 2018-11-26 | B4: 16:57:02 | C4: 6468 | D4: 3 | E4: 334 | F4: 296 | G4: 481 | H4: 500 | I4: 338 | J4: 881 | K4: -166 | L4: -8 | M4: 176 | N4: -136 | O4: 1265 | P4: 1286 | Q4: 0 | R4: 0 | S4: 393 | T4: -8990 | U4: -2 | V4: 735 | W4: 3 | X4: 30
A5: 2018-11-26 | B5: 17:07:02 | C5: 6468 | D5: 2 | E5: 317 | F5: 294 | G5: 477 | H5: 500 | I5: 308 | J5: 706 | K5: -1 | L5: 129 | M5: 183 | N5: 0 | O5: 1352 | P5: 1286 | Q5: 0 | R5: 183 | S5: 394 | T5: -8990 | U5: -1 | V5: 5 | W5: 6 | X5: 30
A6: 2018-11-26 | B6: 17:17:02 | C6: 6468 | D6: 1 | E6: 315 | F6: 274 | G6: 476 | H6: 499 | I6: 326 | J6: 579 | K6: 127 | L6: 182 | M6: 190 | N6: 72 | O6: 1357 | P6: 1286 | Q6: 0 | R6: 183 | S6: 396 | T6: -8990 | U6: -1 | V6: 5 | W6: 6 | X6: 30
A7: 2018-11-26 | B7: 17:27:03 | C7: 6468 | D7: -1 | E7: 313 | F7: 267 | G7: 474 | H7: 498 | I7: 335 | J7: 539 | K7: 155 | L7: 190 | M7: 194 | N7: 99 | O7: 1370 | P7: 1286 | Q7: 0 | R7: 183 | S7: 394 | T7: -8990 | U7: -1 | V7: 5 | W7: 6 | X7: 30
A8: 2018-11-26 | B8: 17:37:03 | C8: 6468 | D8: -1 | E8: 311 | F8: 267 | G8: 473 | H8: 498 | I8: 341 | J8: 509 | K8: 166 | L8: 192 | M8: 196 | N8: 112 | O8: 1386 | P8: 1286 | Q8: 0 | R8: 183 | S8: 396 | T8: -8990 | U8: -1 | V8: 5 | W8: 6 | X8: 30
A9: 2018-11-26 | B9: 17:47:03 | C9: 6468 | D9: -1 | E9: 309 | F9: 267 | G9: 472 | H9: 497 | I9: 341 | J9: 484 | K9: 172 | L9: 193 | M9: 196 | N9: 117 | O9: 1379 | P9: 1286 | Q9: 0 | R9: 183 | S9: 397 | T9: -8990 | U9: -1 | V9: 5 | W9: 6 | X9: 30
A10: 2018-11-26 | B10: 17:57:03 | C10: 6468 | D10: -3 | E10: 279 | F10: 235 | G10: 470 | H10: 496 | I10: 280 | J10: 690 | K10: -162 | L10: 9 | M10: 195 | N10: -86 | O10: 1416 | P10: 1390 | Q10: 0 | R10: 0 | S10: 398 | T10: -8990 | U10: -1 | V10: 795 | W10: 3 | X10: 30
A11: 2018-11-26 | B11: 18:07:03 | C11: 6468 | D11: -3 | E11: 297 | F11: 251 | G11: 469 | H11: 496 | I11: 299 | J11: 787 | K11: -167 | L11: -5 | M11: 194 | N11: -109 | O11: 1359 | P11: 1390 | Q11: 0 | R11: 0 | S11: 400 | T11: -8990 | U11: -1 | V11: 794 | W11: 3 | X11: 30
A12: 2018-11-26 | B12: 18:17:03 | C12: 6468 | D12: -3 | E12: 308 | F12: 261 | G12: 468 | H12: 496 | I12: 310 | J12: 816 | K12: -166 | L12: -5 | M12: 195 | N12: -113 | O12: 1350 | P12: 1390 | Q12: 0 | R12: 0 | S12: 400 | T12: -8990 | U12: -2 | V12: 795 | W12: 3 | X12: 30
A13: 2018-11-26 | B13: 18:27:03 | C13: 6468 | D13: -5 | E13: 315 | F13: 269 | G13: 463 | H13: 495 | I13: 318 | J13: 827 | K13: -162 | L13: -5 | M13: 194 | N13: -110 | O13: 1348 | P13: 1390 | Q13: 0 | R13: 0 | S13: 400 | T13: -8990 | U13: -2 | V13: 795 | W13: 3 | X13: 30
A14: 2018-11-26 | B14: 18:37:03 | C14: 6468 | D14: -5 | E14: 321 | F14: 274 | G14: 460 | H14: 495 | I14: 324 | J14: 834 | K14: -162 | L14: -5 | M14: 196 | N14: -116 | O14: 1321 | P14: 1390 | Q14: 0 | R14: 0 | S14: 399 | T14: -8990 | U14: -2 | V14: 794 | W14: 3 | X14: 30
... A148: 2018-11-27 | B148: 16:57:22 | C148: 6468 | D148: -10 | E148: 318 | F148: 277 | G148: 469 | H148: 490 | I148: 327 | J148: 585 | K148: 130 | L148: 184 | M148: 194 | N148: 75 | O148: 1436 | P148: 1492 | Q148: 0 | R148: 183 | S148: 403 | T148: -8990 | U148: -8 | V148: 5 | W148: 6 | X148: 30
A149: _x001A_

Sheet Analys1
A1: =Data!A3 -> Date | B1: =Data!B3 -> Time | C1: Min | D1: T Ute | E1: T Supply | F1: T Return | G1: =Data!G3 -> BT6 | H1: =Data!H3 -> BT7 | I1: =Data!I3 -> EB100-EP14-BT12 | J1: =Data!J3 -> EB100-EP14-BT14 | K1: =Data!K3 -> EB100-BT16 | L1: =Data!L3 -> EB100-EP14-BT17 | M1: =Data!M3 -> EB100-BT20 | N1: =Data!N3 -> EB100-BT21 | ... X1: =Data!X3 -> Prio
A2: =Data!A4 -> 2018-11-26 | B2: =Data!B4 -> 16:57:02 | C2: 0 | D2: =Data!D4/Data!D$2 -> 0.3 | E2: =Data!E4/Data!E$2 -> 33.4 | F2: =Data!F4/Data!F$2 -> 29.6 | G2: =Data!G4/Data!G$2 -> 48.1 | H2: =Data!H4/Data!H$2 -> 50 | I2: =Data!I4/Data!I$2 -> 33.8 | J2: =Data!J4/Data!J$2 -> 88.1 | K2: =Data!K4/Data!K$2 -> -16.6 | ... X2: =Data!X4/Data!X$2 -> 30
A3: =Data!A5 -> 2018-11-26 | B3: =Data!B5 -> 17:07:02 | C3: =C2+10 -> 10 | D3: =Data!D5/Data!D$2 -> 0.2 | E3: =Data!E5/Data!E$2 -> 31.7 | F3: =Data!F5/Data!F$2 -> 29.4 | G3: =Data!G5/Data!G$2 -> 47.7 | H3: =Data!H5/Data!H$2 -> 50 | I3: =Data!I5/Data!I$2 -> 30.8 | J3: =Data!J5/Data!J$2 -> 70.6 | K3: =Data!K5/Data!K$2 -> -0.1 | ... X3: =Data!X5/Data!X$2 -> 30
A4: =Data!A6 -> 2018-11-26 | B4: =Data!B6 -> 17:17:02 | C4: =C3+10 -> 20 | D4: =Data!D6/Data!D$2 -> 0.1 | E4: =Data!E6/Data!E$2 -> 31.5 | F4: =Data!F6/Data!F$2 -> 27.4 | G4: =Data!G6/Data!G$2 -> 47.6 | H4: =Data!H6/Data!H$2 -> 49.9 | I4: =Data!I6/Data!I$2 -> 32.6 | J4: =Data!J6/Data!J$2 -> 57.9 | K4: =Data!K6/Data!K$2 -> 12.7 | ... X4: =Data!X6/Data!X$2 -> 30
A5: =Data!A7 -> 2018-11-26 | B5: =Data!B7 -> 17:27:03 | C5: =C4+10 -> 30 | D5: =Data!D7/Data!D$2 -> -0.1 | E5: =Data!E7/Data!E$2 -> 31.3 | F5: =Data!F7/Data!F$2 -> 26.7 | G5: =Data!G7/Data!G$2 -> 47.4 | H5: =Data!H7/Data!H$2 -> 49.8 | I5: =Data!I7/Data!I$2 -> 33.5 | J5: =Data!J7/Data!J$2 -> 53.9 | K5: =Data!K7/Data!K$2 -> 15.5 | ... X5: =Data!X7/Data!X$2 -> 30
A6: =Data!A8 -> 2018-11-26 | B6: =Data!B8 -> 17:37:03 | C6: =C5+10 -> 40 | D6: =Data!D8/Data!D$2 -> -0.1 | E6: =Data!E8/Data!E$2 -> 31.1 | F6: =Data!F8/Data!F$2 -> 26.7 | G6: =Data!G8/Data!G$2 -> 47.3 | H6: =Data!H8/Data!H$2 -> 49.8 | I6: =Data!I8/Data!I$2 -> 34.1 | J6: =Data!J8/Data!J$2 -> 50.9 | K6: =Data!K8/Data!K$2 -> 16.6 | ... X6: =Data!X8/Data!X$2 -> 30
A7: =Data!A9 -> 2018-11-26 | B7: =Data!B9 -> 17:47:03 | C7: =C6+10 -> 50 | D7: =Data!D9/Data!D$2 -> -0.1 | E7: =Data!E9/Data!E$2 -> 30.9 | F7: =Data!F9/Data!F$2 -> 26.7 | G7: =Data!G9/Data!G$2 -> 47.2 | H7: =Data!H9/Data!H$2 -> 49.7 | I7: =Data!I9/Data!I$2 -> 34.1 | J7: =Data!J9/Data!J$2 -> 48.4 | K7: =Data!K9/Data!K$2 -> 17.2 | ... X7: =Data!X9/Data!X$2 -> 30
A8: =Data!A10 -> 2018-11-26 | B8: =Data!B10 -> 17:57:03 | C8: =C7+10 -> 60 | D8: =Data!D10/Data!D$2 -> -0.3 | E8: =Data!E10/Data!E$2 -> 27.9 | F8: =Data!F10/Data!F$2 -> 23.5 | G8: =Data!G10/Data!G$2 -> 47 | H8: =Data!H10/Data!H$2 -> 49.6 | I8: =Data!I10/Data!I$2 -> 28 | J8: =Data!J10/Data!J$2 -> 69 | K8: =Data!K10/Data!K$2 -> -16.2 | ... X8: =Data!X10/Data!X$2 -> 30
A9: =Data!A11 -> 2018-11-26 | B9: =Data!B11 -> 18:07:03 | C9: =C8+10 -> 70 | D9: =Data!D11/Data!D$2 -> -0.3 | E9: =Data!E11/Data!E$2 -> 29.7 | F9: =Data!F11/Data!F$2 -> 25.1 | G9: =Data!G11/Data!G$2 -> 46.9 | H9: =Data!H11/Data!H$2 -> 49.6 | I9: =Data!I11/Data!I$2 -> 29.9 | J9: =Data!J11/Data!J$2 -> 78.7 | K9: =Data!K11/Data!K$2 -> -16.7 | ... X9: =Data!X11/Data!X$2 -> 30
A10: =Data!A12 -> 2018-11-26 | B10: =Data!B12 -> 18:17:03 | C10: =C9+10 -> 80 | D10: =Data!D12/Data!D$2 -> -0.3 | E10: =Data!E12/Data!E$2 -> 30.8 | F10: =Data!F12/Data!F$2 -> 26.1 | G10: =Data!G12/Data!G$2 -> 46.8 | H10: =Data!H12/Data!H$2 -> 49.6 | I10: =Data!I12/Data!I$2 -> 31 | J10: =Data!J12/Data!J$2 -> 81.6 | K10: =Data!K12/Data!K$2 -> -16.6 | ... X10: =Data!X12/Data!X$2 -> 30
A11: =Data!A13 -> 2018-11-26 | B11: =Data!B13 -> 18:27:03 | C11: =C10+10 -> 90 | D11: =Data!D13/Data!D$2 -> -0.5 | E11: =Data!E13/Data!E$2 -> 31.5 | F11: =Data!F13/Data!F$2 -> 26.9 | G11: =Data!G13/Data!G$2 -> 46.3 | H11: =Data!H13/Data!H$2 -> 49.5 | I11: =Data!I13/Data!I$2 -> 31.8 | J11: =Data!J13/Data!J$2 -> 82.7 | K11: =Data!K13/Data!K$2 -> -16.2 | ... X11: =Data!X13/Data!X$2 -> 30
A12: =Data!A14 -> 2018-11-26 | B12: =Data!B14 -> 18:37:03 | C12: =C11+10 -> 100 | D12: =Data!D14/Data!D$2 -> -0.5 | E12: =Data!E14/Data!E$2 -> 32.1 | F12: =Data!F14/Data!F$2 -> 27.4 | G12: =Data!G14/Data!G$2 -> 46 | H12: =Data!H14/Data!H$2 -> 49.5 | I12: =Data!I14/Data!I$2 -> 32.4 | J12: =Data!J14/Data!J$2 -> 83.4 | K12: =Data!K14/Data!K$2 -> -16.2 | ... X12: =Data!X14/Data!X$2 -> 30
A13: =Data!A15 -> 2018-11-26 | B13: =Data!B15 -> 18:47:04 | C13: =C12+10 -> 110 | D13: =Data!D15/Data!D$2 -> -0.5 | E13: =Data!E15/Data!E$2 -> 32.5 | F13: =Data!F15/Data!F$2 -> 27.8 | G13: =Data!G15/Data!G$2 -> 45.7 | H13: =Data!H15/Data!H$2 -> 49.4 | I13: =Data!I15/Data!I$2 -> 32.8 | J13: =Data!J15/Data!J$2 -> 83.9 | K13: =Data!K15/Data!K$2 -> -16.2 | ... X13: =Data!X15/Data!X$2 -> 30
A14: =Data!A16 -> 2018-11-26 | B14: =Data!B16 -> 18:57:04 | C14: =C13+10 -> 120 | D14: =Data!D16/Data!D$2 -> -0.6 | E14: =Data!E16/Data!E$2 -> 32.8 | F14: =Data!F16/Data!F$2 -> 28.2 | G14: =Data!G16/Data!G$2 -> 45.5 | H14: =Data!H16/Data!H$2 -> 49.4 | I14: =Data!I16/Data!I$2 -> 33.1 | J14: =Data!J16/Data!J$2 -> 84.5 | K14: =Data!K16/Data!K$2 -> -16.2 | ... X14: =Data!X16/Data!X$2 -> 30
... A146: =Data!A148 -> 2018-11-27 | B146: =Data!B148 -> 16:57:22 | C146: =C145+10 -> 1440 | D146: =Data!D148/Data!D$2 -> -1 | E146: =Data!E148/Data!E$2 -> 31.8 | F146: =Data!F148/Data!F$2 -> 27.7 | G146: =Data!G148/Data!G$2 -> 46.9 | H146: =Data!H148/Data!H$2 -> 49 | I146: =Data!I148/Data!I$2 -> 32.7 | J146: =Data!J148/Data!J$2 -> 58.5 | K146: =Data!K148/Data!K$2 -> 13 | ... X146: =Data!X148/Data!X$2 -> 30
