Workbook

Sheet Effektbehov och DVUT
A1: Beräkning av effektbehov | H1: Resultat
A2: Innetemperatur | B2: 21 | C2: °C | H2: Effektbehov vid DVUT | I2: =B27 -> 3834.3285 | J2: =C27 -> W
H3: =A28 -> Specifikt effektbehov | I3: =B28 -> 20.7261 | J3: =C28 -> W/m^2
A4: Förluster vid utetemperatur
A5: 0°C: | B5: =(B$2-0)*'Yt och förlustberäkningar'!B$38 -> 2190.1037 | C5: W
A6: -5°C: | B6: =(B$2+5)*'Yt och förlustberäkningar'!B$38 -> 2711.557 | C6: W
A7: -10°C: | B7: =(B$2+10)*'Yt och förlustberäkningar'!B$38 -> 3233.0102 | C7: W
A8: -15°C: | B8: =(B$2+15)*'Yt och förlustberäkningar'!B$38 -> 3754.4635 | C8: W
A9: -20°C: | B9: =(B$2+20)*'Yt och förlustberäkningar'!B$38 -> 4275.9168 | C9: W
A11: "Gratis" värme från
A12: Människor (4 st): | B12: 187 | C12: W
A13: Kyl+frys: | B13: 100 | C13: W
A14: Matlagning | B14: 50 | C14: W
A15: Belysning | B15: 50 | C15: W
A16: Övrig elektronik | B16: 200 | C16: W
A17: Totalt "gratis" | B17: =SUM(B12:B16) -> 587 | C17: W | D17: utan solinstrålning
A19: DVUT Uppsala
B20: 1-dygn | C20: 2-dygn | D20: 3-dygn | E20: 4-dygn | F20: 5-dygn | G20: 6-dygn | H20: 7-dygn | I20: 8-dygn
A21: DVUT | B21: -18.9 | C21: -18.3 | D21: -17.5 | E21: -16.6 | F21: -16.3 | G21: -15.9 | H21: -15.4 | I21: -15.3
A23: Tappvarmvatten
A24: Schablon | B24: 500 | C24: W
A26: Effektbehov vid DVUT
A27: 4-dygn | B27: =(B2-E21)*'Yt och förlustberäkningar'!B38-B17+B24 -> 3834.3285 | C27: W
A28: Specifikt effektbehov | B28: =B27/185 -> 20.7261 | C28: W/m^2

Sheet Energibehov
A1: Energianvändning pumpar, fläktar och styrsystem
A2: Schablon | B2: 800 | C2: kWh/år
A4: Uppvärmning | G4: Resultat
A5: Totalt | B5: ='Yt och förlustberäkningar'!B38*'Beräkning av graddagar'!B9/1000 -> 7850.1723 | C5: kWh/år | G5: =A20 -> Specifik energianvändning | H5: =B20 -> 23.304711 | I5: =C20 -> kWh/m^2/år
A7: Tappvarmvatten
A8: Schablon | B8: 3700 | C8: kWh/år
A10: Köpt energi utan VP
A11: Totalt | B11: =B8+B5+B2 -> 12350.172 | C11: kWh/år
A12: Specifik energianvändning | B12: =B11/185 -> 66.757688 | C12: kWh/m^2/år
A14: SCOP värmepump
A15: EcoPart 406 | B15: 3.5 | D15: 0°C/45°C
A17: Köpt energi med VP
A18: Legionellakörning | B18: =4180*350*10*52/3600/1000 -> 211.32222 | C18: kWh | D18: 1 gång/v
A19: Totalt | B19: =B18+B2+(B5+B8)/B15 -> 4311.3715 | C19: kWh/år
A20: Specifik energianvändning | B20: =B19/185 -> 23.304711 | C20: kWh/m^2/år
A22: Resultat från energiberakning.se
A23: Värmepumpens täckningsgrad [%] | B23: 1
A24: Värmepumpens energibehov [kWh/år] | B24: 2748
A25: Kompletterande (spets) [kWh/år] | B25: 0
A26: Energibehov värme, summa [kWh/år] | B26: 2748
A27: Fastighetsenergi, [kWh/år] | B27: 800
A28: Kylenergi [kWh/år] | B28: 100
A29: Köpt energi enligt BBR [kWh/år] | B29: 3648
A30: Specifik energianvändning [kWh/m2 år] | B30: 20 [max 90]
A31: Länk
A33: Skillnader
A34: De räknar ej legionellakörning
A35: Jag räknar ej med solinstrålning

Sheet Yt och förlustberäkningar
A1: Ytberäkning | G1: Väggtjocklek | H1: 0 | I1: m | J1: Korrigeringsterm för hörn
A2: Bottenplan | G2: U-värde fasad | H2: 0.16
A3: Längd av fasad: | B3: =(11.58-H1) + (8.58-H1)*2 + 0.6 + (6.68-H1) + 4.3+(4.28-H1)*2 -> 48.88 | C3: m | G3: U-värde fasta fönster | H3: 0.85
A4: Fasadyta: | B4: =B3*(2.6+0.2) -> 136.864 | C4: m^2 | G4: U-värde öppningsb fönster | H4: 0.95
G5: U-värde dörrar | H5: 1
A6: Övervåningsgavlar | G6: U-värde snedtak | H6: 0.13
A7: Fasadyta: | B7: =2*8.58/2*(8.58-H1)/2+3*2*2.4 -> 51.2082 | C7: m^2 | D7: inkl kupor | G7: U-värde rakt tak | H7: 0.11
A9: Åstaksgavel
A10: Fasadyta: | B10: =(5.6-0.3-2.8)*(6.68-H1)/2 -> 8.35 | C10: m^2
A12: Total fasadyta: | B12: =B10+B7+B4 -> 196.4222 | C12: m^2
A14: Fönster
A15: Fasta: | B15: =8*1*1.5+2*0.8*1.3+2*0.5*1.3+1*0.2*1+3*0.5*0.7 -> 16.63 | C15: m^2
A16: Öppningsbara: | B16: =2*1*1.5+2*0.8*1.3+4*0.9*1.3 -> 9.76 | C16: m^2
A17: Total fönsteryta: | B17: =B16+B15 -> 26.39 | C17: m^2
A19: Dörrar
A20: Total dörryta | B20: =3*(2.1*1) -> 6.3 | C20: m^2
A22: Fasad utan fönster och dörrar | B22: =B12-B17-B20 -> 163.7322 | C22: m^2
A24: Takyta
A25: Snedtakyta: | B25: =2*SQRT(2)*1.2*(11.58-2*1-H1)+2*(6.68-2*H1)/2/COS(30) -> 75.821512 | C25: m^2
A26: Vanlig takyta: | B26: =2*1.2*(11.58-2*1-H1)+(11.58-H1)*(8.58-2.4-H1) -> 94.5564 | C26: m^2 | D26: inkl vägg mot tak övervåning
A28: Förluster
A29: Bottenplatta | B29: =12 -> 12 | C29: dT
A30: Fasad | B30: =B22*H2 -> 26.197152 | C30: dT
A31: Fönster och dörrar | B31: =H3*B15+H4*B16+B20*H5 -> 29.7075 | C31: dT
A32: Tak | B32: =B25*H6+B26*H7 -> 20.258001 | C32: dT
A34: Förluster i ventilation
A35: (80 % verkningsgrad) | B35: =(1-0.8) * 240 * 1.2 * 1 * 0.28 -> 16.128 | C35: dT
A38: Totala förluster | B38: =SUM(B29:B35) -> 104.29065 | C38: dT
A40: Omslutande area: | B40: =(B25+B26+125+B12)*0.95 -> 467.21011 | C40: m^2
A41: Genomsnittligt U-värde: | B41: =(B38-B35)/B40 -> 0.18870023 | C41: W/(m^2*K)

Sheet Beräkning av graddagar
A1: Temperatur utan effektbehov | N1: Storvreta | Q1: Uppsala
A2: Inomhustemperatur | B2: ='Effektbehov och DVUT'!B2 -> 21 | C2: °C | M2: Datum | N2: Dygnsmedel | P2: Datum | Q2: Dygnsmedel | R2: Graddagar | S2: Antal dygn
A3: Gratis värme | B3: ='Effektbehov och DVUT'!B17 -> 587 | C3: W | D3: Utan solinstrålning | M3: 42143 | N3: 5.4 | P3: 38409 | Q3: -4.8 | R3: =IF(Q3>B$5,0,B$5-Q3) -> 20.171499 | S3: =P4264-P3 -> 4261
A4: Förluster | B4: ='Yt och förlustberäkningar'!B38 -> 104.29065 | C4: W/K | M4: 42144 | N4: 10.6 | P4: 38410 | Q4: -7.2 | R4: =IF(Q4>B$5,0,B$5-Q4) -> 22.571499
A5: Temperatur utan effektbehov | B5: =B2-B3/B4 -> 15.371499 | C5: °C | D5: Balanstemperatur | M5: 42145 | N5: 11.3 | P5: 38411 | Q5: -10.1 | R5: =IF(Q5>B$5,0,B$5-Q5) -> 25.471499
M6: 42146 | N6: 11 | P6: 38412 | Q6: -14 | R6: =IF(Q6>B$5,0,B$5-Q6) -> 29.371499
A7: Graddagar per år | M7: 42147 | N7: 11.4 | P7: 38413 | Q7: -14.9 | R7: =IF(Q7>B$5,0,B$5-Q7) -> 30.271499
A8: Antal graddagar per år | B8: =R4265/S3*365 -> 3136.3359 | C8: dagar | D8: Uppsala | M8: 42148 | N8: 11.7 | P8: 38414 | Q8: -9.5 | R8: =IF(Q8>B$5,0,B$5-Q8) -> 24.871499
A9: Gradtimmar | B9: =B8*24 -> 75272.061 | C9: timmar | M9: 42149 | N9: 13 | P9: 38415 | Q9: -6.6 | R9: =IF(Q9>B$5,0,B$5-Q9) -> 21.971499
M10: 42150 | N10: 12.7 | P10: 38416 | Q10: -8.7 | R10: =IF(Q10>B$5,0,B$5-Q10) -> 24.071499
M11: 42151 | N11: 10.8 | P11: 38417 | Q11: -8.9 | R11: =IF(Q11>B$5,0,B$5-Q11) -> 24.271499
M12: 42152 | N12: 11.2 | P12: 38418 | Q12: 0.3 | R12: =IF(Q12>B$5,0,B$5-Q12) -> 15.071499
M13: 42153 | N13: 11.8 | P13: 38419 | Q13: -1.1 | R13: =IF(Q13>B$5,0,B$5-Q13) -> 16.471499
M14: 42154 | N14: 9.5 | P14: 38420 | Q14: -4.8 | R14: =IF(Q14>B$5,0,B$5-Q14) -> 20.171499
M15: 42155 | N15: 10.2 | P15: 38421 | Q15: -0.9 | R15: =IF(Q15>B$5,0,B$5-Q15) -> 16.271499
M16: 42156 | N16: 10.6 | P16: 38422 | Q16: -0.3 | R16: =IF(Q16>B$5,0,B$5-Q16) -> 15.671499
M17: 42157 | N17: 10.5 | P17: 38423 | Q17: -6.4 | R17: =IF(Q17>B$5,0,B$5-Q17) -> 21.771499
M18: 42158 | N18: 11.7 | P18: 38424 | Q18: -7.8 | R18: =IF(Q18>B$5,0,B$5-Q18) -> 23.171499
M19: 42159 | N19: 6.5 | P19: 38425 | Q19: -7.7 | R19: =IF(Q19>B$5,0,B$5-Q19) -> 23.071499
M20: 42160 | N20: 14.7 | P20: 38426 | Q20: -9.4 | R20: =IF(Q20>B$5,0,B$5-Q20) -> 24.771499
M21: 42161 | N21: 13.9 | P21: 38427 | Q21: -1.9 | R21: =IF(Q21>B$5,0,B$5-Q21) -> 17.271499
... M530: 42670 | N530: 7.4 | P530: 38936 | Q530: 22.3 | R530: =IF(Q530>B$5,0,B$5-Q530) -> 0
P531: 38937 | Q531: 20.8 | R531: =IF(Q531>B$5,0,B$5-Q531) -> 0
P532: 38938 | Q532: 19.4 | R532: =IF(Q532>B$5,0,B$5-Q532) -> 0
P533: 38939 | Q533: 18.8 | R533: =IF(Q533>B$5,0,B$5-Q533) -> 0
P534: 38940 | Q534: 17 | R534: =IF(Q534>B$5,0,B$5-Q534) -> 0
P535: 38941 | Q535: 19.6 | R535: =IF(Q535>B$5,0,B$5-Q535) -> 0
P536: 38942 | Q536: 19 | R536: =IF(Q536>B$5,0,B$5-Q536) -> 0
P537: 38943 | Q537: 18.9 | R537: =IF(Q537>B$5,0,B$5-Q537) -> 0
P538: 38944 | Q538: 16.7 | R538: =IF(Q538>B$5,0,B$5-Q538) -> 0
P539: 38945 | Q539: 16.6 | R539: =IF(Q539>B$5,0,B$5-Q539) -> 0
P540: 38946 | Q540: 17 | R540: =IF(Q540>B$5,0,B$5-Q540) -> 0
P541: 38947 | Q541: 18.4 | R541: =IF(Q541>B$5,0,B$5-Q541) -> 0
P542: 38948 | Q542: 18.7 | R542: =IF(Q542>B$5,0,B$5-Q542) -> 0
... P4264: 42670 | Q4264: 8.1 | R4264: =IF(Q4264>B$5,0,B$5-Q4264) -> 7.2714994
Q4265: Summa: | R4265: =SUM(R3:R4264) -> 36613.499

Sheet Tidskonstant
A1: Värmekapacitet
A2: Betong: | B2: =120*0.1*2300*800 -> 22080000 | C2: J/K
A3: Gips yttervägg: | B3: ='Yt och förlustberäkningar'!B22*0.013*900*1100 -> 2107233.4 | C3: J/K
A4: Gips innerväggar: | B4: =B3*2 -> 4214466.8 | C4: J/K | D4: Inkl. mellanbjälklag
A5: OSB totalt: | B5: =(B4+B3)*0.012/0.013*1600/1100*410/625*0.8 -> 4454438 | C5: J/K
A6: Golv: | B6: =185*0.014*450*1600 -> 1864800 | C6: J/K
A8: Totalt: | B8: =SUM(B2:B6) -> 34720938 | C8: J/K
A10: Tidskonstant
A11: Effektbehov transmission | B11: ='Yt och förlustberäkningar'!B38 -> 104.29065 | C11: W/K
A12: Tidskonstant | B12: =B8/(B11*3600*24) -> 3.8532956 | C12: dygn
