Workbook

Sheet Sammanställning
B1: Degree Minutes | C1: BT7 | D1: BT6 | E1: Calc. Supply | F1: BT2 | G1: EB100-EP14-BT3 | I1: Relays PCA-Base | J1: EB100-EP14-BT12 | K1: EB100-EP14-BT14 | L1: EB100-EP14-BT17 | M1: BT50 | N1: EB100-EP14-BT10 | O1: EB100-EP14-BT11 | Q1: BT1 | R1: BT1 Average
A2: Datum & tid | B2: Gradminuter | C2: VV topp | D2: VV laddning | E2: Börvärde | F2: VB framledn | G2: VB returtemp | H2: VB diff | I2: Kompressor | J2: Kondensor fram | K2: Hetgas | L2: Suggas | M2: Rumsgivare | N2: Köldbärare in | O2: Köldbärare ut | P2: KB diff | Q2: Utegivare | R2: Ute medel
A3: =+Loggdata!A3+Loggdata!B3 -> 42380.187 | B3: =+Loggdata!S3/Loggdata!S$1 -> -5.5 | C3: =+Loggdata!I3/Loggdata!I$1 -> 49.1 | D3: =+Loggdata!H3/Loggdata!H$1 -> 47.9 | E3: =+Loggdata!R3/Loggdata!R$1 -> 41 | F3: =+Loggdata!F3/Loggdata!F$1 -> 35.4 | G3: =+Loggdata!G3/Loggdata!G$1 -> 34.8 | H3: =+F3-G3 -> 0.6 | I3: =IF(Loggdata!U3=15,"Varmvatten",IF(Loggdata!U3=7,"Värme",IF(Loggdata!U3=2,"Av","Okänt"))) -> Av | J3: =+Loggdata!L3/Loggdata!L$1 -> 35.1 | K3: =+Loggdata!M3/Loggdata!M$1 -> 42.9 | L3: =+Loggdata!N3/Loggdata!N$1 -> 20.7 | M3: =+Loggdata!O3/Loggdata!O$1 -> 21.8 | N3: =+Loggdata!J3/Loggdata!J$1 -> 2.6 | O3: =+Loggdata!K3/Loggdata!K$1 -> 2.9 | P3: =+N3-O3 -> -0.3 | Q3: =+Loggdata!E3/Loggdata!E$1 -> -10.4 | R3: =+Loggdata!T3/Loggdata!T$1 -> -10.5
A4: =+Loggdata!A4+Loggdata!B4 -> 42380.188 | B4: =+Loggdata!S4/Loggdata!S$1 -> -11.2 | C4: =+Loggdata!I4/Loggdata!I$1 -> 49.1 | D4: =+Loggdata!H4/Loggdata!H$1 -> 47.9 | E4: =+Loggdata!R4/Loggdata!R$1 -> 40.9 | F4: =+Loggdata!F4/Loggdata!F$1 -> 35.1 | G4: =+Loggdata!G4/Loggdata!G$1 -> 34.6 | H4: =+F4-G4 -> 0.5 | I4: =IF(Loggdata!U4=15,"Varmvatten",IF(Loggdata!U4=7,"Värme",IF(Loggdata!U4=2,"Av","Okänt"))) -> Okänt | J4: =+Loggdata!L4/Loggdata!L$1 -> 34.9 | K4: =+Loggdata!M4/Loggdata!M$1 -> 41.4 | L4: =+Loggdata!N4/Loggdata!N$1 -> 22 | M4: =+Loggdata!O4/Loggdata!O$1 -> 21.8 | N4: =+Loggdata!J4/Loggdata!J$1 -> 1.9 | O4: =+Loggdata!K4/Loggdata!K$1 -> 2.6 | P4: =+N4-O4 -> -0.7 | Q4: =+Loggdata!E4/Loggdata!E$1 -> -10.4 | R4: =+Loggdata!T4/Loggdata!T$1 -> -10.4
A5: =+Loggdata!A5+Loggdata!B5 -> 42380.188 | B5: =+Loggdata!S5/Loggdata!S$1 -> -17.1 | C5: =+Loggdata!I5/Loggdata!I$1 -> 49.1 | D5: =+Loggdata!H5/Loggdata!H$1 -> 47.9 | E5: =+Loggdata!R5/Loggdata!R$1 -> 40.9 | F5: =+Loggdata!F5/Loggdata!F$1 -> 34.8 | G5: =+Loggdata!G5/Loggdata!G$1 -> 34.3 | H5: =+F5-G5 -> 0.5 | I5: =IF(Loggdata!U5=15,"Varmvatten",IF(Loggdata!U5=7,"Värme",IF(Loggdata!U5=2,"Av","Okänt"))) -> Okänt | J5: =+Loggdata!L5/Loggdata!L$1 -> 34.6 | K5: =+Loggdata!M5/Loggdata!M$1 -> 40.1 | L5: =+Loggdata!N5/Loggdata!N$1 -> 23 | M5: =+Loggdata!O5/Loggdata!O$1 -> 21.8 | N5: =+Loggdata!J5/Loggdata!J$1 -> 1.9 | O5: =+Loggdata!K5/Loggdata!K$1 -> 2.4 | P5: =+N5-O5 -> -0.5 | Q5: =+Loggdata!E5/Loggdata!E$1 -> -10.4 | R5: =+Loggdata!T5/Loggdata!T$1 -> -10.4
A6: =+Loggdata!A6+Loggdata!B6 -> 42380.189 | B6: =+Loggdata!S6/Loggdata!S$1 -> -23.3 | C6: =+Loggdata!I6/Loggdata!I$1 -> 49.1 | D6: =+Loggdata!H6/Loggdata!H$1 -> 47.9 | E6: =+Loggdata!R6/Loggdata!R$1 -> 40.9 | F6: =+Loggdata!F6/Loggdata!F$1 -> 34.5 | G6: =+Loggdata!G6/Loggdata!G$1 -> 34 | H6: =+F6-G6 -> 0.5 | I6: =IF(Loggdata!U6=15,"Varmvatten",IF(Loggdata!U6=7,"Värme",IF(Loggdata!U6=2,"Av","Okänt"))) -> Okänt | J6: =+Loggdata!L6/Loggdata!L$1 -> 34.3 | K6: =+Loggdata!M6/Loggdata!M$1 -> 39 | L6: =+Loggdata!N6/Loggdata!N$1 -> 23.8 | M6: =+Loggdata!O6/Loggdata!O$1 -> 21.8 | N6: =+Loggdata!J6/Loggdata!J$1 -> 1.9 | O6: =+Loggdata!K6/Loggdata!K$1 -> 2.4 | P6: =+N6-O6 -> -0.5 | Q6: =+Loggdata!E6/Loggdata!E$1 -> -10.4 | R6: =+Loggdata!T6/Loggdata!T$1 -> -10.4
A7: =+Loggdata!A7+Loggdata!B7 -> 42380.19 | B7: =+Loggdata!S7/Loggdata!S$1 -> -29.8 | C7: =+Loggdata!I7/Loggdata!I$1 -> 49.1 | D7: =+Loggdata!H7/Loggdata!H$1 -> 47.9 | E7: =+Loggdata!R7/Loggdata!R$1 -> 40.9 | F7: =+Loggdata!F7/Loggdata!F$1 -> 34.3 | G7: =+Loggdata!G7/Loggdata!G$1 -> 33.7 | H7: =+F7-G7 -> 0.6 | I7: =IF(Loggdata!U7=15,"Varmvatten",IF(Loggdata!U7=7,"Värme",IF(Loggdata!U7=2,"Av","Okänt"))) -> Okänt | J7: =+Loggdata!L7/Loggdata!L$1 -> 34 | K7: =+Loggdata!M7/Loggdata!M$1 -> 38.3 | L7: =+Loggdata!N7/Loggdata!N$1 -> 24.6 | M7: =+Loggdata!O7/Loggdata!O$1 -> 21.8 | N7: =+Loggdata!J7/Loggdata!J$1 -> 1.9 | O7: =+Loggdata!K7/Loggdata!K$1 -> 2.4 | P7: =+N7-O7 -> -0.5 | Q7: =+Loggdata!E7/Loggdata!E$1 -> -10.4 | R7: =+Loggdata!T7/Loggdata!T$1 -> -10.4
A8: =+Loggdata!A8+Loggdata!B8 -> 42380.19 | B8: =+Loggdata!S8/Loggdata!S$1 -> -36.6 | C8: =+Loggdata!I8/Loggdata!I$1 -> 49.1 | D8: =+Loggdata!H8/Loggdata!H$1 -> 47.9 | E8: =+Loggdata!R8/Loggdata!R$1 -> 40.9 | F8: =+Loggdata!F8/Loggdata!F$1 -> 34 | G8: =+Loggdata!G8/Loggdata!G$1 -> 33.4 | H8: =+F8-G8 -> 0.6 | I8: =IF(Loggdata!U8=15,"Varmvatten",IF(Loggdata!U8=7,"Värme",IF(Loggdata!U8=2,"Av","Okänt"))) -> Okänt | J8: =+Loggdata!L8/Loggdata!L$1 -> 33.7 | K8: =+Loggdata!M8/Loggdata!M$1 -> 37.6 | L8: =+Loggdata!N8/Loggdata!N$1 -> 25.1 | M8: =+Loggdata!O8/Loggdata!O$1 -> 21.8 | N8: =+Loggdata!J8/Loggdata!J$1 -> 1.8 | O8: =+Loggdata!K8/Loggdata!K$1 -> 2.3 | P8: =+N8-O8 -> -0.5 | Q8: =+Loggdata!E8/Loggdata!E$1 -> -10.5 | R8: =+Loggdata!T8/Loggdata!T$1 -> -10.4
A9: =+Loggdata!A9+Loggdata!B9 -> 42380.191 | B9: =+Loggdata!S9/Loggdata!S$1 -> -43.7 | C9: =+Loggdata!I9/Loggdata!I$1 -> 49.1 | D9: =+Loggdata!H9/Loggdata!H$1 -> 47.9 | E9: =+Loggdata!R9/Loggdata!R$1 -> 40.9 | F9: =+Loggdata!F9/Loggdata!F$1 -> 33.7 | G9: =+Loggdata!G9/Loggdata!G$1 -> 33.1 | H9: =+F9-G9 -> 0.6 | I9: =IF(Loggdata!U9=15,"Varmvatten",IF(Loggdata!U9=7,"Värme",IF(Loggdata!U9=2,"Av","Okänt"))) -> Okänt | J9: =+Loggdata!L9/Loggdata!L$1 -> 33.4 | K9: =+Loggdata!M9/Loggdata!M$1 -> 36.9 | L9: =+Loggdata!N9/Loggdata!N$1 -> 25.6 | M9: =+Loggdata!O9/Loggdata!O$1 -> 21.8 | N9: =+Loggdata!J9/Loggdata!J$1 -> 1.8 | O9: =+Loggdata!K9/Loggdata!K$1 -> 2.2 | P9: =+N9-O9 -> -0.4 | Q9: =+Loggdata!E9/Loggdata!E$1 -> -10.4 | R9: =+Loggdata!T9/Loggdata!T$1 -> -10.4
A10: =+Loggdata!A10+Loggdata!B10 -> 42380.192 | B10: =+Loggdata!S10/Loggdata!S$1 -> -51.1 | C10: =+Loggdata!I10/Loggdata!I$1 -> 49.1 | D10: =+Loggdata!H10/Loggdata!H$1 -> 47.9 | E10: =+Loggdata!R10/Loggdata!R$1 -> 40.9 | F10: =+Loggdata!F10/Loggdata!F$1 -> 33.3 | G10: =+Loggdata!G10/Loggdata!G$1 -> 32.9 | H10: =+F10-G10 -> 0.4 | I10: =IF(Loggdata!U10=15,"Varmvatten",IF(Loggdata!U10=7,"Värme",IF(Loggdata!U10=2,"Av","Okänt"))) -> Av | J10: =+Loggdata!L10/Loggdata!L$1 -> 33.1 | K10: =+Loggdata!M10/Loggdata!M$1 -> 36.4 | L10: =+Loggdata!N10/Loggdata!N$1 -> 26 | M10: =+Loggdata!O10/Loggdata!O$1 -> 21.8 | N10: =+Loggdata!J10/Loggdata!J$1 -> 2.1 | O10: =+Loggdata!K10/Loggdata!K$1 -> 2.4 | P10: =+N10-O10 -> -0.3 | Q10: =+Loggdata!E10/Loggdata!E$1 -> -10.4 | R10: =+Loggdata!T10/Loggdata!T$1 -> -10.4
A11: =+Loggdata!A11+Loggdata!B11 -> 42380.193 | B11: =+Loggdata!S11/Loggdata!S$1 -> -58.8 | C11: =+Loggdata!I11/Loggdata!I$1 -> 49 | D11: =+Loggdata!H11/Loggdata!H$1 -> 47.9 | E11: =+Loggdata!R11/Loggdata!R$1 -> 40.9 | F11: =+Loggdata!F11/Loggdata!F$1 -> 33.1 | G11: =+Loggdata!G11/Loggdata!G$1 -> 32.7 | H11: =+F11-G11 -> 0.4 | I11: =IF(Loggdata!U11=15,"Varmvatten",IF(Loggdata!U11=7,"Värme",IF(Loggdata!U11=2,"Av","Okänt"))) -> Av | J11: =+Loggdata!L11/Loggdata!L$1 -> 32.9 | K11: =+Loggdata!M11/Loggdata!M$1 -> 36 | L11: =+Loggdata!N11/Loggdata!N$1 -> 26.2 | M11: =+Loggdata!O11/Loggdata!O$1 -> 21.8 | N11: =+Loggdata!J11/Loggdata!J$1 -> 2.6 | O11: =+Loggdata!K11/Loggdata!K$1 -> 2.4 | P11: =+N11-O11 -> 0.2 | Q11: =+Loggdata!E11/Loggdata!E$1 -> -10.5 | R11: =+Loggdata!T11/Loggdata!T$1 -> -10.4
A12: =+Loggdata!A12+Loggdata!B12 -> 42380.193 | B12: =+Loggdata!S12/Loggdata!S$1 -> -66.7 | C12: =+Loggdata!I12/Loggdata!I$1 -> 49 | D12: =+Loggdata!H12/Loggdata!H$1 -> 47.9 | E12: =+Loggdata!R12/Loggdata!R$1 -> 40.9 | F12: =+Loggdata!F12/Loggdata!F$1 -> 32.9 | G12: =+Loggdata!G12/Loggdata!G$1 -> 32.5 | H12: =+F12-G12 -> 0.4 | I12: =IF(Loggdata!U12=15,"Varmvatten",IF(Loggdata!U12=7,"Värme",IF(Loggdata!U12=2,"Av","Okänt"))) -> Värme | J12: =+Loggdata!L12/Loggdata!L$1 -> 32.7 | K12: =+Loggdata!M12/Loggdata!M$1 -> 35.7 | L12: =+Loggdata!N12/Loggdata!N$1 -> 26.5 | M12: =+Loggdata!O12/Loggdata!O$1 -> 21.8 | N12: =+Loggdata!J12/Loggdata!J$1 -> 2.3 | O12: =+Loggdata!K12/Loggdata!K$1 -> 2.5 | P12: =+N12-O12 -> -0.2 | Q12: =+Loggdata!E12/Loggdata!E$1 -> -10.4 | R12: =+Loggdata!T12/Loggdata!T$1 -> -10.4
A13: =+Loggdata!A13+Loggdata!B13 -> 42380.194 | B13: =+Loggdata!S13/Loggdata!S$1 -> -73.8 | C13: =+Loggdata!I13/Loggdata!I$1 -> 49 | D13: =+Loggdata!H13/Loggdata!H$1 -> 47.9 | E13: =+Loggdata!R13/Loggdata!R$1 -> 40.9 | F13: =+Loggdata!F13/Loggdata!F$1 -> 37.1 | G13: =+Loggdata!G13/Loggdata!G$1 -> 32.2 | H13: =+F13-G13 -> 4.9 | I13: =IF(Loggdata!U13=15,"Varmvatten",IF(Loggdata!U13=7,"Värme",IF(Loggdata!U13=2,"Av","Okänt"))) -> Värme | J13: =+Loggdata!L13/Loggdata!L$1 -> 39.1 | K13: =+Loggdata!M13/Loggdata!M$1 -> 52.8 | L13: =+Loggdata!N13/Loggdata!N$1 -> 0.8 | M13: =+Loggdata!O13/Loggdata!O$1 -> 21.7 | N13: =+Loggdata!J13/Loggdata!J$1 -> 1.6 | O13: =+Loggdata!K13/Loggdata!K$1 -> 1.2 | P13: =+N13-O13 -> 0.4 | Q13: =+Loggdata!E13/Loggdata!E$1 -> -10.4 | R13: =+Loggdata!T13/Loggdata!T$1 -> -10.4
A14: =+Loggdata!A14+Loggdata!B14 -> 42380.195 | B14: =+Loggdata!S14/Loggdata!S$1 -> -75.2 | C14: =+Loggdata!I14/Loggdata!I$1 -> 49 | D14: =+Loggdata!H14/Loggdata!H$1 -> 47.9 | E14: =+Loggdata!R14/Loggdata!R$1 -> 40.9 | F14: =+Loggdata!F14/Loggdata!F$1 -> 40.1 | G14: =+Loggdata!G14/Loggdata!G$1 -> 32.3 | H14: =+F14-G14 -> 7.8 | I14: =IF(Loggdata!U14=15,"Varmvatten",IF(Loggdata!U14=7,"Värme",IF(Loggdata!U14=2,"Av","Okänt"))) -> Värme | J14: =+Loggdata!L14/Loggdata!L$1 -> 40.4 | K14: =+Loggdata!M14/Loggdata!M$1 -> 57.8 | L14: =+Loggdata!N14/Loggdata!N$1 -> 2.4 | M14: =+Loggdata!O14/Loggdata!O$1 -> 21.7 | N14: =+Loggdata!J14/Loggdata!J$1 -> 1.6 | O14: =+Loggdata!K14/Loggdata!K$1 -> -0.3 | P14: =+N14-O14 -> 1.9 | Q14: =+Loggdata!E14/Loggdata!E$1 -> -10.4 | R14: =+Loggdata!T14/Loggdata!T$1 -> -10.4
... A1441: =+Loggdata!A1441+Loggdata!B1441 -> 42381.186 | B1441: =+Loggdata!S1441/Loggdata!S$1 -> -64.2 | C1441: =+Loggdata!I1441/Loggdata!I$1 -> 49 | D1441: =+Loggdata!H1441/Loggdata!H$1 -> 48 | E1441: =+Loggdata!R1441/Loggdata!R$1 -> 40.6 | F1441: =+Loggdata!F1441/Loggdata!F$1 -> 43.3 | G1441: =+Loggdata!G1441/Loggdata!G$1 -> 36.3 | H1441: =+F1441-G1441 -> 7 | I1441: =IF(Loggdata!U1441=15,"Varmvatten",IF(Loggdata!U1441=7,"Värme",IF(Loggdata!U1441=2,"Av","Okänt"))) -> Värme | J1441: =+Loggdata!L1441/Loggdata!L$1 -> 43.4 | K1441: =+Loggdata!M1441/Loggdata!M$1 -> 69.8 | L1441: =+Loggdata!N1441/Loggdata!N$1 -> 4.6 | M1441: =+Loggdata!O1441/Loggdata!O$1 -> 21.7 | N1441: =+Loggdata!J1441/Loggdata!J$1 -> 2.1 | O1441: =+Loggdata!K1441/Loggdata!K$1 -> -1.4 | P1441: =+N1441-O1441 -> 3.5 | Q1441: =+Loggdata!E1441/Loggdata!E$1 -> -10.1 | R1441: =+Loggdata!T1441/Loggdata!T$1 -> -10.4

Sheet Diagram

Sheet Loggdata
A1: Divisors | C1: 1 | D1: 1 | E1: 10 | F1: 10 | G1: 10 | H1: 10 | I1: 10 | J1: 10 | K1: 10 | L1: 10 | M1: 10 | N1: 10 | O1: 10 | P1: 100 | Q1: 1 | R1: 10 | S1: 10 | T1: 10 | U1: 1 | V1: 1
A2: Date | B2: Time | C2: version | D2: R-version | E2: BT1 | F2: BT2 | G2: EB100-EP14-BT3 | H2: BT6 | I2: BT7 | J2: EB100-EP14-BT10 | K2: EB100-EP14-BT11 | L2: EB100-EP14-BT12 | M2: EB100-EP14-BT14 | N2: EB100-EP14-BT17 | O2: BT50 | P2: Tot.Int.Add | Q2: Alarm number | R2: Calc. Supply | S2: Degree Minutes | T2: BT1 Average | U2: Relays PCA-Base | V2: Prio
A3: 42380 | B3: 0.18702546 | C3: 6629 | D3: 3 | E3: -104 | F3: 354 | G3: 348 | H3: 479 | I3: 491 | J3: 26 | K3: 29 | L3: 351 | M3: 429 | N3: 207 | O3: 218 | P3: 0 | Q3: 0 | R3: 410 | S3: -55 | T3: -105 | U3: 2 | V3: 10
A4: 42380 | B4: 0.18771991 | C4: 6629 | D4: 3 | E4: -104 | F4: 351 | G4: 346 | H4: 479 | I4: 491 | J4: 19 | K4: 26 | L4: 349 | M4: 414 | N4: 220 | O4: 218 | P4: 0 | Q4: 0 | R4: 409 | S4: -112 | T4: -104 | U4: 6 | V4: 10
A5: 42380 | B5: 0.18841435 | C5: 6629 | D5: 3 | E5: -104 | F5: 348 | G5: 343 | H5: 479 | I5: 491 | J5: 19 | K5: 24 | L5: 346 | M5: 401 | N5: 230 | O5: 218 | P5: 0 | Q5: 0 | R5: 409 | S5: -171 | T5: -104 | U5: 6 | V5: 10
A6: 42380 | B6: 0.1891088 | C6: 6629 | D6: 3 | E6: -104 | F6: 345 | G6: 340 | H6: 479 | I6: 491 | J6: 19 | K6: 24 | L6: 343 | M6: 390 | N6: 238 | O6: 218 | P6: 0 | Q6: 0 | R6: 409 | S6: -233 | T6: -104 | U6: 6 | V6: 10
A7: 42380 | B7: 0.18980324 | C7: 6629 | D7: 3 | E7: -104 | F7: 343 | G7: 337 | H7: 479 | I7: 491 | J7: 19 | K7: 24 | L7: 340 | M7: 383 | N7: 246 | O7: 218 | P7: 0 | Q7: 0 | R7: 409 | S7: -298 | T7: -104 | U7: 6 | V7: 10
A8: 42380 | B8: 0.19049769 | C8: 6629 | D8: 3 | E8: -105 | F8: 340 | G8: 334 | H8: 479 | I8: 491 | J8: 18 | K8: 23 | L8: 337 | M8: 376 | N8: 251 | O8: 218 | P8: 0 | Q8: 0 | R8: 409 | S8: -366 | T8: -104 | U8: 6 | V8: 10
A9: 42380 | B9: 0.19119213 | C9: 6629 | D9: 3 | E9: -104 | F9: 337 | G9: 331 | H9: 479 | I9: 491 | J9: 18 | K9: 22 | L9: 334 | M9: 369 | N9: 256 | O9: 218 | P9: 0 | Q9: 0 | R9: 409 | S9: -437 | T9: -104 | U9: 6 | V9: 10
A10: 42380 | B10: 0.19188657 | C10: 6629 | D10: 3 | E10: -104 | F10: 333 | G10: 329 | H10: 479 | I10: 491 | J10: 21 | K10: 24 | L10: 331 | M10: 364 | N10: 260 | O10: 218 | P10: 0 | Q10: 0 | R10: 409 | S10: -511 | T10: -104 | U10: 2 | V10: 10
A11: 42380 | B11: 0.19258102 | C11: 6629 | D11: 3 | E11: -105 | F11: 331 | G11: 327 | H11: 479 | I11: 490 | J11: 26 | K11: 24 | L11: 329 | M11: 360 | N11: 262 | O11: 218 | P11: 0 | Q11: 0 | R11: 409 | S11: -588 | T11: -104 | U11: 2 | V11: 10
A12: 42380 | B12: 0.19327546 | C12: 6629 | D12: 3 | E12: -104 | F12: 329 | G12: 325 | H12: 479 | I12: 490 | J12: 23 | K12: 25 | L12: 327 | M12: 357 | N12: 265 | O12: 218 | P12: 0 | Q12: 0 | R12: 409 | S12: -667 | T12: -104 | U12: 7 | V12: 30
A13: 42380 | B13: 0.19396991 | C13: 6629 | D13: 3 | E13: -104 | F13: 371 | G13: 322 | H13: 479 | I13: 490 | J13: 16 | K13: 12 | L13: 391 | M13: 528 | N13: 8 | O13: 217 | P13: 0 | Q13: 0 | R13: 409 | S13: -738 | T13: -104 | U13: 7 | V13: 30
A14: 42380 | B14: 0.19466435 | C14: 6629 | D14: 3 | E14: -104 | F14: 401 | G14: 323 | H14: 479 | I14: 490 | J14: 16 | K14: -3 | L14: 404 | M14: 578 | N14: 24 | O14: 217 | P14: 0 | Q14: 0 | R14: 409 | S14: -752 | T14: -104 | U14: 7 | V14: 30
... A1441: 42381 | B1441: 0.18597222 | C1441: 6629 | D1441: 3 | E1441: -101 | F1441: 433 | G1441: 363 | H1441: 480 | I1441: 490 | J1441: 21 | K1441: -14 | L1441: 434 | M1441: 698 | N1441: 46 | O1441: 217 | P1441: 0 | Q1441: 0 | R1441: 406 | S1441: -642 | T1441: -104 | U1441: 7 | V1441: 30

Sheet Blad1
