Workbook
Name _151227_3: Data!$A$1:$W$1439

Sheet Värmepump
A1: Datum | B1: Utegivare | C1: Utegivare medel | D1: Värme (fram) | E1: Värme (retur) | F1: Diff | G1: Köldbärare (in) | H1: Köldbärare (ut) | I1: Diff | J1: Varmvattenladdning
A2: =Data!A3+Data!B3 -> 42365.6 | B2: =Data!E3/10 -> -0.7 | C2: =Data!S3/10 -> -0.7 | D2: =Data!F3/10 -> 26.6 | E2: =Data!G3/10 -> 26.2 | F2: =D2-E2 -> 0.4 | G2: =Data!J3/10 -> 5.6 | H2: =Data!K3/10 -> 6.6 | I2: =G2-H2 -> -1 | J2: =Data!H3/10 -> 45.2
A3: =Data!A4+Data!B4 -> 42365.601 | B3: =Data!E4/10 -> -0.6 | C3: =Data!S4/10 -> -0.6 | D3: =Data!F4/10 -> 26.6 | E3: =Data!G4/10 -> 26.2 | F3: =D3-E3 -> 0.4 | G3: =Data!J4/10 -> 2.8 | H3: =Data!K4/10 -> 4.4 | I3: =G3-H3 -> -1.6 | J3: =Data!H4/10 -> 45.2
A4: =Data!A5+Data!B5 -> 42365.602 | B4: =Data!E5/10 -> -0.6 | C4: =Data!S5/10 -> -0.7 | D4: =Data!F5/10 -> 26.6 | E4: =Data!G5/10 -> 26.1 | F4: =D4-E4 -> 0.5 | G4: =Data!J5/10 -> 2.9 | H4: =Data!K5/10 -> 3.4 | I4: =G4-H4 -> -0.5 | J4: =Data!H5/10 -> 45.2
A5: =Data!A6+Data!B6 -> 42365.603 | B5: =Data!E6/10 -> -0.6 | C5: =Data!S6/10 -> -0.6 | D5: =Data!F6/10 -> 26.5 | E5: =Data!G6/10 -> 26 | F5: =D5-E5 -> 0.5 | G5: =Data!J6/10 -> 2.9 | H5: =Data!K6/10 -> 3.2 | I5: =G5-H5 -> -0.3 | J5: =Data!H6/10 -> 45.2
A6: =Data!A7+Data!B7 -> 42365.603 | B6: =Data!E7/10 -> -0.6 | C6: =Data!S7/10 -> -0.7 | D6: =Data!F7/10 -> 26.4 | E6: =Data!G7/10 -> 25.9 | F6: =D6-E6 -> 0.5 | G6: =Data!J7/10 -> 2.7 | H6: =Data!K7/10 -> 3.2 | I6: =G6-H6 -> -0.5 | J6: =Data!H7/10 -> 45.2
A7: =Data!A8+Data!B8 -> 42365.604 | B7: =Data!E8/10 -> -0.6 | C7: =Data!S8/10 -> -0.6 | D7: =Data!F8/10 -> 26.3 | E7: =Data!G8/10 -> 25.9 | F7: =D7-E7 -> 0.4 | G7: =Data!J8/10 -> 2.7 | H7: =Data!K8/10 -> 3 | I7: =G7-H7 -> -0.3 | J7: =Data!H8/10 -> 45.1
A8: =Data!A9+Data!B9 -> 42365.605 | B8: =Data!E9/10 -> -0.6 | C8: =Data!S9/10 -> -0.6 | D8: =Data!F9/10 -> 26.3 | E8: =Data!G9/10 -> 25.8 | F8: =D8-E8 -> 0.5 | G8: =Data!J9/10 -> 2.8 | H8: =Data!K9/10 -> 2.9 | I8: =G8-H8 -> -0.1 | J8: =Data!H9/10 -> 45.1
A9: =Data!A10+Data!B10 -> 42365.605 | B9: =Data!E10/10 -> -0.6 | C9: =Data!S10/10 -> -0.6 | D9: =Data!F10/10 -> 26.2 | E9: =Data!G10/10 -> 25.8 | F9: =D9-E9 -> 0.4 | G9: =Data!J10/10 -> 3.3 | H9: =Data!K10/10 -> 3.1 | I9: =G9-H9 -> 0.2 | J9: =Data!H10/10 -> 45
A10: =Data!A11+Data!B11 -> 42365.606 | B10: =Data!E11/10 -> -0.6 | C10: =Data!S11/10 -> -0.6 | D10: =Data!F11/10 -> 26.2 | E10: =Data!G11/10 -> 25.8 | F10: =D10-E10 -> 0.4 | G10: =Data!J11/10 -> 3.5 | H10: =Data!K11/10 -> 3.5 | I10: =G10-H10 -> 0 | J10: =Data!H11/10 -> 44.9
A11: =Data!A12+Data!B12 -> 42365.607 | B11: =Data!E12/10 -> -0.6 | C11: =Data!S12/10 -> -0.6 | D11: =Data!F12/10 -> 26.1 | E11: =Data!G12/10 -> 25.7 | F11: =D11-E11 -> 0.4 | G11: =Data!J12/10 -> 3.8 | H11: =Data!K12/10 -> 3.6 | I11: =G11-H11 -> 0.2 | J11: =Data!H12/10 -> 44.9
A12: =Data!A13+Data!B13 -> 42365.607 | B12: =Data!E13/10 -> -0.6 | C12: =Data!S13/10 -> -0.6 | D12: =Data!F13/10 -> 26.1 | E12: =Data!G13/10 -> 25.7 | F12: =D12-E12 -> 0.4 | G12: =Data!J13/10 -> 4 | H12: =Data!K13/10 -> 4 | I12: =G12-H12 -> 0 | J12: =Data!H13/10 -> 44.8
A13: =Data!A14+Data!B14 -> 42365.608 | B13: =Data!E14/10 -> -0.5 | C13: =Data!S14/10 -> -0.6 | D13: =Data!F14/10 -> 26 | E13: =Data!G14/10 -> 25.6 | F13: =D13-E13 -> 0.4 | G13: =Data!J14/10 -> 4.2 | H13: =Data!K14/10 -> 4 | I13: =G13-H13 -> 0.2 | J13: =Data!H14/10 -> 44.8
... A1438: =Data!A1439+Data!B1439 -> 42366.597 | B1438: =Data!E1439/10 -> 1.4 | C1438: =Data!S1439/10 -> 0.4 | D1438: =Data!F1439/10 -> 46.3 | E1438: =Data!G1439/10 -> 45.8 | F1438: =D1438-E1438 -> 0.5 | G1438: =Data!J1439/10 -> 3.6 | H1438: =Data!K1439/10 -> 0.8 | I1438: =G1438-H1438 -> 2.8 | J1438: =Data!H1439/10 -> 41.6

Sheet Diagram

Sheet Data
A1: Divisors | C1: 1 | D1: 1 | E1: 10 | F1: 10 | G1: 10 | H1: 10 | I1: 10 | J1: 10 | K1: 10 | L1: 10 | M1: 10 | N1: 10 | O1: 100 | P1: 1 | Q1: 10 | R1: 10 | S1: 10 | T1: 1 | U1: 1 | V1: 10 | W1: 10
A2: Date | B2: Time | C2: version | D2: R-version | E2: BT1 | F2: BT2 | G2: EB100-EP14-BT3 | H2: BT6 | I2: BT7 | J2: EB100-EP14-BT10 | K2: EB100-EP14-BT11 | L2: EB100-EP14-BT12 | M2: EB100-EP14-BT14 | N2: EB100-EP14-BT17 | O2: Tot.Int.Add | P2: Alarm number | Q2: Calc. Supply | R2: Degree Minutes | S2: BT1 Average | T2: Relays PCA-Base | U2: Prio | V2: AZ1-BT20 | W2: AZ1-BT21
A3: 42365 | B3: 0.60049769 | C3: 7113 | D3: 3 | E3: -7 | F3: 266 | G3: 262 | H3: 452 | I3: 496 | J3: 56 | K3: 66 | L3: 265 | M3: 440 | N3: 310 | O3: 0 | P3: 0 | Q3: 300 | R3: -34 | S3: -7 | T3: 6 | U3: 10 | V3: 208 | W3: 197
A4: 42365 | B4: 0.60119213 | C4: 7113 | D4: 3 | E4: -6 | F4: 266 | G4: 262 | H4: 452 | I4: 496 | J4: 28 | K4: 44 | L4: 264 | M4: 434 | N4: 319 | O4: 0 | P4: 0 | Q4: 300 | R4: -68 | S4: -6 | T4: 6 | U4: 10 | V4: 207 | W4: 190
A5: 42365 | B5: 0.60188657 | C5: 7113 | D5: 3 | E5: -6 | F5: 266 | G5: 261 | H5: 452 | I5: 495 | J5: 29 | K5: 34 | L5: 263 | M5: 427 | N5: 320 | O5: 0 | P5: 0 | Q5: 300 | R5: -102 | S5: -7 | T5: 6 | U5: 10 | V5: 207 | W5: 177
A6: 42365 | B6: 0.60256944 | C6: 7113 | D6: 3 | E6: -6 | F6: 265 | G6: 260 | H6: 452 | I6: 495 | J6: 29 | K6: 32 | L6: 262 | M6: 421 | N6: 319 | O6: 0 | P6: 0 | Q6: 300 | R6: -137 | S6: -6 | T6: 6 | U6: 10 | V6: 207 | W6: 167
A7: 42365 | B7: 0.60326389 | C7: 7113 | D7: 3 | E7: -6 | F7: 264 | G7: 259 | H7: 452 | I7: 495 | J7: 27 | K7: 32 | L7: 262 | M7: 417 | N7: 318 | O7: 0 | P7: 0 | Q7: 300 | R7: -172 | S7: -7 | T7: 6 | U7: 10 | V7: 206 | W7: 163
A8: 42365 | B8: 0.60395833 | C8: 7113 | D8: 3 | E8: -6 | F8: 263 | G8: 259 | H8: 451 | I8: 495 | J8: 27 | K8: 30 | L8: 261 | M8: 412 | N8: 316 | O8: 0 | P8: 0 | Q8: 300 | R8: -208 | S8: -6 | T8: 6 | U8: 10 | V8: 206 | W8: 160
A9: 42365 | B9: 0.60465278 | C9: 7113 | D9: 3 | E9: -6 | F9: 263 | G9: 258 | H9: 451 | I9: 495 | J9: 28 | K9: 29 | L9: 261 | M9: 408 | N9: 314 | O9: 0 | P9: 0 | Q9: 300 | R9: -245 | S9: -6 | T9: 2 | U9: 10 | V9: 206 | W9: 158
A10: 42365 | B10: 0.60534722 | C10: 7113 | D10: 3 | E10: -6 | F10: 262 | G10: 258 | H10: 450 | I10: 494 | J10: 33 | K10: 31 | L10: 260 | M10: 404 | N10: 312 | O10: 0 | P10: 0 | Q10: 300 | R10: -282 | S10: -6 | T10: 2 | U10: 10 | V10: 206 | W10: 160
A11: 42365 | B11: 0.60604167 | C11: 7113 | D11: 3 | E11: -6 | F11: 262 | G11: 258 | H11: 449 | I11: 493 | J11: 35 | K11: 35 | L11: 260 | M11: 400 | N11: 309 | O11: 0 | P11: 0 | Q11: 300 | R11: -320 | S11: -6 | T11: 2 | U11: 10 | V11: 206 | W11: 167
A12: 42365 | B12: 0.60673611 | C12: 7113 | D12: 3 | E12: -6 | F12: 261 | G12: 257 | H12: 449 | I12: 492 | J12: 38 | K12: 36 | L12: 258 | M12: 397 | N12: 307 | O12: 0 | P12: 0 | Q12: 300 | R12: -358 | S12: -6 | T12: 2 | U12: 10 | V12: 206 | W12: 176
A13: 42365 | B13: 0.60743056 | C13: 7113 | D13: 3 | E13: -6 | F13: 261 | G13: 257 | H13: 448 | I13: 493 | J13: 40 | K13: 40 | L13: 258 | M13: 393 | N13: 305 | O13: 0 | P13: 0 | Q13: 300 | R13: -397 | S13: -6 | T13: 2 | U13: 10 | V13: 206 | W13: 183
A14: 42365 | B14: 0.608125 | C14: 7113 | D14: 3 | E14: -5 | F14: 260 | G14: 256 | H14: 448 | I14: 493 | J14: 42 | K14: 40 | L14: 258 | M14: 390 | N14: 303 | O14: 0 | P14: 0 | Q14: 300 | R14: -436 | S14: -6 | T14: 2 | U14: 10 | V14: 207 | W14: 188
... A1439: 42366 | B1439: 0.59734954 | C1439: 7113 | D1439: 3 | E1439: 14 | F1439: 463 | G1439: 458 | H1439: 416 | I1439: 490 | J1439: 36 | K1439: 8 | L1439: 490 | M1439: 761 | N1439: 62 | O1439: 0 | P1439: 0 | Q1439: 278 | R1439: 36 | S1439: 4 | T1439: 15 | U1439: 20 | V1439: 212 | W1439: 127
