Workbook

Sheet Sammanställning
B1: EB100-EP14-BT14 | C1: BT7 | D1: BT6 | E1: Calc. Supply | F1: BT2 | G1: EB100-EP14-BT3 | I1: Relays PCA-Base | J1: EB100-EP14-BT12 | K1: compr. freq. act. | L1: BT50 | M1: EB100-EP14-BT17 | N1: EB100-EP14-BT10 | O1: EB100-EP14-BT11 | Q1: BT1 | R1: Degree Minutes | S1: BT1 Average | T1: Tot.Int.Add
A2: Datum & tid | B2: Hetgas | C2: VV topp | D2: VV laddning | E2: Börvärde | F2: VB framledn | G2: VB returtemp | H2: VB diff | I2: Kompressor | J2: Kondensor fram | K2: Kompr.frekv. | L2: Rumsgivare | M2: Suggas | N2: Köldbärare in | O2: Köldbärare ut | P2: KB diff | Q2: Utegivare | R2: Gradminuter | S2: Ute medel | T2: Eltillsats kW
A3: =+Loggdata!A3+Loggdata!B3 -> 42329.859 | B3: =+Loggdata!M3/Loggdata!M$1 -> 65.8 | C3: =+Loggdata!I3/Loggdata!I$1 -> 46.4 | D3: =+Loggdata!H3/Loggdata!H$1 -> 45 | E3: =+Loggdata!R3/Loggdata!R$1 -> 37.6 | F3: =+Loggdata!F3/Loggdata!F$1 -> 37.9 | G3: =+Loggdata!G3/Loggdata!G$1 -> 33.2 | H3: =+F3-G3 -> 4.7 | I3: =IF(Loggdata!V3=15,"Varmvatten",IF(Loggdata!V3=7,"Värme",IF(Loggdata!V3=2,"Av","Okänt"))) -> Värme | J3: =+Loggdata!L3/Loggdata!L$1 -> 38 | K3: =+Loggdata!U3/Loggdata!U$1 -> 28 | L3: =+Loggdata!O3/Loggdata!O$1 -> 22.2 | M3: =+Loggdata!N3/Loggdata!N$1 -> 5.3 | N3: =+Loggdata!J3/Loggdata!J$1 -> 1.1 | O3: =+Loggdata!K3/Loggdata!K$1 -> -2.1 | P3: =+N3-O3 -> 3.2 | Q3: =+Loggdata!E3/Loggdata!E$1 -> -3 | R3: =+Loggdata!S3/Loggdata!S$1 -> -112.6 | S3: =+Loggdata!T3/Loggdata!T$1 -> -3.6 | T3: =+Loggdata!P3/Loggdata!P$1 -> 0
A4: =+Loggdata!A4+Loggdata!B4 -> 42329.859 | B4: =+Loggdata!M4/Loggdata!M$1 -> 65.7 | C4: =+Loggdata!I4/Loggdata!I$1 -> 46.5 | D4: =+Loggdata!H4/Loggdata!H$1 -> 45 | E4: =+Loggdata!R4/Loggdata!R$1 -> 37.6 | F4: =+Loggdata!F4/Loggdata!F$1 -> 37.8 | G4: =+Loggdata!G4/Loggdata!G$1 -> 33.2 | H4: =+F4-G4 -> 4.6 | I4: =IF(Loggdata!V4=15,"Varmvatten",IF(Loggdata!V4=7,"Värme",IF(Loggdata!V4=2,"Av","Okänt"))) -> Värme | J4: =+Loggdata!L4/Loggdata!L$1 -> 38.1 | K4: =+Loggdata!U4/Loggdata!U$1 -> 27.9 | L4: =+Loggdata!O4/Loggdata!O$1 -> 22.2 | M4: =+Loggdata!N4/Loggdata!N$1 -> 5.2 | N4: =+Loggdata!J4/Loggdata!J$1 -> 1.2 | O4: =+Loggdata!K4/Loggdata!K$1 -> -1.9 | P4: =+N4-O4 -> 3.1 | Q4: =+Loggdata!E4/Loggdata!E$1 -> -3 | R4: =+Loggdata!S4/Loggdata!S$1 -> -112.3 | S4: =+Loggdata!T4/Loggdata!T$1 -> -3.6 | T4: =+Loggdata!P4/Loggdata!P$1 -> 0
A5: =+Loggdata!A5+Loggdata!B5 -> 42329.86 | B5: =+Loggdata!M5/Loggdata!M$1 -> 65.8 | C5: =+Loggdata!I5/Loggdata!I$1 -> 46.4 | D5: =+Loggdata!H5/Loggdata!H$1 -> 45 | E5: =+Loggdata!R5/Loggdata!R$1 -> 37.6 | F5: =+Loggdata!F5/Loggdata!F$1 -> 37.9 | G5: =+Loggdata!G5/Loggdata!G$1 -> 33.2 | H5: =+F5-G5 -> 4.7 | I5: =IF(Loggdata!V5=15,"Varmvatten",IF(Loggdata!V5=7,"Värme",IF(Loggdata!V5=2,"Av","Okänt"))) -> Värme | J5: =+Loggdata!L5/Loggdata!L$1 -> 38.2 | K5: =+Loggdata!U5/Loggdata!U$1 -> 27.9 | L5: =+Loggdata!O5/Loggdata!O$1 -> 22.2 | M5: =+Loggdata!N5/Loggdata!N$1 -> 5 | N5: =+Loggdata!J5/Loggdata!J$1 -> 1.2 | O5: =+Loggdata!K5/Loggdata!K$1 -> -1.9 | P5: =+N5-O5 -> 3.1 | Q5: =+Loggdata!E5/Loggdata!E$1 -> -3.1 | R5: =+Loggdata!S5/Loggdata!S$1 -> -112.3 | S5: =+Loggdata!T5/Loggdata!T$1 -> -3.6 | T5: =+Loggdata!P5/Loggdata!P$1 -> 0
A6: =+Loggdata!A6+Loggdata!B6 -> 42329.86 | B6: =+Loggdata!M6/Loggdata!M$1 -> 65.8 | C6: =+Loggdata!I6/Loggdata!I$1 -> 46.4 | D6: =+Loggdata!H6/Loggdata!H$1 -> 45 | E6: =+Loggdata!R6/Loggdata!R$1 -> 37.6 | F6: =+Loggdata!F6/Loggdata!F$1 -> 37.9 | G6: =+Loggdata!G6/Loggdata!G$1 -> 33.1 | H6: =+F6-G6 -> 4.8 | I6: =IF(Loggdata!V6=15,"Varmvatten",IF(Loggdata!V6=7,"Värme",IF(Loggdata!V6=2,"Av","Okänt"))) -> Värme | J6: =+Loggdata!L6/Loggdata!L$1 -> 38.2 | K6: =+Loggdata!U6/Loggdata!U$1 -> 28 | L6: =+Loggdata!O6/Loggdata!O$1 -> 22.2 | M6: =+Loggdata!N6/Loggdata!N$1 -> 5.1 | N6: =+Loggdata!J6/Loggdata!J$1 -> 1.2 | O6: =+Loggdata!K6/Loggdata!K$1 -> -2 | P6: =+N6-O6 -> 3.2 | Q6: =+Loggdata!E6/Loggdata!E$1 -> -3 | R6: =+Loggdata!S6/Loggdata!S$1 -> -112 | S6: =+Loggdata!T6/Loggdata!T$1 -> -3.6 | T6: =+Loggdata!P6/Loggdata!P$1 -> 0
A7: =+Loggdata!A7+Loggdata!B7 -> 42329.86 | B7: =+Loggdata!M7/Loggdata!M$1 -> 65.8 | C7: =+Loggdata!I7/Loggdata!I$1 -> 46.4 | D7: =+Loggdata!H7/Loggdata!H$1 -> 45 | E7: =+Loggdata!R7/Loggdata!R$1 -> 37.6 | F7: =+Loggdata!F7/Loggdata!F$1 -> 38 | G7: =+Loggdata!G7/Loggdata!G$1 -> 33.1 | H7: =+F7-G7 -> 4.9 | I7: =IF(Loggdata!V7=15,"Varmvatten",IF(Loggdata!V7=7,"Värme",IF(Loggdata!V7=2,"Av","Okänt"))) -> Värme | J7: =+Loggdata!L7/Loggdata!L$1 -> 38.2 | K7: =+Loggdata!U7/Loggdata!U$1 -> 27.9 | L7: =+Loggdata!O7/Loggdata!O$1 -> 22.2 | M7: =+Loggdata!N7/Loggdata!N$1 -> 5.3 | N7: =+Loggdata!J7/Loggdata!J$1 -> 1.1 | O7: =+Loggdata!K7/Loggdata!K$1 -> -1.9 | P7: =+N7-O7 -> 3 | Q7: =+Loggdata!E7/Loggdata!E$1 -> -3 | R7: =+Loggdata!S7/Loggdata!S$1 -> -112 | S7: =+Loggdata!T7/Loggdata!T$1 -> -3.6 | T7: =+Loggdata!P7/Loggdata!P$1 -> 0
A8: =+Loggdata!A8+Loggdata!B8 -> 42329.861 | B8: =+Loggdata!M8/Loggdata!M$1 -> 65.8 | C8: =+Loggdata!I8/Loggdata!I$1 -> 46.4 | D8: =+Loggdata!H8/Loggdata!H$1 -> 45 | E8: =+Loggdata!R8/Loggdata!R$1 -> 37.6 | F8: =+Loggdata!F8/Loggdata!F$1 -> 37.9 | G8: =+Loggdata!G8/Loggdata!G$1 -> 33.2 | H8: =+F8-G8 -> 4.7 | I8: =IF(Loggdata!V8=15,"Varmvatten",IF(Loggdata!V8=7,"Värme",IF(Loggdata!V8=2,"Av","Okänt"))) -> Värme | J8: =+Loggdata!L8/Loggdata!L$1 -> 38.2 | K8: =+Loggdata!U8/Loggdata!U$1 -> 28 | L8: =+Loggdata!O8/Loggdata!O$1 -> 22.2 | M8: =+Loggdata!N8/Loggdata!N$1 -> 5.2 | N8: =+Loggdata!J8/Loggdata!J$1 -> 1.3 | O8: =+Loggdata!K8/Loggdata!K$1 -> -1.9 | P8: =+N8-O8 -> 3.2 | Q8: =+Loggdata!E8/Loggdata!E$1 -> -3.1 | R8: =+Loggdata!S8/Loggdata!S$1 -> -111.7 | S8: =+Loggdata!T8/Loggdata!T$1 -> -3.6 | T8: =+Loggdata!P8/Loggdata!P$1 -> 0
A9: =+Loggdata!A9+Loggdata!B9 -> 42329.861 | B9: =+Loggdata!M9/Loggdata!M$1 -> 65.8 | C9: =+Loggdata!I9/Loggdata!I$1 -> 46.4 | D9: =+Loggdata!H9/Loggdata!H$1 -> 45 | E9: =+Loggdata!R9/Loggdata!R$1 -> 37.6 | F9: =+Loggdata!F9/Loggdata!F$1 -> 37.9 | G9: =+Loggdata!G9/Loggdata!G$1 -> 33.2 | H9: =+F9-G9 -> 4.7 | I9: =IF(Loggdata!V9=15,"Varmvatten",IF(Loggdata!V9=7,"Värme",IF(Loggdata!V9=2,"Av","Okänt"))) -> Värme | J9: =+Loggdata!L9/Loggdata!L$1 -> 38.2 | K9: =+Loggdata!U9/Loggdata!U$1 -> 28.1 | L9: =+Loggdata!O9/Loggdata!O$1 -> 22.2 | M9: =+Loggdata!N9/Loggdata!N$1 -> 5 | N9: =+Loggdata!J9/Loggdata!J$1 -> 1.2 | O9: =+Loggdata!K9/Loggdata!K$1 -> -1.9 | P9: =+N9-O9 -> 3.1 | Q9: =+Loggdata!E9/Loggdata!E$1 -> -3.1 | R9: =+Loggdata!S9/Loggdata!S$1 -> -111.7 | S9: =+Loggdata!T9/Loggdata!T$1 -> -3.6 | T9: =+Loggdata!P9/Loggdata!P$1 -> 0
A10: =+Loggdata!A10+Loggdata!B10 -> 42329.861 | B10: =+Loggdata!M10/Loggdata!M$1 -> 65.9 | C10: =+Loggdata!I10/Loggdata!I$1 -> 46.4 | D10: =+Loggdata!H10/Loggdata!H$1 -> 45 | E10: =+Loggdata!R10/Loggdata!R$1 -> 37.6 | F10: =+Loggdata!F10/Loggdata!F$1 -> 38 | G10: =+Loggdata!G10/Loggdata!G$1 -> 33.2 | H10: =+F10-G10 -> 4.8 | I10: =IF(Loggdata!V10=15,"Varmvatten",IF(Loggdata!V10=7,"Värme",IF(Loggdata!V10=2,"Av","Okänt"))) -> Värme | J10: =+Loggdata!L10/Loggdata!L$1 -> 38.2 | K10: =+Loggdata!U10/Loggdata!U$1 -> 28 | L10: =+Loggdata!O10/Loggdata!O$1 -> 22.2 | M10: =+Loggdata!N10/Loggdata!N$1 -> 5.1 | N10: =+Loggdata!J10/Loggdata!J$1 -> 1.3 | O10: =+Loggdata!K10/Loggdata!K$1 -> -1.9 | P10: =+N10-O10 -> 3.2 | Q10: =+Loggdata!E10/Loggdata!E$1 -> -3 | R10: =+Loggdata!S10/Loggdata!S$1 -> -111.4 | S10: =+Loggdata!T10/Loggdata!T$1 -> -3.6 | T10: =+Loggdata!P10/Loggdata!P$1 -> 0
A11: =+Loggdata!A11+Loggdata!B11 -> 42329.862 | B11: =+Loggdata!M11/Loggdata!M$1 -> 65.9 | C11: =+Loggdata!I11/Loggdata!I$1 -> 46.4 | D11: =+Loggdata!H11/Loggdata!H$1 -> 45 | E11: =+Loggdata!R11/Loggdata!R$1 -> 37.6 | F11: =+Loggdata!F11/Loggdata!F$1 -> 38 | G11: =+Loggdata!G11/Loggdata!G$1 -> 33.2 | H11: =+F11-G11 -> 4.8 | I11: =IF(Loggdata!V11=15,"Varmvatten",IF(Loggdata!V11=7,"Värme",IF(Loggdata!V11=2,"Av","Okänt"))) -> Värme | J11: =+Loggdata!L11/Loggdata!L$1 -> 38.2 | K11: =+Loggdata!U11/Loggdata!U$1 -> 27.8 | L11: =+Loggdata!O11/Loggdata!O$1 -> 22.2 | M11: =+Loggdata!N11/Loggdata!N$1 -> 5.3 | N11: =+Loggdata!J11/Loggdata!J$1 -> 1.2 | O11: =+Loggdata!K11/Loggdata!K$1 -> -1.9 | P11: =+N11-O11 -> 3.1 | Q11: =+Loggdata!E11/Loggdata!E$1 -> -3 | R11: =+Loggdata!S11/Loggdata!S$1 -> -111.4 | S11: =+Loggdata!T11/Loggdata!T$1 -> -3.6 | T11: =+Loggdata!P11/Loggdata!P$1 -> 0
A12: =+Loggdata!A12+Loggdata!B12 -> 42329.862 | B12: =+Loggdata!M12/Loggdata!M$1 -> 65.9 | C12: =+Loggdata!I12/Loggdata!I$1 -> 46.4 | D12: =+Loggdata!H12/Loggdata!H$1 -> 44.9 | E12: =+Loggdata!R12/Loggdata!R$1 -> 37.6 | F12: =+Loggdata!F12/Loggdata!F$1 -> 37.9 | G12: =+Loggdata!G12/Loggdata!G$1 -> 33.2 | H12: =+F12-G12 -> 4.7 | I12: =IF(Loggdata!V12=15,"Varmvatten",IF(Loggdata!V12=7,"Värme",IF(Loggdata!V12=2,"Av","Okänt"))) -> Värme | J12: =+Loggdata!L12/Loggdata!L$1 -> 38.2 | K12: =+Loggdata!U12/Loggdata!U$1 -> 27.8 | L12: =+Loggdata!O12/Loggdata!O$1 -> 22.2 | M12: =+Loggdata!N12/Loggdata!N$1 -> 5.3 | N12: =+Loggdata!J12/Loggdata!J$1 -> 1.2 | O12: =+Loggdata!K12/Loggdata!K$1 -> -1.9 | P12: =+N12-O12 -> 3.1 | Q12: =+Loggdata!E12/Loggdata!E$1 -> -3 | R12: =+Loggdata!S12/Loggdata!S$1 -> -111 | S12: =+Loggdata!T12/Loggdata!T$1 -> -3.6 | T12: =+Loggdata!P12/Loggdata!P$1 -> 0
A13: =+Loggdata!A13+Loggdata!B13 -> 42329.862 | B13: =+Loggdata!M13/Loggdata!M$1 -> 65.8 | C13: =+Loggdata!I13/Loggdata!I$1 -> 46.4 | D13: =+Loggdata!H13/Loggdata!H$1 -> 45 | E13: =+Loggdata!R13/Loggdata!R$1 -> 37.6 | F13: =+Loggdata!F13/Loggdata!F$1 -> 37.9 | G13: =+Loggdata!G13/Loggdata!G$1 -> 33.2 | H13: =+F13-G13 -> 4.7 | I13: =IF(Loggdata!V13=15,"Varmvatten",IF(Loggdata!V13=7,"Värme",IF(Loggdata!V13=2,"Av","Okänt"))) -> Värme | J13: =+Loggdata!L13/Loggdata!L$1 -> 38.2 | K13: =+Loggdata!U13/Loggdata!U$1 -> 27.8 | L13: =+Loggdata!O13/Loggdata!O$1 -> 22.2 | M13: =+Loggdata!N13/Loggdata!N$1 -> 5 | N13: =+Loggdata!J13/Loggdata!J$1 -> 1.2 | O13: =+Loggdata!K13/Loggdata!K$1 -> -1.9 | P13: =+N13-O13 -> 3.1 | Q13: =+Loggdata!E13/Loggdata!E$1 -> -3 | R13: =+Loggdata!S13/Loggdata!S$1 -> -111 | S13: =+Loggdata!T13/Loggdata!T$1 -> -3.6 | T13: =+Loggdata!P13/Loggdata!P$1 -> 0
A14: =+Loggdata!A14+Loggdata!B14 -> 42329.863 | B14: =+Loggdata!M14/Loggdata!M$1 -> 65.9 | C14: =+Loggdata!I14/Loggdata!I$1 -> 46.4 | D14: =+Loggdata!H14/Loggdata!H$1 -> 44.9 | E14: =+Loggdata!R14/Loggdata!R$1 -> 37.6 | F14: =+Loggdata!F14/Loggdata!F$1 -> 38 | G14: =+Loggdata!G14/Loggdata!G$1 -> 33.2 | H14: =+F14-G14 -> 4.8 | I14: =IF(Loggdata!V14=15,"Varmvatten",IF(Loggdata!V14=7,"Värme",IF(Loggdata!V14=2,"Av","Okänt"))) -> Värme | J14: =+Loggdata!L14/Loggdata!L$1 -> 38.3 | K14: =+Loggdata!U14/Loggdata!U$1 -> 27.9 | L14: =+Loggdata!O14/Loggdata!O$1 -> 22.1 | M14: =+Loggdata!N14/Loggdata!N$1 -> 5 | N14: =+Loggdata!J14/Loggdata!J$1 -> 1.2 | O14: =+Loggdata!K14/Loggdata!K$1 -> -1.9 | P14: =+N14-O14 -> 3.1 | Q14: =+Loggdata!E14/Loggdata!E$1 -> -3 | R14: =+Loggdata!S14/Loggdata!S$1 -> -110.7 | S14: =+Loggdata!T14/Loggdata!T$1 -> -3.6 | T14: =+Loggdata!P14/Loggdata!P$1 -> 0
... A2884: =+Loggdata!A2884+Loggdata!B2884 -> 42330.859 | B2884: =+Loggdata!M2884/Loggdata!M$1 -> 72 | C2884: =+Loggdata!I2884/Loggdata!I$1 -> 46.2 | D2884: =+Loggdata!H2884/Loggdata!H$1 -> 44.9 | E2884: =+Loggdata!R2884/Loggdata!R$1 -> 43 | F2884: =+Loggdata!F2884/Loggdata!F$1 -> 42.1 | G2884: =+Loggdata!G2884/Loggdata!G$1 -> 35 | H2884: =+F2884-G2884 -> 7.1 | I2884: =IF(Loggdata!V2884=15,"Varmvatten",IF(Loggdata!V2884=7,"Värme",IF(Loggdata!V2884=2,"Av","Okänt"))) -> Värme | J2884: =+Loggdata!L2884/Loggdata!L$1 -> 42.1 | K2884: =+Loggdata!U2884/Loggdata!U$1 -> 46 | L2884: =+Loggdata!O2884/Loggdata!O$1 -> 22.3 | M2884: =+Loggdata!N2884/Loggdata!N$1 -> 3.8 | N2884: =+Loggdata!J2884/Loggdata!J$1 -> 0.2 | O2884: =+Loggdata!K2884/Loggdata!K$1 -> -3 | P2884: =+N2884-O2884 -> 3.2 | Q2884: =+Loggdata!E2884/Loggdata!E$1 -> -11.1 | R2884: =+Loggdata!S2884/Loggdata!S$1 -> -221.1 | S2884: =+Loggdata!T2884/Loggdata!T$1 -> -5.8 | T2884: =+Loggdata!P2884/Loggdata!P$1 -> 0

Sheet Diagram

Sheet Loggdata
A1: Divisors | C1: 1 | D1: 1 | E1: 10 | F1: 10 | G1: 10 | H1: 10 | I1: 10 | J1: 10 | K1: 10 | L1: 10 | M1: 10 | N1: 10 | O1: 10 | P1: 100 | Q1: 1 | R1: 10 | S1: 10 | T1: 10 | U1: 10 | V1: 1 | W1: 1
A2: Date | B2: Time | C2: version | D2: R-version | E2: BT1 | F2: BT2 | G2: EB100-EP14-BT3 | H2: BT6 | I2: BT7 | J2: EB100-EP14-BT10 | K2: EB100-EP14-BT11 | L2: EB100-EP14-BT12 | M2: EB100-EP14-BT14 | N2: EB100-EP14-BT17 | O2: BT50 | P2: Tot.Int.Add | Q2: Alarm number | R2: Calc. Supply | S2: Degree Minutes | T2: BT1 Average | U2: compr. freq. act. | V2: Relays PCA-Base | W2: Prio
A3: 42329 | B3: 0.85903935 | C3: 6881 | D3: 5 | E3: -30 | F3: 379 | G3: 332 | H3: 450 | I3: 464 | J3: 11 | K3: -21 | L3: 380 | M3: 658 | N3: 53 | O3: 222 | P3: 0 | Q3: 0 | R3: 376 | S3: -1126 | T3: -36 | U3: 280 | V3: 7 | W3: 30
A4: 42329 | B4: 0.85938657 | C4: 6881 | D4: 5 | E4: -30 | F4: 378 | G4: 332 | H4: 450 | I4: 465 | J4: 12 | K4: -19 | L4: 381 | M4: 657 | N4: 52 | O4: 222 | P4: 0 | Q4: 0 | R4: 376 | S4: -1123 | T4: -36 | U4: 279 | V4: 7 | W4: 30
A5: 42329 | B5: 0.8597338 | C5: 6881 | D5: 5 | E5: -31 | F5: 379 | G5: 332 | H5: 450 | I5: 464 | J5: 12 | K5: -19 | L5: 382 | M5: 658 | N5: 50 | O5: 222 | P5: 0 | Q5: 0 | R5: 376 | S5: -1123 | T5: -36 | U5: 279 | V5: 7 | W5: 30
A6: 42329 | B6: 0.86005787 | C6: 6881 | D6: 5 | E6: -30 | F6: 379 | G6: 331 | H6: 450 | I6: 464 | J6: 12 | K6: -20 | L6: 382 | M6: 658 | N6: 51 | O6: 222 | P6: 0 | Q6: 0 | R6: 376 | S6: -1120 | T6: -36 | U6: 280 | V6: 7 | W6: 30
A7: 42329 | B7: 0.86037037 | C7: 6881 | D7: 5 | E7: -30 | F7: 380 | G7: 331 | H7: 450 | I7: 464 | J7: 11 | K7: -19 | L7: 382 | M7: 658 | N7: 53 | O7: 222 | P7: 0 | Q7: 0 | R7: 376 | S7: -1120 | T7: -36 | U7: 279 | V7: 7 | W7: 30
A8: 42329 | B8: 0.86071759 | C8: 6881 | D8: 5 | E8: -31 | F8: 379 | G8: 332 | H8: 450 | I8: 464 | J8: 13 | K8: -19 | L8: 382 | M8: 658 | N8: 52 | O8: 222 | P8: 0 | Q8: 0 | R8: 376 | S8: -1117 | T8: -36 | U8: 280 | V8: 7 | W8: 30
A9: 42329 | B9: 0.86106481 | C9: 6881 | D9: 5 | E9: -31 | F9: 379 | G9: 332 | H9: 450 | I9: 464 | J9: 12 | K9: -19 | L9: 382 | M9: 658 | N9: 50 | O9: 222 | P9: 0 | Q9: 0 | R9: 376 | S9: -1117 | T9: -36 | U9: 281 | V9: 7 | W9: 30
A10: 42329 | B10: 0.86141204 | C10: 6881 | D10: 5 | E10: -30 | F10: 380 | G10: 332 | H10: 450 | I10: 464 | J10: 13 | K10: -19 | L10: 382 | M10: 659 | N10: 51 | O10: 222 | P10: 0 | Q10: 0 | R10: 376 | S10: -1114 | T10: -36 | U10: 280 | V10: 7 | W10: 30
A11: 42329 | B11: 0.86175926 | C11: 6881 | D11: 5 | E11: -30 | F11: 380 | G11: 332 | H11: 450 | I11: 464 | J11: 12 | K11: -19 | L11: 382 | M11: 659 | N11: 53 | O11: 222 | P11: 0 | Q11: 0 | R11: 376 | S11: -1114 | T11: -36 | U11: 278 | V11: 7 | W11: 30
A12: 42329 | B12: 0.86210648 | C12: 6881 | D12: 5 | E12: -30 | F12: 379 | G12: 332 | H12: 449 | I12: 464 | J12: 12 | K12: -19 | L12: 382 | M12: 659 | N12: 53 | O12: 222 | P12: 0 | Q12: 0 | R12: 376 | S12: -1110 | T12: -36 | U12: 278 | V12: 7 | W12: 30
A13: 42329 | B13: 0.8624537 | C13: 6881 | D13: 5 | E13: -30 | F13: 379 | G13: 332 | H13: 450 | I13: 464 | J13: 12 | K13: -19 | L13: 382 | M13: 658 | N13: 50 | O13: 222 | P13: 0 | Q13: 0 | R13: 376 | S13: -1110 | T13: -36 | U13: 278 | V13: 7 | W13: 30
A14: 42329 | B14: 0.86280093 | C14: 6881 | D14: 5 | E14: -30 | F14: 380 | G14: 332 | H14: 449 | I14: 464 | J14: 12 | K14: -19 | L14: 383 | M14: 659 | N14: 50 | O14: 221 | P14: 0 | Q14: 0 | R14: 376 | S14: -1107 | T14: -36 | U14: 279 | V14: 7 | W14: 30
... A2884: 42330 | B2884: 0.85892361 | C2884: 6881 | D2884: 5 | E2884: -111 | F2884: 421 | G2884: 350 | H2884: 449 | I2884: 462 | J2884: 2 | K2884: -30 | L2884: 421 | M2884: 720 | N2884: 38 | O2884: 223 | P2884: 0 | Q2884: 0 | R2884: 430 | S2884: -2211 | T2884: -58 | U2884: 460 | V2884: 7 | W2884: 30

Sheet Blad1
