Workbook

Sheet Sammanställning
B1: Degree Minutes | C1: BT7 | D1: BT6 | E1: Calc. Supply | F1: BT2 | G1: BT25 | H1: EB100-EP14-BT3 | J1: Relays PCA-Base | K1: EB100-EP14-BT12 | L1: EB100-EP14-BT14 | M1: EB100-EP14-BT17 | N1: BT50 | O1: EB100-EP14-BT10 | P1: EB100-EP14-BT11 | R1: BT1 | S1: BT1 Average
A2: Datum & tid | B2: Gradminuter | C2: VV topp | D2: VV laddning | E2: Börvärde | F2: VB framledn | G2: Ext framledn | H2: VB returtemp | I2: VB diff | J2: Kompressor | K2: Kondensor fram | L2: Hetgas | M2: Suggas | N2: Rumsgivare | O2: Köldbärare in | P2: Köldbärare ut | Q2: KB diff | R2: Utegivare | S2: Ute medel
A3: =+Loggdata!A3+Loggdata!B3 -> 42314.818 | B3: =+Loggdata!T3/Loggdata!T$1 -> 97.1 | C3: =+Loggdata!I3/Loggdata!I$1 -> 47.9 | D3: =+Loggdata!H3/Loggdata!H$1 -> 45.4 | E3: =+Loggdata!S3/Loggdata!S$1 -> 33.5 | F3: =+Loggdata!F3/Loggdata!F$1 -> 32.2 | G3: =+Loggdata!O3/Loggdata!O$1 -> 33.1 | H3: =+Loggdata!G3/Loggdata!G$1 -> 32.1 | I3: =+F3-H3 -> 0.1 | J3: =IF(Loggdata!V3=15,"Varmvatten",IF(Loggdata!V3=7,"Värme",IF(Loggdata!V3=2,"Av","Okänt"))) -> Av | K3: =+Loggdata!L3/Loggdata!L$1 -> 32.1 | L3: =+Loggdata!M3/Loggdata!M$1 -> 28.4 | M3: =+Loggdata!N3/Loggdata!N$1 -> 24.9 | N3: =+Loggdata!P3/Loggdata!P$1 -> 20.5 | O3: =+Loggdata!J3/Loggdata!J$1 -> 9.8 | P3: =+Loggdata!K3/Loggdata!K$1 -> 8.5 | Q3: =+O3-P3 -> 1.3 | R3: =+Loggdata!E3/Loggdata!E$1 -> 4.3 | S3: =+Loggdata!U3/Loggdata!U$1 -> 3.9
A4: =+Loggdata!A4+Loggdata!B4 -> 42314.818 | B4: =+Loggdata!T4/Loggdata!T$1 -> 96.6 | C4: =+Loggdata!I4/Loggdata!I$1 -> 47.9 | D4: =+Loggdata!H4/Loggdata!H$1 -> 45.4 | E4: =+Loggdata!S4/Loggdata!S$1 -> 33.5 | F4: =+Loggdata!F4/Loggdata!F$1 -> 32.1 | G4: =+Loggdata!O4/Loggdata!O$1 -> 33 | H4: =+Loggdata!G4/Loggdata!G$1 -> 32.1 | I4: =+F4-H4 -> 0 | J4: =IF(Loggdata!V4=15,"Varmvatten",IF(Loggdata!V4=7,"Värme",IF(Loggdata!V4=2,"Av","Okänt"))) -> Av | K4: =+Loggdata!L4/Loggdata!L$1 -> 32 | L4: =+Loggdata!M4/Loggdata!M$1 -> 28.3 | M4: =+Loggdata!N4/Loggdata!N$1 -> 24.9 | N4: =+Loggdata!P4/Loggdata!P$1 -> 20.5 | O4: =+Loggdata!J4/Loggdata!J$1 -> 9.8 | P4: =+Loggdata!K4/Loggdata!K$1 -> 8.5 | Q4: =+O4-P4 -> 1.3 | R4: =+Loggdata!E4/Loggdata!E$1 -> 4.3 | S4: =+Loggdata!U4/Loggdata!U$1 -> 3.9
A5: =+Loggdata!A5+Loggdata!B5 -> 42314.819 | B5: =+Loggdata!T5/Loggdata!T$1 -> 96.1 | C5: =+Loggdata!I5/Loggdata!I$1 -> 47.9 | D5: =+Loggdata!H5/Loggdata!H$1 -> 45.4 | E5: =+Loggdata!S5/Loggdata!S$1 -> 33.5 | F5: =+Loggdata!F5/Loggdata!F$1 -> 32 | G5: =+Loggdata!O5/Loggdata!O$1 -> 32.9 | H5: =+Loggdata!G5/Loggdata!G$1 -> 32 | I5: =+F5-H5 -> 0 | J5: =IF(Loggdata!V5=15,"Varmvatten",IF(Loggdata!V5=7,"Värme",IF(Loggdata!V5=2,"Av","Okänt"))) -> Av | K5: =+Loggdata!L5/Loggdata!L$1 -> 32 | L5: =+Loggdata!M5/Loggdata!M$1 -> 28.3 | M5: =+Loggdata!N5/Loggdata!N$1 -> 24.9 | N5: =+Loggdata!P5/Loggdata!P$1 -> 20.5 | O5: =+Loggdata!J5/Loggdata!J$1 -> 10 | P5: =+Loggdata!K5/Loggdata!K$1 -> 8.5 | Q5: =+O5-P5 -> 1.5 | R5: =+Loggdata!E5/Loggdata!E$1 -> 4.3 | S5: =+Loggdata!U5/Loggdata!U$1 -> 3.9
A6: =+Loggdata!A6+Loggdata!B6 -> 42314.82 | B6: =+Loggdata!T6/Loggdata!T$1 -> 95.5 | C6: =+Loggdata!I6/Loggdata!I$1 -> 47.8 | D6: =+Loggdata!H6/Loggdata!H$1 -> 45.3 | E6: =+Loggdata!S6/Loggdata!S$1 -> 33.5 | F6: =+Loggdata!F6/Loggdata!F$1 -> 32 | G6: =+Loggdata!O6/Loggdata!O$1 -> 32.8 | H6: =+Loggdata!G6/Loggdata!G$1 -> 31.9 | I6: =+F6-H6 -> 0.1 | J6: =IF(Loggdata!V6=15,"Varmvatten",IF(Loggdata!V6=7,"Värme",IF(Loggdata!V6=2,"Av","Okänt"))) -> Av | K6: =+Loggdata!L6/Loggdata!L$1 -> 31.9 | L6: =+Loggdata!M6/Loggdata!M$1 -> 28.2 | M6: =+Loggdata!N6/Loggdata!N$1 -> 24.9 | N6: =+Loggdata!P6/Loggdata!P$1 -> 20.5 | O6: =+Loggdata!J6/Loggdata!J$1 -> 10.1 | P6: =+Loggdata!K6/Loggdata!K$1 -> 8.6 | Q6: =+O6-P6 -> 1.5 | R6: =+Loggdata!E6/Loggdata!E$1 -> 4.3 | S6: =+Loggdata!U6/Loggdata!U$1 -> 3.9
A7: =+Loggdata!A7+Loggdata!B7 -> 42314.821 | B7: =+Loggdata!T7/Loggdata!T$1 -> 94.8 | C7: =+Loggdata!I7/Loggdata!I$1 -> 47.8 | D7: =+Loggdata!H7/Loggdata!H$1 -> 45.2 | E7: =+Loggdata!S7/Loggdata!S$1 -> 33.5 | F7: =+Loggdata!F7/Loggdata!F$1 -> 31.8 | G7: =+Loggdata!O7/Loggdata!O$1 -> 32.7 | H7: =+Loggdata!G7/Loggdata!G$1 -> 31.7 | I7: =+F7-H7 -> 0.1 | J7: =IF(Loggdata!V7=15,"Varmvatten",IF(Loggdata!V7=7,"Värme",IF(Loggdata!V7=2,"Av","Okänt"))) -> Av | K7: =+Loggdata!L7/Loggdata!L$1 -> 31.7 | L7: =+Loggdata!M7/Loggdata!M$1 -> 28.2 | M7: =+Loggdata!N7/Loggdata!N$1 -> 24.9 | N7: =+Loggdata!P7/Loggdata!P$1 -> 20.5 | O7: =+Loggdata!J7/Loggdata!J$1 -> 10.2 | P7: =+Loggdata!K7/Loggdata!K$1 -> 8.6 | Q7: =+O7-P7 -> 1.6 | R7: =+Loggdata!E7/Loggdata!E$1 -> 4.3 | S7: =+Loggdata!U7/Loggdata!U$1 -> 3.9
A8: =+Loggdata!A8+Loggdata!B8 -> 42314.821 | B8: =+Loggdata!T8/Loggdata!T$1 -> 94 | C8: =+Loggdata!I8/Loggdata!I$1 -> 47.8 | D8: =+Loggdata!H8/Loggdata!H$1 -> 45.1 | E8: =+Loggdata!S8/Loggdata!S$1 -> 33.5 | F8: =+Loggdata!F8/Loggdata!F$1 -> 31.7 | G8: =+Loggdata!O8/Loggdata!O$1 -> 32.6 | H8: =+Loggdata!G8/Loggdata!G$1 -> 31.4 | I8: =+F8-H8 -> 0.3 | J8: =IF(Loggdata!V8=15,"Varmvatten",IF(Loggdata!V8=7,"Värme",IF(Loggdata!V8=2,"Av","Okänt"))) -> Av | K8: =+Loggdata!L8/Loggdata!L$1 -> 31.5 | L8: =+Loggdata!M8/Loggdata!M$1 -> 28.2 | M8: =+Loggdata!N8/Loggdata!N$1 -> 24.9 | N8: =+Loggdata!P8/Loggdata!P$1 -> 20.5 | O8: =+Loggdata!J8/Loggdata!J$1 -> 10.2 | P8: =+Loggdata!K8/Loggdata!K$1 -> 8.6 | Q8: =+O8-P8 -> 1.6 | R8: =+Loggdata!E8/Loggdata!E$1 -> 4.3 | S8: =+Loggdata!U8/Loggdata!U$1 -> 3.9
A9: =+Loggdata!A9+Loggdata!B9 -> 42314.822 | B9: =+Loggdata!T9/Loggdata!T$1 -> 93.1 | C9: =+Loggdata!I9/Loggdata!I$1 -> 47.7 | D9: =+Loggdata!H9/Loggdata!H$1 -> 44.9 | E9: =+Loggdata!S9/Loggdata!S$1 -> 33.5 | F9: =+Loggdata!F9/Loggdata!F$1 -> 31.4 | G9: =+Loggdata!O9/Loggdata!O$1 -> 32.5 | H9: =+Loggdata!G9/Loggdata!G$1 -> 31.1 | I9: =+F9-H9 -> 0.3 | J9: =IF(Loggdata!V9=15,"Varmvatten",IF(Loggdata!V9=7,"Värme",IF(Loggdata!V9=2,"Av","Okänt"))) -> Av | K9: =+Loggdata!L9/Loggdata!L$1 -> 31.2 | L9: =+Loggdata!M9/Loggdata!M$1 -> 28.1 | M9: =+Loggdata!N9/Loggdata!N$1 -> 24.9 | N9: =+Loggdata!P9/Loggdata!P$1 -> 20.6 | O9: =+Loggdata!J9/Loggdata!J$1 -> 10.4 | P9: =+Loggdata!K9/Loggdata!K$1 -> 8.7 | Q9: =+O9-P9 -> 1.7 | R9: =+Loggdata!E9/Loggdata!E$1 -> 4.3 | S9: =+Loggdata!U9/Loggdata!U$1 -> 3.9
A10: =+Loggdata!A10+Loggdata!B10 -> 42314.823 | B10: =+Loggdata!T10/Loggdata!T$1 -> 92 | C10: =+Loggdata!I10/Loggdata!I$1 -> 47.7 | D10: =+Loggdata!H10/Loggdata!H$1 -> 44.7 | E10: =+Loggdata!S10/Loggdata!S$1 -> 33.5 | F10: =+Loggdata!F10/Loggdata!F$1 -> 31.2 | G10: =+Loggdata!O10/Loggdata!O$1 -> 32.3 | H10: =+Loggdata!G10/Loggdata!G$1 -> 31.1 | I10: =+F10-H10 -> 0.1 | J10: =IF(Loggdata!V10=15,"Varmvatten",IF(Loggdata!V10=7,"Värme",IF(Loggdata!V10=2,"Av","Okänt"))) -> Av | K10: =+Loggdata!L10/Loggdata!L$1 -> 31 | L10: =+Loggdata!M10/Loggdata!M$1 -> 28.1 | M10: =+Loggdata!N10/Loggdata!N$1 -> 24.9 | N10: =+Loggdata!P10/Loggdata!P$1 -> 20.5 | O10: =+Loggdata!J10/Loggdata!J$1 -> 10.5 | P10: =+Loggdata!K10/Loggdata!K$1 -> 8.8 | Q10: =+O10-P10 -> 1.7 | R10: =+Loggdata!E10/Loggdata!E$1 -> 4.3 | S10: =+Loggdata!U10/Loggdata!U$1 -> 3.9
A11: =+Loggdata!A11+Loggdata!B11 -> 42314.823 | B11: =+Loggdata!T11/Loggdata!T$1 -> 90.7 | C11: =+Loggdata!I11/Loggdata!I$1 -> 47.7 | D11: =+Loggdata!H11/Loggdata!H$1 -> 44.5 | E11: =+Loggdata!S11/Loggdata!S$1 -> 33.5 | F11: =+Loggdata!F11/Loggdata!F$1 -> 31 | G11: =+Loggdata!O11/Loggdata!O$1 -> 32.1 | H11: =+Loggdata!G11/Loggdata!G$1 -> 30.8 | I11: =+F11-H11 -> 0.2 | J11: =IF(Loggdata!V11=15,"Varmvatten",IF(Loggdata!V11=7,"Värme",IF(Loggdata!V11=2,"Av","Okänt"))) -> Av | K11: =+Loggdata!L11/Loggdata!L$1 -> 30.9 | L11: =+Loggdata!M11/Loggdata!M$1 -> 28.1 | M11: =+Loggdata!N11/Loggdata!N$1 -> 24.9 | N11: =+Loggdata!P11/Loggdata!P$1 -> 20.6 | O11: =+Loggdata!J11/Loggdata!J$1 -> 10.5 | P11: =+Loggdata!K11/Loggdata!K$1 -> 8.8 | Q11: =+O11-P11 -> 1.7 | R11: =+Loggdata!E11/Loggdata!E$1 -> 4.2 | S11: =+Loggdata!U11/Loggdata!U$1 -> 3.9
A12: =+Loggdata!A12+Loggdata!B12 -> 42314.824 | B12: =+Loggdata!T12/Loggdata!T$1 -> 89.2 | C12: =+Loggdata!I12/Loggdata!I$1 -> 47.7 | D12: =+Loggdata!H12/Loggdata!H$1 -> 44.3 | E12: =+Loggdata!S12/Loggdata!S$1 -> 33.5 | F12: =+Loggdata!F12/Loggdata!F$1 -> 30.9 | G12: =+Loggdata!O12/Loggdata!O$1 -> 31.9 | H12: =+Loggdata!G12/Loggdata!G$1 -> 30.7 | I12: =+F12-H12 -> 0.2 | J12: =IF(Loggdata!V12=15,"Varmvatten",IF(Loggdata!V12=7,"Värme",IF(Loggdata!V12=2,"Av","Okänt"))) -> Av | K12: =+Loggdata!L12/Loggdata!L$1 -> 30.7 | L12: =+Loggdata!M12/Loggdata!M$1 -> 28 | M12: =+Loggdata!N12/Loggdata!N$1 -> 24.9 | N12: =+Loggdata!P12/Loggdata!P$1 -> 20.6 | O12: =+Loggdata!J12/Loggdata!J$1 -> 10.6 | P12: =+Loggdata!K12/Loggdata!K$1 -> 8.8 | Q12: =+O12-P12 -> 1.8 | R12: =+Loggdata!E12/Loggdata!E$1 -> 4.1 | S12: =+Loggdata!U12/Loggdata!U$1 -> 3.9
A13: =+Loggdata!A13+Loggdata!B13 -> 42314.825 | B13: =+Loggdata!T13/Loggdata!T$1 -> 87.5 | C13: =+Loggdata!I13/Loggdata!I$1 -> 47.7 | D13: =+Loggdata!H13/Loggdata!H$1 -> 44.2 | E13: =+Loggdata!S13/Loggdata!S$1 -> 33.5 | F13: =+Loggdata!F13/Loggdata!F$1 -> 30.8 | G13: =+Loggdata!O13/Loggdata!O$1 -> 31.7 | H13: =+Loggdata!G13/Loggdata!G$1 -> 30.7 | I13: =+F13-H13 -> 0.1 | J13: =IF(Loggdata!V13=15,"Varmvatten",IF(Loggdata!V13=7,"Värme",IF(Loggdata!V13=2,"Av","Okänt"))) -> Av | K13: =+Loggdata!L13/Loggdata!L$1 -> 30.6 | L13: =+Loggdata!M13/Loggdata!M$1 -> 28 | M13: =+Loggdata!N13/Loggdata!N$1 -> 24.9 | N13: =+Loggdata!P13/Loggdata!P$1 -> 20.5 | O13: =+Loggdata!J13/Loggdata!J$1 -> 10.8 | P13: =+Loggdata!K13/Loggdata!K$1 -> 8.8 | Q13: =+O13-P13 -> 2 | R13: =+Loggdata!E13/Loggdata!E$1 -> 4.2 | S13: =+Loggdata!U13/Loggdata!U$1 -> 3.9
A14: =+Loggdata!A14+Loggdata!B14 -> 42314.825 | B14: =+Loggdata!T14/Loggdata!T$1 -> 85.7 | C14: =+Loggdata!I14/Loggdata!I$1 -> 47.7 | D14: =+Loggdata!H14/Loggdata!H$1 -> 44.2 | E14: =+Loggdata!S14/Loggdata!S$1 -> 33.5 | F14: =+Loggdata!F14/Loggdata!F$1 -> 30.7 | G14: =+Loggdata!O14/Loggdata!O$1 -> 31.6 | H14: =+Loggdata!G14/Loggdata!G$1 -> 30.7 | I14: =+F14-H14 -> 0 | J14: =IF(Loggdata!V14=15,"Varmvatten",IF(Loggdata!V14=7,"Värme",IF(Loggdata!V14=2,"Av","Okänt"))) -> Av | K14: =+Loggdata!L14/Loggdata!L$1 -> 30.6 | L14: =+Loggdata!M14/Loggdata!M$1 -> 28 | M14: =+Loggdata!N14/Loggdata!N$1 -> 24.8 | N14: =+Loggdata!P14/Loggdata!P$1 -> 20.5 | O14: =+Loggdata!J14/Loggdata!J$1 -> 10.8 | P14: =+Loggdata!K14/Loggdata!K$1 -> 8.9 | Q14: =+O14-P14 -> 1.9 | R14: =+Loggdata!E14/Loggdata!E$1 -> 4.2 | S14: =+Loggdata!U14/Loggdata!U$1 -> 3.9
... A804: =+Loggdata!A804+Loggdata!B804 -> 42315.374 | B804: =+Loggdata!T804/Loggdata!T$1 -> -57.1 | C804: =+Loggdata!I804/Loggdata!I$1 -> 47.7 | D804: =+Loggdata!H804/Loggdata!H$1 -> 42.9 | E804: =+Loggdata!S804/Loggdata!S$1 -> 30.1 | F804: =+Loggdata!F804/Loggdata!F$1 -> 34.5 | G804: =+Loggdata!O804/Loggdata!O$1 -> 32.7 | H804: =+Loggdata!G804/Loggdata!G$1 -> 27.8 | I804: =+F804-H804 -> 6.7 | J804: =IF(Loggdata!V804=15,"Varmvatten",IF(Loggdata!V804=7,"Värme",IF(Loggdata!V804=2,"Av","Okänt"))) -> Värme | K804: =+Loggdata!L804/Loggdata!L$1 -> 34.5 | L804: =+Loggdata!M804/Loggdata!M$1 -> 64.6 | M804: =+Loggdata!N804/Loggdata!N$1 -> 5.9 | N804: =+Loggdata!P804/Loggdata!P$1 -> 20.7 | O804: =+Loggdata!J804/Loggdata!J$1 -> 4.8 | P804: =+Loggdata!K804/Loggdata!K$1 -> 0.9 | Q804: =+O804-P804 -> 3.9 | R804: =+Loggdata!E804/Loggdata!E$1 -> 7.3 | S804: =+Loggdata!U804/Loggdata!U$1 -> 4.9

Sheet Diagram

Sheet Loggdata
A1: Divisors | C1: 1 | D1: 1 | E1: 10 | F1: 10 | G1: 10 | H1: 10 | I1: 10 | J1: 10 | K1: 10 | L1: 10 | M1: 10 | N1: 10 | O1: 10 | P1: 10 | Q1: 100 | R1: 1 | S1: 10 | T1: 10 | U1: 10 | V1: 1 | W1: 1
A2: Date | B2: Time | C2: version | D2: R-version | E2: BT1 | F2: BT2 | G2: EB100-EP14-BT3 | H2: BT6 | I2: BT7 | J2: EB100-EP14-BT10 | K2: EB100-EP14-BT11 | L2: EB100-EP14-BT12 | M2: EB100-EP14-BT14 | N2: EB100-EP14-BT17 | O2: BT25 | P2: BT50 | Q2: Tot.Int.Add | R2: Alarm number | S2: Calc. Supply | T2: Degree Minutes | U2: BT1 Average | V2: Relays PCA-Base | W2: Prio
A3: 42314 | B3: 0.8177662 | C3: 6629 | D3: 3 | E3: 43 | F3: 322 | G3: 321 | H3: 454 | I3: 479 | J3: 98 | K3: 85 | L3: 321 | M3: 284 | N3: 249 | O3: 331 | P3: 205 | Q3: 0 | R3: 0 | S3: 335 | T3: 971 | U3: 39 | V3: 2 | W3: 10
A4: 42314 | B4: 0.81846065 | C4: 6629 | D4: 3 | E4: 43 | F4: 321 | G4: 321 | H4: 454 | I4: 479 | J4: 98 | K4: 85 | L4: 320 | M4: 283 | N4: 249 | O4: 330 | P4: 205 | Q4: 0 | R4: 0 | S4: 335 | T4: 966 | U4: 39 | V4: 2 | W4: 10
A5: 42314 | B5: 0.81915509 | C5: 6629 | D5: 3 | E5: 43 | F5: 320 | G5: 320 | H5: 454 | I5: 479 | J5: 100 | K5: 85 | L5: 320 | M5: 283 | N5: 249 | O5: 329 | P5: 205 | Q5: 0 | R5: 0 | S5: 335 | T5: 961 | U5: 39 | V5: 2 | W5: 10
A6: 42314 | B6: 0.81984954 | C6: 6629 | D6: 3 | E6: 43 | F6: 320 | G6: 319 | H6: 453 | I6: 478 | J6: 101 | K6: 86 | L6: 319 | M6: 282 | N6: 249 | O6: 328 | P6: 205 | Q6: 0 | R6: 0 | S6: 335 | T6: 955 | U6: 39 | V6: 2 | W6: 10
A7: 42314 | B7: 0.82054398 | C7: 6629 | D7: 3 | E7: 43 | F7: 318 | G7: 317 | H7: 452 | I7: 478 | J7: 102 | K7: 86 | L7: 317 | M7: 282 | N7: 249 | O7: 327 | P7: 205 | Q7: 0 | R7: 0 | S7: 335 | T7: 948 | U7: 39 | V7: 2 | W7: 10
A8: 42314 | B8: 0.82123843 | C8: 6629 | D8: 3 | E8: 43 | F8: 317 | G8: 314 | H8: 451 | I8: 478 | J8: 102 | K8: 86 | L8: 315 | M8: 282 | N8: 249 | O8: 326 | P8: 205 | Q8: 0 | R8: 0 | S8: 335 | T8: 940 | U8: 39 | V8: 2 | W8: 10
A9: 42314 | B9: 0.82193287 | C9: 6629 | D9: 3 | E9: 43 | F9: 314 | G9: 311 | H9: 449 | I9: 477 | J9: 104 | K9: 87 | L9: 312 | M9: 281 | N9: 249 | O9: 325 | P9: 206 | Q9: 0 | R9: 0 | S9: 335 | T9: 931 | U9: 39 | V9: 2 | W9: 10
A10: 42314 | B10: 0.82262731 | C10: 6629 | D10: 3 | E10: 43 | F10: 312 | G10: 311 | H10: 447 | I10: 477 | J10: 105 | K10: 88 | L10: 310 | M10: 281 | N10: 249 | O10: 323 | P10: 205 | Q10: 0 | R10: 0 | S10: 335 | T10: 920 | U10: 39 | V10: 2 | W10: 10
A11: 42314 | B11: 0.82332176 | C11: 6629 | D11: 3 | E11: 42 | F11: 310 | G11: 308 | H11: 445 | I11: 477 | J11: 105 | K11: 88 | L11: 309 | M11: 281 | N11: 249 | O11: 321 | P11: 206 | Q11: 0 | R11: 0 | S11: 335 | T11: 907 | U11: 39 | V11: 2 | W11: 10
A12: 42314 | B12: 0.8240162 | C12: 6629 | D12: 3 | E12: 41 | F12: 309 | G12: 307 | H12: 443 | I12: 477 | J12: 106 | K12: 88 | L12: 307 | M12: 280 | N12: 249 | O12: 319 | P12: 206 | Q12: 0 | R12: 0 | S12: 335 | T12: 892 | U12: 39 | V12: 2 | W12: 10
A13: 42314 | B13: 0.82471065 | C13: 6629 | D13: 3 | E13: 42 | F13: 308 | G13: 307 | H13: 442 | I13: 477 | J13: 108 | K13: 88 | L13: 306 | M13: 280 | N13: 249 | O13: 317 | P13: 205 | Q13: 0 | R13: 0 | S13: 335 | T13: 875 | U13: 39 | V13: 2 | W13: 10
A14: 42314 | B14: 0.82540509 | C14: 6629 | D14: 3 | E14: 42 | F14: 307 | G14: 307 | H14: 442 | I14: 477 | J14: 108 | K14: 89 | L14: 306 | M14: 280 | N14: 248 | O14: 316 | P14: 205 | Q14: 0 | R14: 0 | S14: 335 | T14: 857 | U14: 39 | V14: 2 | W14: 10
... A804: 42315 | B804: 0.37420139 | C804: 6629 | D804: 3 | E804: 73 | F804: 345 | G804: 278 | H804: 429 | I804: 477 | J804: 48 | K804: 9 | L804: 345 | M804: 646 | N804: 59 | O804: 327 | P804: 207 | Q804: 0 | R804: 0 | S804: 301 | T804: -571 | U804: 49 | V804: 7 | W804: 30
