Workbook

Sheet Beräkningsblad
F1: Funktionsanalys
A2: R290 | G2: Noteringar
G7: Använd relevanta värden och mätningar!
A8: Köldmedium: | C8: R290
A9: FALSE | C9: L1 | D9: L2 | E9: L3 | G9: Cos j med i beräkning för tillförd el. effekt (E13).
B10: Spänning | C10: 400 | D10: 400 | E10: 400 | F10: Cos j | G10: 0.7 | I10: Entalpi
B11: Kompressorström | C11: 4.04 | D11: 4.04 | E11: 4.04 | I11: kJ / kg köldmedium
A12: =IF(A9,'Blad2 '!E1,'Blad2 '!E2) -> 3 phas | I12: i massflöde
D13: =IF(A9,'Blad2 '!E4,'Blad2 '!E5) -> Elektrisk effekt 3 phas | E13: =IF(A9,'Blad2 '!J4,'Blad2 '!J5) -> 1.9592959 | F13: kW = kJ / sekund e | I13: Vätska | J13: Gas
B14: Sugtryck Lp | C14: 3.24 | D14: bar(e) | E14: =IF(C14<>'Blad2 '!A10,C14+1,"") -> 4.24 | F14: bar(a)
D15: Förångningstemperatur | E15: =IF(C14<>'Blad2 '!A10,VLOOKUP(E14,Blad3!A6:G245,3),"") -> -4 | F15: ºC | J15: =IF(C14<>'Blad2 '!A10,VLOOKUP(E14,Blad3!A6:G245,7),"") -> 570.13
D16: Vätsketemperatur | E16: =IF(C14<>'Blad2 '!A10,VLOOKUP(E14,Blad3!A6:G245,2),"") -> -4 | F16: ºC | I16: =IF(C14<>'Blad2 '!A10,VLOOKUP(E14,Blad3!A6:G110,6),"") -> 190.07
B17: Högtryck Hp | C17: 18 | D17: bar(e) | E17: =IF(C17>0,C17+1,"") -> 19 | F17: bar(a)
D18: Gastemperatur | E18: =IF(C17>0,VLOOKUP(E17,Blad3!A6:G245,3),"") -> 50 | F18: ºC | J18: =IF(C17>0,VLOOKUP(E17,Blad3!A6:G245,7),"") -> 622.18
D19: Kondenseringstemperatur | E19: =IF(C17>0,VLOOKUP(E17,Blad3!A6:G245,2),"") -> 50 | F19: ºC | I19: =IF(C17>0,VLOOKUP(E17,Blad3!A6:G245,6),"") -> 337.99
B20: Kompressor | D20: tryckrörstemperatur | E20: 76 | F20: ºC d | G20: =IF(E20<>'Blad2 '!A10,IF(C17<>'Blad2 '!A10,"",'Blad2 '!A13),"") | J20: =IF(C17>0,IF(E20>0,IF(E20>E18,J18+(VLOOKUP(E17,Blad3!A6:H245,8)*(E20-E18)),J18),""),"") -> 684.51314
A21: Hetgasväxlare | D21: inloppstemperatur | E21: 76 | F21: ºC | G21: =IF(E21>0,IF(C17<>'Blad2 '!A10,IF(E20>0,IF(E21>E20,'Blad2 '!E9,""),'Blad2 '!H7),'Blad2 '!A13),"") | J21: =IF(C17>0,IF(E21>0,IF(E21>E18,J18+(VLOOKUP(E17,Blad3!A6:H245,8)*(E21-E18)),J18),""),"") -> 684.51314
D22: utloppstemperatur | E22: 76 | F22: ºC | G22: =IF(E22<>'Blad2 '!A10,IF(C17<>'Blad2 '!A10,IF(E21<>'Blad2 '!A10,IF(E22<=E21,IF(E22<E19,'Blad2 '!A8,""),'Blad2 '!E9),'Blad2 '!E11),'Blad2 '!A13),"") | I22: =IF(C17>0,IF(E22>0,IF(E22<E19,IF(E22>E18,J18+(VLOOKUP(E17,Blad3!A6:I245,9)*(E22-E18)),IF(E22>E19,VLOOKUP(E22,Blad3!C6:G245,5),VLOOKUP(E22,Blad3!B6:F245,5))),""),""),"") | J22: =IF(C17>0,IF(E22>0,IF(E22>=E18,J18+(VLOOKUP(E17,Blad3!A6:H245,8)*(E22-E18)),VLOOKUP(E22,Blad3!B6:F245,5)),""),"") -> 684.51314
D23: avgiven entalpi | E23: =IF(C17>0,IF(E20>0,IF(E21>0,IF(E22>0,J21-J22,""),""),""),"") -> 0 | F23: kJ / kg
A24: Kondensor | D24: inloppstemperatur | E24: 76 | F24: ºC | G24: =IF(E24>0, IF(E20>0, IF(E24<=E20, IF(E24>=E19, IF(E21<>'Blad2 '!A10, IF(E22<>'Blad2 '!A10, IF(E24<=E22,IF(E24<E19,'Blad2 '!A8,""), 'Blad2 '!E9),'Blad2 '!H11),""), 'Blad2 '!A8),'Blad2 '!E9), 'Blad2 '!H7), "") | I24: =IF(C17>0,IF(E24>0,IF(E24<E19,IF(E24>E18,J18+(VLOOKUP(E17,Blad3!A6:I245,9)*(E24-E18)),IF(E24>E19,VLOOKUP(E22,Blad3!C6:G245,5),VLOOKUP(E24,Blad3!B6:F245,5))),""),""),"") | J24: =IF(C17>0,IF(E24>0,IF(E24>=E18,J18+(VLOOKUP(E17,Blad3!A6:H245,8)*(E24-E18)),VLOOKUP(E24,Blad3!B6:G245,5)),""),"") -> 684.51314
D25: utloppstemperatur | E25: 44 | F25: ºC | G25: =IF(E25>0,IF(E24>0,IF(E25>E19,IF(E24<>'Blad2 '!A10,IF(E25>E24,'Blad2 '!H14,'Blad2 '!E15),""),""),'Blad2 '!E11),"") | I25: =IF(C$17>0,IF(E25>0,IF(E25>E$18,J$18+(VLOOKUP(E$17,Blad3!A$6:I$245,8)*(E25-E$18)),IF(E25>E$19,VLOOKUP(E25,Blad3!C$6:G$245,5),VLOOKUP(E25,Blad3!B$6:F$245,5))),""),"") -> 319.77 | J25: =IF(C14<>'Blad2 '!A10,IF(C17<>'Blad2 '!A10,IF(E24<>'Blad2 '!A10,IF(E25>E19,I25,""),""),""),"")
D26: underkylning | E26: =IF(C17>0,IF(E24>0,IF(E25<>'Blad2 '!A10,IF(E25<=E19,E19-E25,""),""),""),"") -> 6 | F26: K
D27: avgiven entalpi | E27: =IF(C17>0,IF(E24>0,IF(E25>0,J24-I25,""),""),"") -> 364.74314 | F27: kJ / kg
A28: Underkylare | D28: inloppstemperatur | E28: 44 | F28: ºC | G28: =IF(E28<>'Blad2 '!A$10,IF(E$25<>'Blad2 '!A$10,IF(E28<=E19,IF(E28<=E$25,"",'Blad2 '!E$9),'Blad2 '!E9),'Blad2 '!H15),"") | I28: =IF(C$17>0,IF(E28>0,IF(E28>E$18,J$18+(VLOOKUP(E$17,Blad3!A$6:I$245,8)*(E28-E$18)),IF(E28>E$19,VLOOKUP(E28,Blad3!C$6:G$245,5),VLOOKUP(E28,Blad3!B$6:F$245,5))),""),"") -> 319.77
D29: utloppstemperatur | E29: 44 | F29: ºC | G29: =IF(E29<>'Blad2 '!A$10,IF(E$25<>'Blad2 '!A$10,IF(E28<>'Blad2 '!A10,IF(E29<=E$28,"",'Blad2 '!E$9),'Blad2 '!E11),""),"") | I29: =IF(C$17>0,IF(E29>0,IF(E29>E$18,J$18+(VLOOKUP(E$17,Blad3!A$6:I$245,8)*(E29-E$18)),IF(E29>E$19,VLOOKUP(E29,Blad3!C$6:G$245,5),VLOOKUP(E29,Blad3!B$6:F$245,5))),""),"") -> 319.77
D30: underkylning | E30: =IF(C14<>'Blad2 '!A10,IF(C17<>'Blad2 '!A10,IF(E28<>'Blad2 '!A10,IF(E29<>'Blad2 '!A10,IF(E29<=E28,E28-E29,""),""),""),""),"") -> 0 | F30: K
D31: avgiven entalpi | E31: =IF(C14<>'Blad2 '!A10,IF(C17<>'Blad2 '!A10,IF(E28<>'Blad2 '!A10,IF(E29<>'Blad2 '!A10,IF(E29<=E28,I28-I29,""),""),""),""),"") -> 0 | F31: kJ / kg
A32: Vätsketemp. | D32: inlopp | E32: 44 | F32: ºC | G32: =IF(E32<>'Blad2 '!A10,IF(E25<>'Blad2 '!A10,IF(E32>E19,'Blad2 '!E9,IF(E32>E25,'Blad2 '!$E$9,IF(E28<>'Blad2 '!A10,IF(E32<=E28,IF(E29<>'Blad2 '!A10,IF(E32<=E29,"",'Blad2 '!E9),'Blad2 '!H16),'Blad2 '!E9),""))),'Blad2 '!H15),"") | I32: =IF(C17>0,IF(E32>0,IF(E32>E19,VLOOKUP(E32,Blad3!C6:G245,5),VLOOKUP(E32,Blad3!B6:F245,5)),""),"") -> 319.77
A33: Suggasväxlare | D33: utlopp | E33: 41.6 | F33: ºC | G33: =IF(E33<>'Blad2 '!A10,IF(E32<>'Blad2 '!A10,IF(E25<>'Blad2 '!A10,IF(E33>E25,'Blad2 '!$E$9,IF(E33>E32,'Blad2 '!E9,"")),'Blad2 '!H15),'Blad2 '!E11),"") | I33: =IF(C17>0,IF(E33>0,IF(E33>E19,VLOOKUP(E33,Blad3!C6:G245,5),VLOOKUP(E33,Blad3!B6:F245,5)),""),"") -> 310.85
D34: underkylning | E34: =IF(C17>0,IF(E32<>'Blad2 '!A10,IF(E33<>'Blad2 '!A10,IF(E33<=E32,E32-E33,""),""),""),"") -> 2.4 | F34: K
D35: Entalpi överfört till suggasen | E35: =IF(C17>0,IF(E32<>'Blad2 '!A10,IF(E33<>'Blad2 '!A10,IF(E33<=E32,I32-I33,""),""),""),"") -> 8.92 | F35: kJ / kg (jmf. E 44)
A36: Expansionsdon | D36: vätsketemperatur | E36: 41.6 | F36: ºC a , b | G36: =IF(E36<>'Blad2 '!A10,IF(E36>E25,'Blad2 '!E9,IF(E32<>'Blad2 '!A10,IF(E36>E32,'Blad2 '!E9,IF(E33<>'Blad2 '!A10,IF(E36>E33,'Blad2 '!E9,""),"")),"")),"") | I36: =IF(C17>0,IF(E36>0,VLOOKUP(E36,Blad3!B6:F245,5),""),"") -> 310.85
D37: Total underkylning av köldmedievätskan | E37: =IF(C17>0,IF(E19<>'Blad2 '!A10,IF(E36<>'Blad2 '!A10,IF(E36<=E19,E19-E36,""),""),""),"") -> 8.4 | F37: K
A38: Förångare | D38: utloppstemperatur | E38: 3.7 | F38: ºC | G38: =IF(E38<>'Blad2 '!A10,IF(E38<E15,'Blad2 '!H9,""),"") | J38: =IF($C$17>0,IF($E$38<>'Blad2 '!$A$10,(VLOOKUP($E$14,Blad3!$A$6:$G$245,7)+(VLOOKUP($E$14,Blad3!$A$6:$H$245,8)*($E$38-$E$15))),""),"") -> 585.07483
D39: överhettning | E39: =IF(C17>0,IF(E38<>'Blad2 '!A10,IF(E15<>'Blad2 '!A10,IF(E38>=E15,E38-E15,""),""),""),"") -> 7.7 | F39: K
D40: upptagen entalpi | E40: =IF(C17>0,IF(E38<>'Blad2 '!A10,IF(E36<>'Blad2 '!A10,J38-I36,""),""),"") -> 274.22483 | F40: kJ / kg
A41: Suggasväxlare | C41: Gastemp. | D41: Inlopp | E41: 3.7 | F41: ºC | G41: =IF(E41<>'Blad2 '!A10,IF(E41<E15,'Blad2 '!$H$9,IF(E41<E38,'Blad2 '!$H$9,"")),"") | J41: =IF(C17>0,IF(E41<>'Blad2 '!A10,(VLOOKUP(E14,Blad3!A6:G245,7)+(VLOOKUP(E14,Blad3!A6:H245,8)*(E41-E15))),""),"") -> 585.07483
D42: utlopp | E42: 6.9 | F42: ºC | G42: =IF(E42<>'Blad2 '!A10,IF(E42<E38,'Blad2 '!$H$9,IF(E42<E41,'Blad2 '!$H$9,IF(E41='Blad2 '!A10,'Blad2 '!E11,""))),"") | J42: =IF(C17>0,IF(E42<>'Blad2 '!A10,(VLOOKUP(E14,Blad3!A6:G245,7)+(VLOOKUP(E14,Blad3!A6:H245,8)*(E42-E15))),""),"") -> 591.28567
D43: Överhettning | E43: =IF(C17>0,IF(E42<>'Blad2 '!A10,IF(E41<>'Blad2 '!A10,IF(E42>=E41,E42-E41,""),""),""),"") -> 3.2 | F43: K
D44: upptagen entalpi | E44: =IF(C17>0,IF(E42<>'Blad2 '!A10,IF(E41<>'Blad2 '!A10,IF(E42>=E41,J42-J41,""),""),""),"") -> 6.2108387 | F44: kJ / kg (jmf. E 35)
...

Sheet Diagram
B2: Köldmedium: | D2: =Beräkningsblad!C8 -> R290
F3: =Beräkningsblad!G3 -> 0
C4: =Beräkningsblad!G2 -> Noteringar | F4: =Beräkningsblad!G5 -> 0
C5: L1 | D5: L2 | E5: L3
B6: Spänning | C6: =Beräkningsblad!C10 -> 400 | D6: =Beräkningsblad!D10 -> 400 | E6: =Beräkningsblad!E10 -> 400 | F6: V | G6: Cos j | H6: =Beräkningsblad!G10 -> 0.7
B8: Ström | C8: =Beräkningsblad!C11 -> 4.04 | D8: =Beräkningsblad!D11 -> 4.04 | E8: =Beräkningsblad!E11 -> 4.04 | F8: A | G8: h | H8: =Beräkningsblad!I54 -> 0.66133501
B10: Hp | C10: =Beräkningsblad!C17 -> 18 | D10: bar (e) | F10: Kondensor inlopp | H10: =Beräkningsblad!E24 -> 76 | I10: °C
B12: Lp | C12: =Beräkningsblad!C14 -> 3.24 | D12: bar (e) | F12: Kondensor utlopp | H12: =Beräkningsblad!E25 -> 44 | I12: °C
B14: Hetgas | C14: =Beräkningsblad!E20 -> 76 | D14: °C | G14: Suggasvx. Vätska inlopp | H14: =Beräkningsblad!E32 -> 44 | I14: °C
B16: Suggas | C16: =Beräkningsblad!E45 -> 6.9 | D16: °C | G16: Suggasvx. Vätska utlopp | H16: =Beräkningsblad!E33 -> 41.6 | I16: °C
B18: Hetgasvx.inlopp | C18: =Beräkningsblad!E21 -> 76 | D18: °C | G18: Suggasvx.Gas inlopp | H18: =Beräkningsblad!E41 -> 3.7 | I18: °C
B20: Hetgasvx.utlopp | C20: =Beräkningsblad!E22 -> 76 | D20: °C | G20: Suggasvx.Gas utlopp | H20: =Beräkningsblad!E42 -> 6.9 | I20: °C
B22: Strypdon Vätska | C22: =Beräkningsblad!E36 -> 41.6 | D22: °C | F22: Förångare Gas utlopp | H22: =Beräkningsblad!E38 -> 3.7 | I22: °C
A24: Hp 100% kondensat | G24: Hp | H24: =Beräkningsblad!E18 -> 50 | I24: °C
A25: =Beräkningsblad!E19 -> 50 | B25: °C | G25: 100% gas | H25: =Beräkningsblad!E17 -> 19 | I25: bar (a)
A26: =Beräkningsblad!E17 -> 19 | B26: bar (a) | H26: =Beräkningsblad!J18 -> 622.18 | I26: kJ/kg
A27: =Beräkningsblad!I19 -> 337.99 | B27: kJ/kg
A28: Underkylning | G28: Hetgaspunkt | H28: =Beräkningsblad!E20 -> 76 | I28: °C
A29: =Beräkningsblad!E37 -> 8.4 | B29: °K | H29: =Beräkningsblad!J20 -> 684.51314 | I29: kJ/kg
A30: =Beräkningsblad!E36 -> 41.6 | B30: °C
A31: =Beräkningsblad!I36 -> 310.85 | B31: kJ/kg | G31: Hetg.vx.ut | H31: =Beräkningsblad!E22 -> 76 | I31: °C
A32: Strypdonets | G32: Kond. In | H32: =Beräkningsblad!E24 -> 76
A33: entalpi
G34: Suggasp. | H34: =Beräkningsblad!E45 -> 6.9 | I34: °C
H35: =Beräkningsblad!J45 -> 591.28567 | I35: kJ/kg
A36: Lp | G36: Överhettning | H36: =Beräkningsblad!E46 -> 10.9 | I36: °K
A37: =Beräkningsblad!E14 -> 4.24 | B37: bar (a) | G37: Lp | H37: =Beräkningsblad!E15 -> -4 | I37: °C
G38: 100% gas | H38: =Beräkningsblad!J15 -> 570.13 | I38: kJ/kg
A40: COP v = | B40: =H29 -> 684.51314 | C40: - | D40: =A31 -> 310.85 | E40: * isent. | F40: =(B40-D40)/(B41-D41)*'Blad2 '!F42 -> 2.6506834 | H40: Tillförd el effekt
B41: =H29 -> 684.51314 | C41: - | D41: =H35 -> 591.28567 | E41: verkng. = | H41: =Beräkningsblad!E50 -> 1.9592959 | I41: kW
A43: COP k = | B43: =H35 -> 591.28567 | C43: - | D43: =A31 -> 310.85 | E43: * isent. | F43: =(B43-D43)/(B44-D44)*'Blad2 '!F42 -> 1.9893484 | H43: Avgiven effekt
B44: =H29 -> 684.51314 | C44: - | D44: =H35 -> 591.28567 | E44: verkng. = | H44: =Beräkningsblad!E54 -> 5.0694957 | I44: kW
H47: Energivinst | I47: =Beräkningsblad!J51 -> 2.5874069

Sheet Blad2 
A1: Medelspänning | C1: M.ström | E1: 1 phas är markerat. Ange spänning och ström under L1
A2: phas 1 | B2: =Beräkningsblad!C10 -> 400 | C2: =Beräkningsblad!C11 -> 4.04 | E2: 3 phas
A3: phas 2 | B3: =Beräkningsblad!D10 -> 400 | C3: =Beräkningsblad!D11 -> 4.04
A4: phas 3 | B4: =Beräkningsblad!E10 -> 400 | C4: =Beräkningsblad!E11 -> 4.04 | E4: Elektrisk effekt 1 phas | H4: =Beräkningsblad!C10*Beräkningsblad!C11*Beräkningsblad!G10/1000 -> 1.1312 | J4: =IF(Beräkningsblad!C10>0,IF(Beräkningsblad!C11>0,IF(Beräkningsblad!G10>0,(Beräkningsblad!C10*Beräkningsblad!C11*Beräkningsblad!G10/1000),""),""),"") -> 1.1312
A5: summa | B5: =SUM(B2:B4) -> 1200 | C5: =SUM(C2:C4) -> 12.12 | E5: Elektrisk effekt 3 phas | H5: =B6*C6*Beräkningsblad!G10*SQRT(3)/1000 -> 1.9592959 | J5: =IF(Beräkningsblad!C10>0,IF(Beräkningsblad!D10>0,IF(Beräkningsblad!E10>0,IF(Beräkningsblad!C11>0,IF(Beräkningsblad!D11>0,IF(Beräkningsblad!E11>0,IF(Beräkningsblad!G10>0,(B6*C6*Beräkningsblad!G10*SQRT(3)/1000),""),""),""),""),""),""),"") -> 1.9592959
A6: summa /3 | B6: =B5/3 -> 400 | C6: =C5/3 -> 4.04
E7: Högt tryck angivet | H7: Ingen tryckrörstemp.
A8: KONDENSERING
E9: Hög temperatur | H9: Låg temperatur
A10: =("") | B10: A10 = tom cell
A11: 1 | E11: Ingen inloppstemp. | H11: Hetgasvx.
A12: 0
A13: Inget högtryck angivet | E13: Kont.hetgasväxlaretemp.
H14: Inlopp låg temp.
A15: =Beräkningsblad!E23 -> 0 | B15: hetgasvx. | E15: Ingen kondensering | H15: Kont. Kondensor
A16: =Beräkningsblad!E27 -> 364.74314 | B16: kond. | H16: Kont. Underkylare
A17: =Beräkningsblad!E31 -> 0 | B17: und.kyl | E17: s kurva | F17: idealisk kompression
A18: =SUM(A16,A15) -> 364.74314 | B18: summa
A19: =Beräkningsblad!E47 -> 0.01389881 | B19: massfl. | E19: Lp | F19: =Beräkningsblad!E14 -> 4.24 | G19: (bar a)
A20: =A19*A18 -> 5.0694957 | B20: avg.eff. | E20: förång.temp | F20: =Beräkningsblad!E15 -> -4 | G20: ºC
E21: s kurva | F21: =VLOOKUP(F19,Blad3!A6:J121,10) -> 1
A22: Kont.temp | E22: multiplikator | F22: =VLOOKUP(F19,Blad3!A6:M121,13) -> 0.071538462
E23: överhettning | F23: =Beräkningsblad!E45-Beräkningsblad!E15 -> 10.9 | G23: K | H23: entalpi | I23: =Beräkningsblad!J45 -> 591.28567
A24: =Beräkningsblad!E51 -> 0 | B24: hetgas | E24: beräknad s kurva | G24: =F21+(F23*F22) -> 1.7797692
A25: =Beräkningsblad!E52 -> 5.0694957 | B25: kond
A26: =Beräkningsblad!E53 -> 0 | B26: und.k
A27: =SUM(A24:A26) -> 5.0694957 | B27: summa | E27: s kurva
E29: Hp | F29: =Beräkningsblad!E17 -> 19 | G29: (bar a)
E30: förå.temp | F30: =Beräkningsblad!E18 -> 50 | G30: °C
E31: s kurva | F31: =VLOOKUP(F29,Blad3!A6:J121,10) -> 0.98 | H31: entalpi | I31: =Beräkningsblad!J18 -> 622.18
E32: hetgas | F32: =Beräkningsblad!E20 -> 76 | G32: ºC | H32: entalpi | I32: =Beräkningsblad!J20 -> 684.51314
E33: överhettning | F33: =F32-Beräkningsblad!E18 -> 26 | G33: K | H33: differens | I33: =I32-I31 -> 62.333143
E34: multplikator | F34: =VLOOKUP(F29,Blad3!A6:M121,13) -> 0.062333333
E35: beräknad s kurva | G35: =F31+(F34*F33) -> 2.6006667
E36: s kurveändring | G36: =G35-F31 -> 1.6206667
E37: entalpi vid s kurvan | G37: =G24 -> 1.7797692 | I37: =I31+((G37-F31)/G36*I33) -> 652.94026
E38: teoretisk hetgas | G38: =F30+((G24-F31)*F33/G36) -> 62.830522
E40: Isentropisk verkningsgrad
F41: entalpi
E42: h | F42: =(I37-I23)/(I32-I23) -> 0.66133501

Sheet Blad3
A1: köldm. | B1: Temperatur | D1: Specifik volym | F1: Specifik entalpi | I1: Specifik | K1: sugrör
A2: R290 | B2: vätska | C2: ånga | D2: vätska | E2: ånga | F2: vätska | G2: ånga | H2: 120 | I2: entalpi | J2: entropisk | K2: temperatur
A3: Tryck | B3: t,BP | C3: t,DP | D3: VBP | E3: VDP | F3: h,BP | G3: h,BP | I3: Hetgas | J3: kompression | K3: överhettning
A4: abs | B4: C° | C4: C° | D4: m³ / kg | E4: m³ / kg | F4: kJ / kg | G4: kJ / kg | H4: multiplikator | I4: högst | K4: max 30 K | L4: överhettning | M4: multiplikator
A5: bar(a) | D5: *1/1000 | H5: hetgas | I5: 120°C | J5: s kurva | K5: ºC | L5: s kurva | M5: s kurva
A6: 0.71 | B6: -50 | C6: -50 | F6: 84.49 | G6: 518.14 | H6: =((I6-G6)/($H$2-C6)) -> 1.7756471 | I6: 820 | J6: 1 | K6: =(C6+30) -> -20 | L6: 3.5 | M6: =(L6-J6)/30 -> 0.083333333
A7: 0.74 | B7: -49 | C7: -49 | F7: 86.63 | G7: 519.26 | H7: =((I7-G7)/($H$2-C7)) -> 1.7795266 | I7: 820 | J7: 1 | K7: =(C7+30) -> -19 | L7: 3.4923077 | M7: =(L7-J7)/30 -> 0.083076923
A8: 0.77 | B8: -48 | C8: -48 | F8: 88.78 | G8: 520.39 | H8: =((I8-G8)/($H$2-C8)) -> 1.7833929 | I8: 820 | J8: 1 | K8: =(C8+30) -> -18 | L8: 3.4846154 | M8: =(L8-J8)/30 -> 0.082820513
A9: 0.81 | B9: -47 | C9: -47 | F9: 90.94 | G9: 521.52 | H9: =((I9-G9)/($H$2-C9)) -> 1.7873054 | I9: 820 | J9: 1 | K9: =(C9+30) -> -17 | L9: 3.4769231 | M9: =(L9-J9)/30 -> 0.082564103
A10: 0.85 | B10: -46 | C10: -46 | F10: 93.1 | G10: 522.65 | H10: =((I10-G10)/($H$2-C10)) -> 1.7912651 | I10: 820 | J10: 1 | K10: =(C10+30) -> -16 | L10: 3.4692308 | M10: =(L10-J10)/30 -> 0.082307692
A11: 0.89 | B11: -45 | C11: -45 | F11: 95.27 | G11: 523.77 | H11: =((I11-G11)/($H$2-C11)) -> 1.7953333 | I11: 820 | J11: 1 | K11: =(C11+30) -> -15 | L11: 3.4615385 | M11: =(L11-J11)/30 -> 0.082051282
A12: 0.93 | B12: -44 | C12: -44 | F12: 97.5 | G12: 524.91 | H12: =((I12-G12)/($H$2-C12)) -> 1.7993293 | I12: 820 | J12: 1 | K12: =(C12+30) -> -14 | L12: 3.4538462 | M12: =(L12-J12)/30 -> 0.081794872
A13: 0.97 | B13: -43 | C13: -43 | F13: 99.63 | G13: 526.04 | H13: =((I13-G13)/($H$2-C13)) -> 1.8034356 | I13: 820 | J13: 1 | K13: =(C13+30) -> -13 | L13: 3.4461538 | M13: =(L13-J13)/30 -> 0.081538462
A14: 1.02 | B14: -42 | C14: -42 | F14: 101.82 | G14: 527.17 | H14: =((I14-G14)/($H$2-C14)) -> 1.8075926 | I14: 820 | J14: 1 | K14: =(C14+30) -> -12 | L14: 3.4384615 | M14: =(L14-J14)/30 -> 0.081282051
A15: 1.06 | B15: -41 | C15: -41 | F15: 104.01 | G15: 528.3 | H15: =((I15-G15)/($H$2-C15)) -> 1.8099744 | I15: 819.70588 | J15: 1 | K15: =(C15+30) -> -11 | L15: 3.4307692 | M15: =(L15-J15)/30 -> 0.081025641
A16: 1.11 | B16: -40 | C16: -40 | F16: 106.21 | G16: 529.44 | H16: =((I16-G16)/($H$2-C16)) -> 1.8123235 | I16: 819.41176 | J16: 1 | K16: =(C16+30) -> -10 | L16: 3.4230769 | M16: =(L16-J16)/30 -> 0.080769231
A17: 1.16 | B17: -39 | C17: -39 | F17: 108.42 | G17: 530.57 | H17: =((I17-G17)/($H$2-C17)) -> 1.8147651 | I17: 819.11765 | J17: 1 | K17: =(C17+30) -> -9 | L17: 3.4153846 | M17: =(L17-J17)/30 -> 0.080512821
... A106: 17.13 | B106: 50 | C106: 50 | F106: 337.99 | G106: 622.18 | H106: =((I106-G106)/($H$2-C106)) -> 2.3974286 | I106: 790 | J106: 0.98 | K106: =(C106+30) -> 80 | L106: 2.85 | M106: =(L106-J106)/30 -> 0.062333333
A111: 19.07
