Workbook

Sheet 24 jan rådata
A1: Divisors | C1: 1 | D1: 10 | E1: 10 | F1: 10 | G1: 10 | H1: 10 | I1: 10 | J1: 10 | K1: 10 | L1: 1 | M1: 1 | N1: 10 | O1: 10 | P1: 10 | Q1: 100 | R1: 1 | S1: 10 | T1: 10
A2: Date | B2: Time | C2: Version | D2: BT1 | E2: BT1 Mean | F2: BT2 | G2: BT3 | H2: BT10 | I2: BT11 | J2: Calc Supply | K2: GM | L2: Alarm | M2: RELAYS PCA BASE | N2: BT12 | O2: BT14 | P2: BT17 | Q2: Tot.int.add. | R2: Prio | S2: BT6 | T2: BT50
A3: 41663 | B3: 0.92517361 | C3: 1199 | D3: -31 | E3: -31 | F3: 457 | G3: 459 | H3: 41 | I3: 82 | J3: 575 | K3: -2792 | L3: 162 | M3: 2 | N3: 459 | O3: 581 | P3: 320 | Q3: 0 | R3: 10 | S3: 441 | T3: 214
A4: 41663 | B4: 0.92586806 | C4: 1199 | D4: -31 | E4: -31 | F4: 458 | G4: 458 | H4: 43 | I4: 83 | J4: 575 | K4: -2910 | L4: 162 | M4: 2 | N4: 459 | O4: 560 | P4: 334 | Q4: 0 | R4: 10 | S4: 441 | T4: 214
A5: 41663 | B5: 0.9265625 | C5: 1199 | D5: -31 | E5: -31 | F5: 458 | G5: 456 | H5: 44 | I5: 82 | J5: 575 | K5: -3027 | L5: 162 | M5: 2 | N5: 459 | O5: 543 | P5: 343 | Q5: 0 | R5: 10 | S5: 441 | T5: 214
A6: 41663 | B6: 0.92725694 | C6: 1199 | D6: -31 | E6: -31 | F6: 457 | G6: 453 | H6: 46 | I6: 79 | J6: 575 | K6: -3144 | L6: 162 | M6: 2 | N6: 458 | O6: 527 | P6: 350 | Q6: 0 | R6: 10 | S6: 441 | T6: 214
A7: 41663 | B7: 0.92795139 | C7: 1199 | D7: -31 | E7: -31 | F7: 455 | G7: 451 | H7: 47 | I7: 76 | J7: 575 | K7: -3264 | L7: 162 | M7: 2 | N7: 455 | O7: 516 | P7: 354 | Q7: 0 | R7: 10 | S7: 440 | T7: 214
A8: 41663 | B8: 0.92864583 | C8: 1199 | D8: -31 | E8: -31 | F8: 452 | G8: 448 | H8: 49 | I8: 73 | J8: 575 | K8: -3386 | L8: 162 | M8: 2 | N8: 453 | O8: 505 | P8: 357 | Q8: 0 | R8: 10 | S8: 440 | T8: 214
A9: 41663 | B9: 0.92934028 | C9: 1199 | D9: -31 | E9: -31 | F9: 450 | G9: 445 | H9: 50 | I9: 71 | J9: 575 | K9: -3510 | L9: 162 | M9: 2 | N9: 450 | O9: 496 | P9: 358 | Q9: 0 | R9: 10 | S9: 440 | T9: 214
A10: 41663 | B10: 0.93003472 | C10: 1199 | D10: -31 | E10: -31 | F10: 447 | G10: 442 | H10: 52 | I10: 69 | J10: 575 | K10: -3637 | L10: 162 | M10: 2 | N10: 448 | O10: 489 | P10: 359 | Q10: 0 | R10: 10 | S10: 440 | T10: 214
A11: 41663 | B11: 0.93072917 | C11: 1199 | D11: -30 | E11: -31 | F11: 445 | G11: 440 | H11: 52 | I11: 69 | J11: 574 | K11: -3767 | L11: 162 | M11: 2 | N11: 445 | O11: 481 | P11: 359 | Q11: 0 | R11: 10 | S11: 440 | T11: 214
A12: 41663 | B12: 0.93142361 | C12: 1199 | D12: -31 | E12: -31 | F12: 442 | G12: 437 | H12: 53 | I12: 68 | J12: 575 | K12: -3898 | L12: 162 | M12: 2 | N12: 442 | O12: 475 | P12: 359 | Q12: 0 | R12: 10 | S12: 439 | T12: 214
A13: 41663 | B13: 0.93211806 | C13: 1199 | D13: -31 | E13: -31 | F13: 439 | G13: 435 | H13: 53 | I13: 66 | J13: 575 | K13: -3898 | L13: 0 | M13: 2 | N13: 439 | O13: 470 | P13: 358 | Q13: 0 | R13: 30 | S13: 439 | T13: 214
A14: 41663 | B14: 0.9328125 | C14: 1199 | D14: -30 | E14: -31 | F14: 436 | G14: 432 | H14: 53 | I14: 66 | J14: 574 | K14: -3898 | L14: 0 | M14: 2 | N14: 436 | O14: 465 | P14: 358 | Q14: 0 | R14: 30 | S14: 439 | T14: 214
... A1442: 41664 | B1442: 0.92471065 | C1442: 1199 | D1442: -44 | E1442: -38 | F1442: 606 | G1442: 471 | H1442: 26 | I1442: 6 | J1442: 560 | K1442: -79 | L1442: 0 | M1442: 7 | N1442: 618 | O1442: 919 | P1442: 59 | Q1442: 0 | R1442: 30 | S1442: 419 | T1442: 209

Sheet 24 jan
A1: Divisors | C1: 1 | D1: Utetemp | E1: 10 | F1: 10 | G1: 10 | H1: KB in | I1: KB ut | J1: 10 | K1: Gradmin. | L1: 1 | M1: RELAYS PCA BASE | N1: 10 | O1: 10 | P1: 10 | Q1: 100 | R1: 1 | S1: 10 | T1: 10 | V1: BT1 Mean Ute medel
A2: Date | B2: Time | C2: Version | D2: BT1 | E2: BT1 Mean | F2: BT2 | G2: BT3 | H2: BT10 | I2: BT11 | J2: Calc Supply | K2: GM | L2: Alarm | M2: RELAYS PCA BASE | N2: BT12 | O2: BT14 | P2: BT17 | Q2: Tot.int.add. | R2: Prio | S2: BT6 | T2: BT50 | V2: BT1 Average Ute medel
A3: 41663 | B3: 0.92517361 | C3: 1199 | D3: ='24 jan rådata'!D3/10 -> -3.1 | E3: ='24 jan rådata'!E3/10 -> -3.1 | F3: ='24 jan rådata'!F3/10 -> 45.7 | G3: ='24 jan rådata'!G3/10 -> 45.9 | H3: ='24 jan rådata'!H3/10 -> 4.1 | I3: ='24 jan rådata'!I3/10 -> 8.2 | J3: ='24 jan rådata'!J3/10 -> 57.5 | K3: ='24 jan rådata'!K3/10 -> -279.2 | ... T3: ='24 jan rådata'!T3/10 -> 21.4 | V3: BT2 VB fram
A4: 41663 | B4: 0.92586806 | C4: 1199 | D4: ='24 jan rådata'!D4/10 -> -3.1 | E4: ='24 jan rådata'!E4/10 -> -3.1 | F4: ='24 jan rådata'!F4/10 -> 45.8 | G4: ='24 jan rådata'!G4/10 -> 45.8 | H4: ='24 jan rådata'!H4/10 -> 4.3 | I4: ='24 jan rådata'!I4/10 -> 8.3 | J4: ='24 jan rådata'!J4/10 -> 57.5 | K4: ='24 jan rådata'!K4/10 -> -291 | ... T4: ='24 jan rådata'!T4/10 -> 21.4 | V4: BT3 VB retur
A5: 41663 | B5: 0.9265625 | C5: 1199 | D5: ='24 jan rådata'!D5/10 -> -3.1 | E5: ='24 jan rådata'!E5/10 -> -3.1 | F5: ='24 jan rådata'!F5/10 -> 45.8 | G5: ='24 jan rådata'!G5/10 -> 45.6 | H5: ='24 jan rådata'!H5/10 -> 4.4 | I5: ='24 jan rådata'!I5/10 -> 8.2 | J5: ='24 jan rådata'!J5/10 -> 57.5 | K5: ='24 jan rådata'!K5/10 -> -302.7 | ... T5: ='24 jan rådata'!T5/10 -> 21.4 | V5: BT6 Varmvatten styrande
A6: 41663 | B6: 0.92725694 | C6: 1199 | D6: ='24 jan rådata'!D6/10 -> -3.1 | E6: ='24 jan rådata'!E6/10 -> -3.1 | F6: ='24 jan rådata'!F6/10 -> 45.7 | G6: ='24 jan rådata'!G6/10 -> 45.3 | H6: ='24 jan rådata'!H6/10 -> 4.6 | I6: ='24 jan rådata'!I6/10 -> 7.9 | J6: ='24 jan rådata'!J6/10 -> 57.5 | K6: ='24 jan rådata'!K6/10 -> -314.4 | ... T6: ='24 jan rådata'!T6/10 -> 21.4 | V6: BT7 Varmvatten visande
A7: 41663 | B7: 0.92795139 | C7: 1199 | D7: ='24 jan rådata'!D7/10 -> -3.1 | E7: ='24 jan rådata'!E7/10 -> -3.1 | F7: ='24 jan rådata'!F7/10 -> 45.5 | G7: ='24 jan rådata'!G7/10 -> 45.1 | H7: ='24 jan rådata'!H7/10 -> 4.7 | I7: ='24 jan rådata'!I7/10 -> 7.6 | J7: ='24 jan rådata'!J7/10 -> 57.5 | K7: ='24 jan rådata'!K7/10 -> -326.4 | ... T7: ='24 jan rådata'!T7/10 -> 21.4 | V7: BT10 KB In
A8: 41663 | B8: 0.92864583 | C8: 1199 | D8: ='24 jan rådata'!D8/10 -> -3.1 | E8: ='24 jan rådata'!E8/10 -> -3.1 | F8: ='24 jan rådata'!F8/10 -> 45.2 | G8: ='24 jan rådata'!G8/10 -> 44.8 | H8: ='24 jan rådata'!H8/10 -> 4.9 | I8: ='24 jan rådata'!I8/10 -> 7.3 | J8: ='24 jan rådata'!J8/10 -> 57.5 | K8: ='24 jan rådata'!K8/10 -> -338.6 | ... T8: ='24 jan rådata'!T8/10 -> 21.4 | V8: BT11 KB Ut
A9: 41663 | B9: 0.92934028 | C9: 1199 | D9: ='24 jan rådata'!D9/10 -> -3.1 | E9: ='24 jan rådata'!E9/10 -> -3.1 | F9: ='24 jan rådata'!F9/10 -> 45 | G9: ='24 jan rådata'!G9/10 -> 44.5 | H9: ='24 jan rådata'!H9/10 -> 5 | I9: ='24 jan rådata'!I9/10 -> 7.1 | J9: ='24 jan rådata'!J9/10 -> 57.5 | K9: ='24 jan rådata'!K9/10 -> -351 | ... T9: ='24 jan rådata'!T9/10 -> 21.4 | V9: BT12 Kondensor fram
A10: 41663 | B10: 0.93003472 | C10: 1199 | D10: ='24 jan rådata'!D10/10 -> -3.1 | E10: ='24 jan rådata'!E10/10 -> -3.1 | F10: ='24 jan rådata'!F10/10 -> 44.7 | G10: ='24 jan rådata'!G10/10 -> 44.2 | H10: ='24 jan rådata'!H10/10 -> 5.2 | I10: ='24 jan rådata'!I10/10 -> 6.9 | J10: ='24 jan rådata'!J10/10 -> 57.5 | K10: ='24 jan rådata'!K10/10 -> -363.7 | ... T10: ='24 jan rådata'!T10/10 -> 21.4 | V10: BT14 Hetgas
A11: 41663 | B11: 0.93072917 | C11: 1199 | D11: ='24 jan rådata'!D11/10 -> -3 | E11: ='24 jan rådata'!E11/10 -> -3.1 | F11: ='24 jan rådata'!F11/10 -> 44.5 | G11: ='24 jan rådata'!G11/10 -> 44 | H11: ='24 jan rådata'!H11/10 -> 5.2 | I11: ='24 jan rådata'!I11/10 -> 6.9 | J11: ='24 jan rådata'!J11/10 -> 57.4 | K11: ='24 jan rådata'!K11/10 -> -376.7 | ... T11: ='24 jan rådata'!T11/10 -> 21.4 | V11: BT15 Vätskeledning
A12: 41663 | B12: 0.93142361 | C12: 1199 | D12: ='24 jan rådata'!D12/10 -> -3.1 | E12: ='24 jan rådata'!E12/10 -> -3.1 | F12: ='24 jan rådata'!F12/10 -> 44.2 | G12: ='24 jan rådata'!G12/10 -> 43.7 | H12: ='24 jan rådata'!H12/10 -> 5.3 | I12: ='24 jan rådata'!I12/10 -> 6.8 | J12: ='24 jan rådata'!J12/10 -> 57.5 | K12: ='24 jan rådata'!K12/10 -> -389.8 | ... T12: ='24 jan rådata'!T12/10 -> 21.4 | V12: BT16 Förångare
A13: 41663 | B13: 0.93211806 | C13: 1199 | D13: ='24 jan rådata'!D13/10 -> -3.1 | E13: ='24 jan rådata'!E13/10 -> -3.1 | F13: ='24 jan rådata'!F13/10 -> 43.9 | G13: ='24 jan rådata'!G13/10 -> 43.5 | H13: ='24 jan rådata'!H13/10 -> 5.3 | I13: ='24 jan rådata'!I13/10 -> 6.6 | J13: ='24 jan rådata'!J13/10 -> 57.5 | K13: ='24 jan rådata'!K13/10 -> -389.8 | ... T13: ='24 jan rådata'!T13/10 -> 21.4 | V13: BT17 Suggas
A14: 41663 | B14: 0.9328125 | C14: 1199 | D14: ='24 jan rådata'!D14/10 -> -3 | E14: ='24 jan rådata'!E14/10 -> -3.1 | F14: ='24 jan rådata'!F14/10 -> 43.6 | G14: ='24 jan rådata'!G14/10 -> 43.2 | H14: ='24 jan rådata'!H14/10 -> 5.3 | I14: ='24 jan rådata'!I14/10 -> 6.6 | J14: ='24 jan rådata'!J14/10 -> 57.4 | K14: ='24 jan rådata'!K14/10 -> -389.8 | ... T14: ='24 jan rådata'!T14/10 -> 21.4 | V14: BT18 Kompressor
... A24: 41663 | B24: 0.93975694 | C24: 1199 | D24: ='24 jan rådata'!D24/10 -> -3 | E24: ='24 jan rådata'!E24/10 -> -3.1 | F24: ='24 jan rådata'!F24/10 -> 61.9 | G24: ='24 jan rådata'!G24/10 -> 41 | H24: ='24 jan rådata'!H24/10 -> 3.8 | I24: ='24 jan rådata'!I24/10 -> 1.4 | J24: ='24 jan rådata'!J24/10 -> 57.4 | K24: ='24 jan rådata'!K24/10 -> -397.6 | ... T24: ='24 jan rådata'!T24/10 -> 21.4 | V24: Calc. Supply Beräknad VB fram
A25: 41663 | B25: 0.94046296 | C25: 1199 | D25: ='24 jan rådata'!D25/10 -> -3 | E25: ='24 jan rådata'!E25/10 -> -3.1 | F25: ='24 jan rådata'!F25/10 -> 61.9 | G25: ='24 jan rådata'!G25/10 -> 40.9 | H25: ='24 jan rådata'!H25/10 -> 3.8 | I25: ='24 jan rådata'!I25/10 -> 1.4 | J25: ='24 jan rådata'!J25/10 -> 57.4 | K25: ='24 jan rådata'!K25/10 -> -393.2 | ... T25: ='24 jan rådata'!T25/10 -> 21.4
A26: 41663 | B26: 0.94115741 | C26: 1199 | D26: ='24 jan rådata'!D26/10 -> -3.1 | E26: ='24 jan rådata'!E26/10 -> -3.1 | F26: ='24 jan rådata'!F26/10 -> 61.9 | G26: ='24 jan rådata'!G26/10 -> 40.7 | H26: ='24 jan rådata'!H26/10 -> 3.8 | I26: ='24 jan rådata'!I26/10 -> 1.4 | J26: ='24 jan rådata'!J26/10 -> 57.5 | K26: ='24 jan rådata'!K26/10 -> -388.8 | ... T26: ='24 jan rådata'!T26/10 -> 21.4
A27: 41663 | B27: 0.94185185 | C27: 1199 | D27: ='24 jan rådata'!D27/10 -> -3.1 | E27: ='24 jan rådata'!E27/10 -> -3.1 | F27: ='24 jan rådata'!F27/10 -> 61.8 | G27: ='24 jan rådata'!G27/10 -> 40.6 | H27: ='24 jan rådata'!H27/10 -> 3.8 | I27: ='24 jan rådata'!I27/10 -> 1.3 | J27: ='24 jan rådata'!J27/10 -> 57.5 | K27: ='24 jan rådata'!K27/10 -> -384.5 | ... T27: ='24 jan rådata'!T27/10 -> 21.4
A28: 41663 | B28: 0.9425463 | C28: 1199 | D28: ='24 jan rådata'!D28/10 -> -3 | E28: ='24 jan rådata'!E28/10 -> -3.1 | F28: ='24 jan rådata'!F28/10 -> 61.7 | G28: ='24 jan rådata'!G28/10 -> 40.6 | H28: ='24 jan rådata'!H28/10 -> 4 | I28: ='24 jan rådata'!I28/10 -> 1.4 | J28: ='24 jan rådata'!J28/10 -> 57.4 | K28: ='24 jan rådata'!K28/10 -> -380.2 | ... T28: ='24 jan rådata'!T28/10 -> 21.4
A29: 41663 | B29: 0.94324074 | C29: 1199 | D29: ='24 jan rådata'!D29/10 -> -3.1 | E29: ='24 jan rådata'!E29/10 -> -3.1 | F29: ='24 jan rådata'!F29/10 -> 61.9 | G29: ='24 jan rådata'!G29/10 -> 40.9 | H29: ='24 jan rådata'!H29/10 -> 3.9 | I29: ='24 jan rådata'!I29/10 -> 1.5 | J29: ='24 jan rådata'!J29/10 -> 57.5 | K29: ='24 jan rådata'!K29/10 -> -376.2 | ... T29: ='24 jan rådata'!T29/10 -> 21.4
A30: 41663 | B30: 0.94393519 | C30: 1199 | D30: ='24 jan rådata'!D30/10 -> -3.1 | E30: ='24 jan rådata'!E30/10 -> -3.1 | F30: ='24 jan rådata'!F30/10 -> 61.9 | G30: ='24 jan rådata'!G30/10 -> 40.9 | H30: ='24 jan rådata'!H30/10 -> 3.7 | I30: ='24 jan rådata'!I30/10 -> 1.4 | J30: ='24 jan rådata'!J30/10 -> 57.5 | K30: ='24 jan rådata'!K30/10 -> -371.9 | ... T30: ='24 jan rådata'!T30/10 -> 21.4
A31: 41663 | B31: 0.94462963 | C31: 1199 | D31: ='24 jan rådata'!D31/10 -> -3 | E31: ='24 jan rådata'!E31/10 -> -3.1 | F31: ='24 jan rådata'!F31/10 -> 61.9 | G31: ='24 jan rådata'!G31/10 -> 40.9 | H31: ='24 jan rådata'!H31/10 -> 3.4 | I31: ='24 jan rådata'!I31/10 -> 1.1 | J31: ='24 jan rådata'!J31/10 -> 57.4 | K31: ='24 jan rådata'!K31/10 -> -367.5 | ... T31: ='24 jan rådata'!T31/10 -> 21.4
A32: 41663 | B32: 0.94532407 | C32: 1199 | D32: ='24 jan rådata'!D32/10 -> -3 | E32: ='24 jan rådata'!E32/10 -> -3.1 | F32: ='24 jan rådata'!F32/10 -> 61.8 | G32: ='24 jan rådata'!G32/10 -> 40.8 | H32: ='24 jan rådata'!H32/10 -> 3.3 | I32: ='24 jan rådata'!I32/10 -> 0.9 | J32: ='24 jan rådata'!J32/10 -> 57.8 | K32: ='24 jan rådata'!K32/10 -> -363.2 | ... T32: ='24 jan rådata'!T32/10 -> 21.3
A33: 41663 | B33: 0.94601852 | C33: 1199 | D33: ='24 jan rådata'!D33/10 -> -3.1 | E33: ='24 jan rådata'!E33/10 -> -3.1 | F33: ='24 jan rådata'!F33/10 -> 61.7 | G33: ='24 jan rådata'!G33/10 -> 40.7 | H33: ='24 jan rådata'!H33/10 -> 3.2 | I33: ='24 jan rådata'!I33/10 -> 0.9 | J33: ='24 jan rådata'!J33/10 -> 57.9 | K33: ='24 jan rådata'!K33/10 -> -359.4 | ... T33: ='24 jan rådata'!T33/10 -> 21.3
A34: 41663 | B34: 0.94671296 | C34: 1199 | D34: ='24 jan rådata'!D34/10 -> -3.1 | E34: ='24 jan rådata'!E34/10 -> -3.1 | F34: ='24 jan rådata'!F34/10 -> 61.4 | G34: ='24 jan rådata'!G34/10 -> 40.6 | H34: ='24 jan rådata'!H34/10 -> 3.2 | I34: ='24 jan rådata'!I34/10 -> 0.8 | J34: ='24 jan rådata'!J34/10 -> 57.5 | K34: ='24 jan rådata'!K34/10 -> -355.6 | ... T34: ='24 jan rådata'!T34/10 -> 21.4
A35: 41663 | B35: 0.94740741 | C35: 1199 | D35: ='24 jan rådata'!D35/10 -> -3 | E35: ='24 jan rådata'!E35/10 -> -3.1 | F35: ='24 jan rådata'!F35/10 -> 61.2 | G35: ='24 jan rådata'!G35/10 -> 40.6 | H35: ='24 jan rådata'!H35/10 -> 3.2 | I35: ='24 jan rådata'!I35/10 -> 0.8 | J35: ='24 jan rådata'!J35/10 -> 57.8 | K35: ='24 jan rådata'!K35/10 -> -352.2 | ... T35: ='24 jan rådata'!T35/10 -> 21.3
A36: 41663 | B36: 0.94810185 | C36: 1199 | D36: ='24 jan rådata'!D36/10 -> -3 | E36: ='24 jan rådata'!E36/10 -> -3.1 | F36: ='24 jan rådata'!F36/10 -> 61 | G36: ='24 jan rådata'!G36/10 -> 40.6 | H36: ='24 jan rådata'!H36/10 -> 3.1 | I36: ='24 jan rådata'!I36/10 -> 0.8 | J36: ='24 jan rådata'!J36/10 -> 57.8 | K36: ='24 jan rådata'!K36/10 -> -349.1 | ... T36: ='24 jan rådata'!T36/10 -> 21.3
... A1442: 41664 | B1442: 0.92471065 | C1442: 1199 | D1442: ='24 jan rådata'!D1442/10 -> -4.4 | E1442: ='24 jan rådata'!E1442/10 -> -3.8 | F1442: ='24 jan rådata'!F1442/10 -> 60.6 | G1442: ='24 jan rådata'!G1442/10 -> 47.1 | H1442: ='24 jan rådata'!H1442/10 -> 2.6 | I1442: ='24 jan rådata'!I1442/10 -> 0.6 | J1442: ='24 jan rådata'!J1442/10 -> 56 | K1442: ='24 jan rådata'!K1442/10 -> -7.9 | ... T1442: ='24 jan rådata'!T1442/10 -> 20.9

Sheet 23 jan rådata
A1: Divisors | C1: 1 | D1: 10 | E1: 10 | F1: 10 | G1: 10 | H1: 10 | I1: 10 | J1: 10 | K1: 10 | L1: 1 | M1: 1 | N1: 10 | O1: 10 | P1: 10 | Q1: 100 | R1: 1 | S1: 10 | T1: 10
A2: Date | B2: Time | C2: Version | D2: BT1 | E2: BT1 Mean | F2: BT2 | G2: BT3 | H2: BT10 | I2: BT11 | J2: Calc Supply | K2: GM | L2: Alarm | M2: RELAYS PCA BASE | N2: BT12 | O2: BT14 | P2: BT17 | Q2: Tot.int.add. | R2: Prio | S2: BT6 | T2: BT50
A3: 41662 | B3: 0.925625 | C3: 1199 | D3: -28 | E3: -29 | F3: 484 | G3: 469 | H3: 69 | I3: 80 | J3: 600 | K3: -203 | L3: 0 | M3: 2 | N3: 481 | O3: 453 | P3: 361 | Q3: 0 | R3: 10 | S3: 440 | T3: 208
A4: 41662 | B4: 0.92631944 | C4: 1199 | D4: -29 | E4: -29 | F4: 474 | G4: 471 | H4: 69 | I4: 80 | J4: 600 | K4: -327 | L4: 0 | M4: 2 | N4: 471 | O4: 449 | P4: 359 | Q4: 0 | R4: 10 | S4: 440 | T4: 208
A5: 41662 | B5: 0.92701389 | C5: 1199 | D5: -28 | E5: -28 | F5: 470 | G5: 470 | H5: 70 | I5: 80 | J5: 600 | K5: -457 | L5: 0 | M5: 2 | N5: 471 | O5: 445 | P5: 358 | Q5: 0 | R5: 10 | S5: 440 | T5: 208
A6: 41662 | B6: 0.92770833 | C6: 1199 | D6: -28 | E6: -28 | F6: 470 | G6: 469 | H6: 71 | I6: 80 | J6: 600 | K6: -587 | L6: 0 | M6: 2 | N6: 470 | O6: 442 | P6: 357 | Q6: 0 | R6: 10 | S6: 440 | T6: 208
A7: 41662 | B7: 0.92840278 | C7: 1199 | D7: -28 | E7: -29 | F7: 469 | G7: 468 | H7: 71 | I7: 80 | J7: 600 | K7: -718 | L7: 0 | M7: 2 | N7: 469 | O7: 438 | P7: 356 | Q7: 0 | R7: 10 | S7: 440 | T7: 208
A8: 41662 | B8: 0.92909722 | C8: 1199 | D8: -28 | E8: -28 | F8: 468 | G8: 465 | H8: 72 | I8: 80 | J8: 600 | K8: -850 | L8: 0 | M8: 2 | N8: 468 | O8: 435 | P8: 354 | Q8: 0 | R8: 10 | S8: 440 | T8: 208
A9: 41662 | B9: 0.92979167 | C9: 1199 | D9: -28 | E9: -28 | F9: 466 | G9: 462 | H9: 73 | I9: 82 | J9: 600 | K9: -983 | L9: 0 | M9: 2 | N9: 466 | O9: 432 | P9: 352 | Q9: 0 | R9: 10 | S9: 440 | T9: 208
A10: 41662 | B10: 0.93048611 | C10: 1199 | D10: -28 | E10: -29 | F10: 463 | G10: 459 | H10: 73 | I10: 82 | J10: 600 | K10: -1119 | L10: 0 | M10: 2 | N10: 463 | O10: 429 | P10: 351 | Q10: 0 | R10: 10 | S10: 439 | T10: 208
A11: 41662 | B11: 0.93118056 | C11: 1199 | D11: -28 | E11: -28 | F11: 460 | G11: 456 | H11: 73 | I11: 82 | J11: 600 | K11: -1258 | L11: 0 | M11: 6 | N11: 460 | O11: 426 | P11: 349 | Q11: 0 | R11: 30 | S11: 439 | T11: 208
A12: 41662 | B12: 0.931875 | C12: 1199 | D12: -28 | E12: -28 | F12: 464 | G12: 453 | H12: 49 | I12: 57 | J12: 600 | K12: -1258 | L12: 0 | M12: 7 | N12: 502 | O12: 607 | P12: 42 | Q12: 0 | R12: 30 | S12: 439 | T12: 208
A13: 41662 | B13: 0.93256944 | C13: 1199 | D13: -28 | E13: -28 | F13: 549 | G13: 451 | H13: 50 | I13: 35 | J13: 600 | K13: -1258 | L13: 0 | M13: 7 | N13: 588 | O13: 743 | P13: 38 | Q13: 0 | R13: 30 | S13: 439 | T13: 208
A14: 41662 | B14: 0.93326389 | C14: 1199 | D14: -28 | E14: -28 | F14: 597 | G14: 448 | H14: 51 | I14: 29 | J14: 600 | K14: -1270 | L14: 0 | M14: 7 | N14: 620 | O14: 810 | P14: 78 | Q14: 0 | R14: 30 | S14: 439 | T14: 208
... A1442: 41664 | B1442: 0.92471065 | C1442: 1199 | D1442: -44 | E1442: -38 | F1442: 606 | G1442: 471 | H1442: 26 | I1442: 6 | J1442: 560 | K1442: -79 | L1442: 0 | M1442: 7 | N1442: 618 | O1442: 919 | P1442: 59 | Q1442: 0 | R1442: 30 | S1442: 419 | T1442: 209

Sheet 23 jan
A1: Divisors | C1: 1 | D1: Utetemp | E1: 10 | F1: 10 | G1: 10 | H1: KB in | I1: KB ut | J1: 10 | K1: Gradmin. | L1: 1 | M1: RELAYS PCA BASE | N1: 10 | O1: 10 | P1: 10 | Q1: 100 | R1: 1 | S1: 10 | T1: 10 | V1: BT1 Mean Ute medel
A2: Date | B2: Time | C2: Version | D2: BT1 | E2: BT1 Mean | F2: BT2 | G2: BT3 | H2: BT10 | I2: BT11 | J2: Calc Supply | K2: GM | L2: Alarm | M2: RELAYS PCA BASE | N2: BT12 | O2: BT14 | P2: BT17 | Q2: Tot.int.add. | R2: Prio | S2: BT6 | T2: BT50 | V2: BT1 Average Ute medel
A3: 41663 | B3: 0.92517361 | C3: 1199 | D3: ='23 jan rådata'!D3/10 -> -2.8 | E3: ='23 jan rådata'!E3/10 -> -2.9 | F3: ='23 jan rådata'!F3/10 -> 48.4 | G3: ='23 jan rådata'!G3/10 -> 46.9 | H3: ='23 jan rådata'!H3/10 -> 6.9 | I3: ='23 jan rådata'!I3/10 -> 8 | J3: ='23 jan rådata'!J3/10 -> 60 | K3: ='23 jan rådata'!K3/10 -> -20.3 | ... T3: ='23 jan rådata'!T3/10 -> 20.8 | V3: BT2 VB fram
A4: 41663 | B4: 0.92586806 | C4: 1199 | D4: ='23 jan rådata'!D4/10 -> -2.9 | E4: ='23 jan rådata'!E4/10 -> -2.9 | F4: ='23 jan rådata'!F4/10 -> 47.4 | G4: ='23 jan rådata'!G4/10 -> 47.1 | H4: ='23 jan rådata'!H4/10 -> 6.9 | I4: ='23 jan rådata'!I4/10 -> 8 | J4: ='23 jan rådata'!J4/10 -> 60 | K4: ='23 jan rådata'!K4/10 -> -32.7 | ... T4: ='23 jan rådata'!T4/10 -> 20.8 | V4: BT3 VB retur
A5: 41663 | B5: 0.9265625 | C5: 1199 | D5: ='23 jan rådata'!D5/10 -> -2.8 | E5: ='23 jan rådata'!E5/10 -> -2.8 | F5: ='23 jan rådata'!F5/10 -> 47 | G5: ='23 jan rådata'!G5/10 -> 47 | H5: ='23 jan rådata'!H5/10 -> 7 | I5: ='23 jan rådata'!I5/10 -> 8 | J5: ='23 jan rådata'!J5/10 -> 60 | K5: ='23 jan rådata'!K5/10 -> -45.7 | ... T5: ='23 jan rådata'!T5/10 -> 20.8 | V5: BT6 Varmvatten styrande
A6: 41663 | B6: 0.92725694 | C6: 1199 | D6: ='23 jan rådata'!D6/10 -> -2.8 | E6: ='23 jan rådata'!E6/10 -> -2.8 | F6: ='23 jan rådata'!F6/10 -> 47 | G6: ='23 jan rådata'!G6/10 -> 46.9 | H6: ='23 jan rådata'!H6/10 -> 7.1 | I6: ='23 jan rådata'!I6/10 -> 8 | J6: ='23 jan rådata'!J6/10 -> 60 | K6: ='23 jan rådata'!K6/10 -> -58.7 | ... T6: ='23 jan rådata'!T6/10 -> 20.8 | V6: BT7 Varmvatten visande
A7: 41663 | B7: 0.92795139 | C7: 1199 | D7: ='23 jan rådata'!D7/10 -> -2.8 | E7: ='23 jan rådata'!E7/10 -> -2.9 | F7: ='23 jan rådata'!F7/10 -> 46.9 | G7: ='23 jan rådata'!G7/10 -> 46.8 | H7: ='23 jan rådata'!H7/10 -> 7.1 | I7: ='23 jan rådata'!I7/10 -> 8 | J7: ='23 jan rådata'!J7/10 -> 60 | K7: ='23 jan rådata'!K7/10 -> -71.8 | ... T7: ='23 jan rådata'!T7/10 -> 20.8 | V7: BT10 KB In
A8: 41663 | B8: 0.92864583 | C8: 1199 | D8: ='23 jan rådata'!D8/10 -> -2.8 | E8: ='23 jan rådata'!E8/10 -> -2.8 | F8: ='23 jan rådata'!F8/10 -> 46.8 | G8: ='23 jan rådata'!G8/10 -> 46.5 | H8: ='23 jan rådata'!H8/10 -> 7.2 | I8: ='23 jan rådata'!I8/10 -> 8 | J8: ='23 jan rådata'!J8/10 -> 60 | K8: ='23 jan rådata'!K8/10 -> -85 | ... T8: ='23 jan rådata'!T8/10 -> 20.8 | V8: BT11 KB Ut
A9: 41663 | B9: 0.92934028 | C9: 1199 | D9: ='23 jan rådata'!D9/10 -> -2.8 | E9: ='23 jan rådata'!E9/10 -> -2.8 | F9: ='23 jan rådata'!F9/10 -> 46.6 | G9: ='23 jan rådata'!G9/10 -> 46.2 | H9: ='23 jan rådata'!H9/10 -> 7.3 | I9: ='23 jan rådata'!I9/10 -> 8.2 | J9: ='23 jan rådata'!J9/10 -> 60 | K9: ='23 jan rådata'!K9/10 -> -98.3 | ... T9: ='23 jan rådata'!T9/10 -> 20.8 | V9: BT12 Kondensor fram
A10: 41663 | B10: 0.93003472 | C10: 1199 | D10: ='23 jan rådata'!D10/10 -> -2.8 | E10: ='23 jan rådata'!E10/10 -> -2.9 | F10: ='23 jan rådata'!F10/10 -> 46.3 | G10: ='23 jan rådata'!G10/10 -> 45.9 | H10: ='23 jan rådata'!H10/10 -> 7.3 | I10: ='23 jan rådata'!I10/10 -> 8.2 | J10: ='23 jan rådata'!J10/10 -> 60 | K10: ='23 jan rådata'!K10/10 -> -111.9 | ... T10: ='23 jan rådata'!T10/10 -> 20.8 | V10: BT14 Hetgas
A11: 41663 | B11: 0.93072917 | C11: 1199 | D11: ='23 jan rådata'!D11/10 -> -2.8 | E11: ='23 jan rådata'!E11/10 -> -2.8 | F11: ='23 jan rådata'!F11/10 -> 46 | G11: ='23 jan rådata'!G11/10 -> 45.6 | H11: ='23 jan rådata'!H11/10 -> 7.3 | I11: ='23 jan rådata'!I11/10 -> 8.2 | J11: ='23 jan rådata'!J11/10 -> 60 | K11: ='23 jan rådata'!K11/10 -> -125.8 | ... T11: ='23 jan rådata'!T11/10 -> 20.8 | V11: BT15 Vätskeledning
A12: 41663 | B12: 0.93142361 | C12: 1199 | D12: ='23 jan rådata'!D12/10 -> -2.8 | E12: ='23 jan rådata'!E12/10 -> -2.8 | F12: ='23 jan rådata'!F12/10 -> 46.4 | G12: ='23 jan rådata'!G12/10 -> 45.3 | H12: ='23 jan rådata'!H12/10 -> 4.9 | I12: ='23 jan rådata'!I12/10 -> 5.7 | J12: ='23 jan rådata'!J12/10 -> 60 | K12: ='23 jan rådata'!K12/10 -> -125.8 | ... T12: ='23 jan rådata'!T12/10 -> 20.8 | V12: BT16 Förångare
A13: 41663 | B13: 0.93211806 | C13: 1199 | D13: ='23 jan rådata'!D13/10 -> -2.8 | E13: ='23 jan rådata'!E13/10 -> -2.8 | F13: ='23 jan rådata'!F13/10 -> 54.9 | G13: ='23 jan rådata'!G13/10 -> 45.1 | H13: ='23 jan rådata'!H13/10 -> 5 | I13: ='23 jan rådata'!I13/10 -> 3.5 | J13: ='23 jan rådata'!J13/10 -> 60 | K13: ='23 jan rådata'!K13/10 -> -125.8 | ... T13: ='23 jan rådata'!T13/10 -> 20.8 | V13: BT17 Suggas
A14: 41663 | B14: 0.9328125 | C14: 1199 | D14: ='23 jan rådata'!D14/10 -> -2.8 | E14: ='23 jan rådata'!E14/10 -> -2.8 | F14: ='23 jan rådata'!F14/10 -> 59.7 | G14: ='23 jan rådata'!G14/10 -> 44.8 | H14: ='23 jan rådata'!H14/10 -> 5.1 | I14: ='23 jan rådata'!I14/10 -> 2.9 | J14: ='23 jan rådata'!J14/10 -> 60 | K14: ='23 jan rådata'!K14/10 -> -127 | ... T14: ='23 jan rådata'!T14/10 -> 20.8 | V14: BT18 Kompressor
... A24: 41663 | B24: 0.93975694 | C24: 1199 | D24: ='23 jan rådata'!D24/10 -> -2.9 | E24: ='23 jan rådata'!E24/10 -> -2.8 | F24: ='23 jan rådata'!F24/10 -> 60.5 | G24: ='23 jan rådata'!G24/10 -> 43.7 | H24: ='23 jan rådata'!H24/10 -> 5.3 | I24: ='23 jan rådata'!I24/10 -> 2.7 | J24: ='23 jan rådata'!J24/10 -> 60 | K24: ='23 jan rådata'!K24/10 -> -117 | ... T24: ='23 jan rådata'!T24/10 -> 20.8 | V24: Calc. Supply Beräknad VB fram
A25: 41663 | B25: 0.94046296 | C25: 1199 | D25: ='23 jan rådata'!D25/10 -> -2.9 | E25: ='23 jan rådata'!E25/10 -> -2.8 | F25: ='23 jan rådata'!F25/10 -> 60.3 | G25: ='23 jan rådata'!G25/10 -> 43.7 | H25: ='23 jan rådata'!H25/10 -> 5 | I25: ='23 jan rådata'!I25/10 -> 2.6 | J25: ='23 jan rådata'!J25/10 -> 59.9 | K25: ='23 jan rådata'!K25/10 -> -116.7 | ... T25: ='23 jan rådata'!T25/10 -> 20.9
A26: 41663 | B26: 0.94115741 | C26: 1199 | D26: ='23 jan rådata'!D26/10 -> -2.8 | E26: ='23 jan rådata'!E26/10 -> -2.8 | F26: ='23 jan rådata'!F26/10 -> 60.1 | G26: ='23 jan rådata'!G26/10 -> 43.7 | H26: ='23 jan rådata'!H26/10 -> 4.7 | I26: ='23 jan rådata'!I26/10 -> 2.4 | J26: ='23 jan rådata'!J26/10 -> 60 | K26: ='23 jan rådata'!K26/10 -> -116.5 | ... T26: ='23 jan rådata'!T26/10 -> 20.8
A27: 41663 | B27: 0.94185185 | C27: 1199 | D27: ='23 jan rådata'!D27/10 -> -2.8 | E27: ='23 jan rådata'!E27/10 -> -2.8 | F27: ='23 jan rådata'!F27/10 -> 60 | G27: ='23 jan rådata'!G27/10 -> 43.6 | H27: ='23 jan rådata'!H27/10 -> 4.6 | I27: ='23 jan rådata'!I27/10 -> 2.2 | J27: ='23 jan rådata'!J27/10 -> 60 | K27: ='23 jan rådata'!K27/10 -> -116.5 | ... T27: ='23 jan rådata'!T27/10 -> 20.8
A28: 41663 | B28: 0.9425463 | C28: 1199 | D28: ='23 jan rådata'!D28/10 -> -2.8 | E28: ='23 jan rådata'!E28/10 -> -2.8 | F28: ='23 jan rådata'!F28/10 -> 59.7 | G28: ='23 jan rådata'!G28/10 -> 43.6 | H28: ='23 jan rådata'!H28/10 -> 4.4 | I28: ='23 jan rådata'!I28/10 -> 2.1 | J28: ='23 jan rådata'!J28/10 -> 60 | K28: ='23 jan rådata'!K28/10 -> -116.8 | ... T28: ='23 jan rådata'!T28/10 -> 20.8
A29: 41663 | B29: 0.94324074 | C29: 1199 | D29: ='23 jan rådata'!D29/10 -> -2.8 | E29: ='23 jan rådata'!E29/10 -> -2.8 | F29: ='23 jan rådata'!F29/10 -> 59.5 | G29: ='23 jan rådata'!G29/10 -> 43.7 | H29: ='23 jan rådata'!H29/10 -> 4.4 | I29: ='23 jan rådata'!I29/10 -> 1.9 | J29: ='23 jan rådata'!J29/10 -> 60 | K29: ='23 jan rådata'!K29/10 -> -117.2 | ... T29: ='23 jan rådata'!T29/10 -> 20.8
A30: 41663 | B30: 0.94393519 | C30: 1199 | D30: ='23 jan rådata'!D30/10 -> -2.8 | E30: ='23 jan rådata'!E30/10 -> -2.8 | F30: ='23 jan rådata'!F30/10 -> 59.5 | G30: ='23 jan rådata'!G30/10 -> 43.8 | H30: ='23 jan rådata'!H30/10 -> 4.4 | I30: ='23 jan rådata'!I30/10 -> 1.9 | J30: ='23 jan rådata'!J30/10 -> 60 | K30: ='23 jan rådata'!K30/10 -> -117.7 | ... T30: ='23 jan rådata'!T30/10 -> 20.8
A31: 41663 | B31: 0.94462963 | C31: 1199 | D31: ='23 jan rådata'!D31/10 -> -2.8 | E31: ='23 jan rådata'!E31/10 -> -2.9 | F31: ='23 jan rådata'!F31/10 -> 59.4 | G31: ='23 jan rådata'!G31/10 -> 44.3 | H31: ='23 jan rådata'!H31/10 -> 4.3 | I31: ='23 jan rådata'!I31/10 -> 1.9 | J31: ='23 jan rådata'!J31/10 -> 60 | K31: ='23 jan rådata'!K31/10 -> -118.3 | ... T31: ='23 jan rådata'!T31/10 -> 20.8
A32: 41663 | B32: 0.94532407 | C32: 1199 | D32: ='23 jan rådata'!D32/10 -> -2.8 | E32: ='23 jan rådata'!E32/10 -> -2.8 | F32: ='23 jan rådata'!F32/10 -> 59.5 | G32: ='23 jan rådata'!G32/10 -> 45 | H32: ='23 jan rådata'!H32/10 -> 4.3 | I32: ='23 jan rådata'!I32/10 -> 1.9 | J32: ='23 jan rådata'!J32/10 -> 60 | K32: ='23 jan rådata'!K32/10 -> -118.8 | ... T32: ='23 jan rådata'!T32/10 -> 20.8
A33: 41663 | B33: 0.94601852 | C33: 1199 | D33: ='23 jan rådata'!D33/10 -> -2.8 | E33: ='23 jan rådata'!E33/10 -> -2.8 | F33: ='23 jan rådata'!F33/10 -> 59.9 | G33: ='23 jan rådata'!G33/10 -> 45.9 | H33: ='23 jan rådata'!H33/10 -> 4.3 | I33: ='23 jan rådata'!I33/10 -> 1.9 | J33: ='23 jan rådata'!J33/10 -> 60 | K33: ='23 jan rådata'!K33/10 -> -119.1 | ... T33: ='23 jan rådata'!T33/10 -> 20.8
A34: 41663 | B34: 0.94671296 | C34: 1199 | D34: ='23 jan rådata'!D34/10 -> -2.8 | E34: ='23 jan rådata'!E34/10 -> -2.8 | F34: ='23 jan rådata'!F34/10 -> 60.3 | G34: ='23 jan rådata'!G34/10 -> 46.8 | H34: ='23 jan rådata'!H34/10 -> 4.3 | I34: ='23 jan rådata'!I34/10 -> 1.9 | J34: ='23 jan rådata'!J34/10 -> 60 | K34: ='23 jan rådata'!K34/10 -> -118.9 | ... T34: ='23 jan rådata'!T34/10 -> 20.8
A35: 41663 | B35: 0.94740741 | C35: 1199 | D35: ='23 jan rådata'!D35/10 -> -2.9 | E35: ='23 jan rådata'!E35/10 -> -2.8 | F35: ='23 jan rådata'!F35/10 -> 61 | G35: ='23 jan rådata'!G35/10 -> 47.5 | H35: ='23 jan rådata'!H35/10 -> 4.3 | I35: ='23 jan rådata'!I35/10 -> 2.1 | J35: ='23 jan rådata'!J35/10 -> 60 | K35: ='23 jan rådata'!K35/10 -> -118.1 | ... T35: ='23 jan rådata'!T35/10 -> 20.8
A36: 41663 | B36: 0.94810185 | C36: 1199 | D36: ='23 jan rådata'!D36/10 -> -2.8 | E36: ='23 jan rådata'!E36/10 -> -2.9 | F36: ='23 jan rådata'!F36/10 -> 61.6 | G36: ='23 jan rådata'!G36/10 -> 48 | H36: ='23 jan rådata'!H36/10 -> 4.3 | I36: ='23 jan rådata'!I36/10 -> 2.1 | J36: ='23 jan rådata'!J36/10 -> 60 | K36: ='23 jan rådata'!K36/10 -> -116.7 | ... T36: ='23 jan rådata'!T36/10 -> 20.8
... A1442: 41664 | B1442: 0.92471065 | C1442: 1199 | D1442: ='23 jan rådata'!D1442/10 -> -4.4 | E1442: ='23 jan rådata'!E1442/10 -> -3.8 | F1442: ='23 jan rådata'!F1442/10 -> 60.6 | G1442: ='23 jan rådata'!G1442/10 -> 47.1 | H1442: ='23 jan rådata'!H1442/10 -> 2.6 | I1442: ='23 jan rådata'!I1442/10 -> 0.6 | J1442: ='23 jan rådata'!J1442/10 -> 56 | K1442: ='23 jan rådata'!K1442/10 -> -7.9 | ... T1442: ='23 jan rådata'!T1442/10 -> 20.9
