Workbook

Sheet Beräkningsblad
A1: R134a | F1: Funktionsanalys
G2: Noteringar:
G7: Använd relevanta värden och mätningar!
A8: Mätningen avser : | C8: R134a
A9: =FALSE() -> FALSE | C9: L1 | D9: L2 | E9: L3 | G9: Cos j med i beräkning för tillförd el. effekt (E7).
B10: Spänning | C10: 400 | D10: 400 | E10: 400 | F10: Cos j | G10: 1 | I10: Entalpi
B11: Kompressorström | C11: 4.15 | D11: 4.15 | E11: 4.15 | I11: kJ / kg köldmedium
A12: =IF(A9,'Blad2 '!E1,'Blad2 '!E2) -> 3 phas | I12: i massflöde
D13: =IF(A9,'Blad2 '!E4,'Blad2 '!E5) -> Elektrisk effekt 3 phas | E13: =IF(A9,'Blad2 '!J4,'Blad2 '!J5) -> 2.8752043 | F13: kW = kJ / sekund e | I13: Vätska | J13: Gas
B14: Sugtryck Lp | C14: 0.9 | D14: bar(e) | E14: =IF(C14<>'Blad2 '!A10,C14+1,"") -> 1.9 | F14: bar(a)
D15: Förångningstemperatur | E15: =IF(C14<>'Blad2 '!A10,VLOOKUP(E14,Blad3!A6:G245,3),"") -> -12 | F15: ºC | J15: =IF(C14<>'Blad2 '!A10,VLOOKUP(E14,Blad3!A6:G245,7),"") -> 390.4
D16: Vätsketemperatur | E16: =IF(C14<>'Blad2 '!A10,VLOOKUP(E14,Blad3!A6:G245,2),"") -> -12 | F16: ºC | I16: =IF(C14<>'Blad2 '!A10,VLOOKUP(E14,Blad3!A6:G110,6),"") -> 184.16
B17: (max 17) Högtryck Hp | C17: 19 | D17: bar(e) | E17: =IF(C17>0,C17+1,"") -> 20 | F17: bar(a)
D18: Gastemperatur | E18: =IF(C17>0,VLOOKUP(E17,Blad3!A6:G245,3),"") -> 65 | F18: ºC | J18: =IF(C17>0,VLOOKUP(E17,Blad3!A6:G245,7),"") -> 0
D19: Kondenseringstemperatur | E19: =IF(C17>0,VLOOKUP(E17,Blad3!A6:G245,2),"") -> 65 | F19: ºC | I19: =IF(C17>0,VLOOKUP(E17,Blad3!A6:G245,6),"") -> 0
B20: Kompressor | D20: tryckrörstemperatur | E20: 106.5 | F20: ºC d | G20: =IF(E20<>'Blad2 '!A10,IF(C17<>'Blad2 '!A10,"",'Blad2 '!A13),"") | J20: =IF(C17>0,IF(E20>0,IF(E20>E18,J18+(VLOOKUP(E17,Blad3!A6:H245,8)*(E20-E18)),J18),""),"") -> 0
A21: Hetgasväxlare | D21: inloppstemperatur | F21: ºC | G21: =IF(E21>0,IF(C17<>'Blad2 '!A10,IF(E20>0,IF(E21>E20,'Blad2 '!E9,""),'Blad2 '!H7),'Blad2 '!A13),"") | J21: =IF(C17>0,IF(E21>0,IF(E21>E18,J18+(VLOOKUP(E17,Blad3!A6:H245,8)*(E21-E18)),J18),""),"")
D22: utloppstemperatur | F22: ºC | G22: =IF(E22<>'Blad2 '!A10,IF(C17<>'Blad2 '!A10,IF(E21<>'Blad2 '!A10,IF(E22<=E21,IF(E22<E19,'Blad2 '!A8,""),'Blad2 '!E9),'Blad2 '!E11),'Blad2 '!A13),"") | I22: =IF(C17>0,IF(E22>0,IF(E22<E19,IF(E22>E18,J18+(VLOOKUP(E17,Blad3!A6:I245,9)*(E22-E18)),IF(E22>E19,VLOOKUP(E22,Blad3!C6:G245,5),VLOOKUP(E22,Blad3!B6:F245,5))),""),""),"") | J22: =IF(C17>0,IF(E22>0,IF(E22>=E18,J18+(VLOOKUP(E17,Blad3!A6:H245,8)*(E22-E18)),VLOOKUP(E22,Blad3!B6:F245,5)),""),"")
D23: avgiven entalpi | E23: =IF(C17>0,IF(E20>0,IF(E21>0,IF(E22>0,J21-J22,""),""),""),"") | F23: kJ / kg
A24: Kondensor | D24: inloppstemperatur | E24: 106.5 | F24: ºC | G24: =IF(E24>0, IF(E20>0, IF(E24<=E20, IF(E24>=E19, IF(E21<>'Blad2 '!A10, IF(E22<>'Blad2 '!A10, IF(E24<=E22,IF(E24<E19,'Blad2 '!A8,""), 'Blad2 '!E9),'Blad2 '!H11),""), 'Blad2 '!A8),'Blad2 '!E9), 'Blad2 '!H7), "") | I24: =IF(C17>0,IF(E24>0,IF(E24<E19,IF(E24>E18,J18+(VLOOKUP(E17,Blad3!A6:I245,9)*(E24-E18)),IF(E24>E19,VLOOKUP(E22,Blad3!C6:G245,5),VLOOKUP(E24,Blad3!B6:F245,5))),""),""),"") | J24: =IF(C17>0,IF(E24>0,IF(E24>=E18,J18+(VLOOKUP(E17,Blad3!A6:H245,8)*(E24-E18)),VLOOKUP(E24,Blad3!B6:G245,5)),""),"") -> 0
D25: utloppstemperatur | E25: 46.5 | F25: ºC | G25: =IF(E25>0,IF(E24>0,IF(E25>E19,IF(E24<>'Blad2 '!A10,IF(E25>E24,'Blad2 '!H14,'Blad2 '!E15),""),""),'Blad2 '!E11),"") | I25: =IF(C$17>0,IF(E25>0,IF(E25>E$18,J$18+(VLOOKUP(E$17,Blad3!A$6:I$245,8)*(E25-E$18)),IF(E25>E$19,VLOOKUP(E25,Blad3!C$6:G$245,5),VLOOKUP(E25,Blad3!B$6:F$245,5))),""),"") -> 265 | J25: =IF(C14<>'Blad2 '!A10,IF(C17<>'Blad2 '!A10,IF(E24<>'Blad2 '!A10,IF(E25>E19,I25,""),""),""),"")
D26: underkylning | E26: =IF(C17>0,IF(E24>0,IF(E25<>'Blad2 '!A10,IF(E25<=E19,E19-E25,""),""),""),"") -> 18.5 | F26: K
D27: avgiven entalpi | E27: =IF(C17>0,IF(E24>0,IF(E25>0,J24-I25,""),""),"") -> -265 | F27: kJ / kg
A28: Underkylare | D28: inloppstemperatur | F28: ºC | G28: =IF(E28<>'Blad2 '!A$10,IF(E$25<>'Blad2 '!A$10,IF(E28<=E19,IF(E28<=E$25,"",'Blad2 '!E$9),'Blad2 '!E9),'Blad2 '!H15),"") | I28: =IF(C$17>0,IF(E28>0,IF(E28>E$18,J$18+(VLOOKUP(E$17,Blad3!A$6:I$245,8)*(E28-E$18)),IF(E28>E$19,VLOOKUP(E28,Blad3!C$6:G$245,5),VLOOKUP(E28,Blad3!B$6:F$245,5))),""),"")
D29: utloppstemperatur | F29: ºC | G29: =IF(E29<>'Blad2 '!A$10,IF(E$25<>'Blad2 '!A$10,IF(E28<>'Blad2 '!A10,IF(E29<=E$28,"",'Blad2 '!E$9),'Blad2 '!E11),""),"") | I29: =IF(C$17>0,IF(E29>0,IF(E29>E$18,J$18+(VLOOKUP(E$17,Blad3!A$6:I$245,8)*(E29-E$18)),IF(E29>E$19,VLOOKUP(E29,Blad3!C$6:G$245,5),VLOOKUP(E29,Blad3!B$6:F$245,5))),""),"")
D30: underkylning | E30: =IF(C14<>'Blad2 '!A10,IF(C17<>'Blad2 '!A10,IF(E28<>'Blad2 '!A10,IF(E29<>'Blad2 '!A10,IF(E29<=E28,E28-E29,""),""),""),""),"") | F30: K
D31: avgiven entalpi | E31: =IF(C14<>'Blad2 '!A10,IF(C17<>'Blad2 '!A10,IF(E28<>'Blad2 '!A10,IF(E29<>'Blad2 '!A10,IF(E29<=E28,I28-I29,""),""),""),""),"") | F31: kJ / kg
A32: Vätsketemp. | D32: inlopp | F32: ºC | G32: =IF(E32<>'Blad2 '!A10,IF(E25<>'Blad2 '!A10,IF(E32>E19,'Blad2 '!E9,IF(E32>E25,'Blad2 '!$E$9,IF(E28<>'Blad2 '!A10,IF(E32<=E28,IF(E29<>'Blad2 '!A10,IF(E32<=E29,"",'Blad2 '!E9),'Blad2 '!H16),'Blad2 '!E9),""))),'Blad2 '!H15),"") | I32: =IF(C17>0,IF(E32>0,IF(E32>E19,VLOOKUP(E32,Blad3!C6:G245,5),VLOOKUP(E32,Blad3!B6:F245,5)),""),"")
A33: Suggasväxlare | D33: utlopp | F33: ºC | G33: =IF(E33<>'Blad2 '!A10,IF(E32<>'Blad2 '!A10,IF(E25<>'Blad2 '!A10,IF(E33>E25,'Blad2 '!$E$9,IF(E33>E32,'Blad2 '!E9,"")),'Blad2 '!H15),'Blad2 '!E11),"") | I33: =IF(C17>0,IF(E33>0,IF(E33>E19,VLOOKUP(E33,Blad3!C6:G245,5),VLOOKUP(E33,Blad3!B6:F245,5)),""),"")
D34: underkylning | E34: =IF(C17>0,IF(E32<>'Blad2 '!A10,IF(E33<>'Blad2 '!A10,IF(E33<=E32,E32-E33,""),""),""),"") | F34: K
D35: Entalpi överfört till suggasen | E35: =IF(C17>0,IF(E32<>'Blad2 '!A10,IF(E33<>'Blad2 '!A10,IF(E33<=E32,I32-I33,""),""),""),"") | F35: kJ / kg (jmf. E 44)
A36: Expansionsdon | D36: vätsketemperatur | E36: -9.2 | F36: ºC a , b | G36: =IF(E36<>'Blad2 '!A10,IF(E36>E25,'Blad2 '!E9,IF(E32<>'Blad2 '!A10,IF(E36>E32,'Blad2 '!E9,IF(E33<>'Blad2 '!A10,IF(E36>E33,'Blad2 '!E9,""),"")),"")),"") | I36: =IF(C17>0,IF(E36>0,VLOOKUP(E36,Blad3!B6:F245,5),""),"")
D37: Total underkylning av köldmedievätskan | E37: =IF(C17>0,IF(E19<>'Blad2 '!A10,IF(E36<>'Blad2 '!A10,IF(E36<=E19,E19-E36,""),""),""),"") -> 74.2 | F37: K
A38: Förångare | D38: utloppstemperatur | E38: -6.5 | F38: ºC | G38: =IF(E38<>'Blad2 '!A10,IF(E38<E15,'Blad2 '!H9,""),"") | J38: =IF($C$17>0,IF($E$38<>'Blad2 '!$A$10,(VLOOKUP($E$14,Blad3!$A$6:$G$245,7)+(VLOOKUP($E$14,Blad3!$A$6:$H$245,8)*($E$38-$E$15))),""),"") -> 395.44428
D39: överhettning | E39: =IF(C17>0,IF(E38<>'Blad2 '!A10,IF(E15<>'Blad2 '!A10,IF(E38>=E15,E38-E15,""),""),""),"") -> 5.5 | F39: K
D40: upptagen entalpi | E40: =IF(C17>0,IF(E38<>'Blad2 '!A10,IF(E36<>'Blad2 '!A10,J38-I36,""),""),"") -> #VALUE! | F40: kJ / kg
A41: Suggasväxlare | C41: Gastemp. | D41: Inlopp | F41: ºC | G41: =IF(E41<>'Blad2 '!A10,IF(E41<E15,'Blad2 '!$H$9,IF(E41<E38,'Blad2 '!$H$9,"")),"") | J41: =IF(C17>0,IF(E41<>'Blad2 '!A10,(VLOOKUP(E14,Blad3!A6:G245,7)+(VLOOKUP(E14,Blad3!A6:H245,8)*(E41-E15))),""),"")
D42: utlopp | F42: ºC | G42: =IF(E42<>'Blad2 '!A10,IF(E42<E38,'Blad2 '!$H$9,IF(E42<E41,'Blad2 '!$H$9,IF(E41='Blad2 '!A10,'Blad2 '!E11,""))),"") | J42: =IF(C17>0,IF(E42<>'Blad2 '!A10,(VLOOKUP(E14,Blad3!A6:G245,7)+(VLOOKUP(E14,Blad3!A6:H245,8)*(E42-E15))),""),"")
D43: Överhettning | E43: =IF(C17>0,IF(E42<>'Blad2 '!A10,IF(E41<>'Blad2 '!A10,IF(E42>=E41,E42-E41,""),""),""),"") | F43: K
D44: upptagen entalpi | E44: =IF(C17>0,IF(E42<>'Blad2 '!A10,IF(E41<>'Blad2 '!A10,IF(E42>=E41,J42-J41,""),""),""),"") | F44: kJ / kg (jmf. E 35)
A45: Kompressor | D45: sugrörtemperatur | E45: -6.5 | F45: ºC c | G45: =IF(E45<>'Blad2 '!A10,IF(E45<E15,'Blad2 '!$H$9,IF(E45<E38,'Blad2 '!H9,IF(E42<>'Blad2 '!A10,IF(E45<E42,'Blad2 '!$H$9,""),IF(E41<>'Blad2 '!A10,IF(E45<E41,'Blad2 '!H9,""),"")))),"") | J45: =IF(C17>0,IF(E45<>'Blad2 '!A10,(VLOOKUP(E14,Blad3!A6:G245,7)+VLOOKUP(E14,Blad3!A6:H245,8)*(E45-E15)),""),"") -> 395.44428
D46: Total överhettning av suggasen | E46: =IF(E45<>'Blad2 '!A10,IF(C17>0,IF(E45>=E38,E45-E15,""),""),"") -> 5.5 | F46: K
D47: Köldmedium-massflöde | E47: =IF(C10>0,IF(E45<>'Blad2 '!A10,E13/(J20-J45)*'Blad2 '!F42,""),"") -> -0.0072708204 | F47: kg köldmedium / sekund
A48: Elförbrukning till fläktar och pumpar etc. | E48: 0.15 | F48: kW
G49: Överhettning K | I49: =E46 -> 5.5
D50: Tillförd elektrisk effekt | E50: =IF(E13<>'Blad2 '!A10,(E13)+E48,"") -> 3.0252043 | F50: kW | G50: Underkylning K | I50: =E37 -> 74.2
D51: I hetgasväxlaren avgiven effekt | E51: =IF(C17>0,IF(E23<>'Blad2 '!A10,IF(E45<>'Blad2 '!A10,IF(E47<>'Blad2 '!A10,E23*E47,""),""),""),"") | F51: kW | G51: COP v | H51: =IF(C17>0,IF(E20<>'Blad2 '!A10,IF(E36<>'Blad2 '!A10,IF(E45<>'Blad2 '!A10,(J20-I36)/(J20-J45),""),""),""),"") -> #VALUE! | I51: energivinst | J51: =IF(E54<>'Blad2 '!A10,E54/E50,"") -> 0.63690488
D52: I kondensorn avgiven effekt | E52: =IF(C17>0,IF(E27>0,IF(E45<>'Blad2 '!A10,IF(E47>0,IF(E47<>'Blad2 '!A10,E27*E47,""),""),""),""),"") | F52: kW | G52: COP k | H52: =IF(C17>0,IF(E45<>'Blad2 '!A10,IF(E36<>'Blad2 '!A10,IF(E20<>'Blad2 '!A10,(J45-I36)/(J20-J45),""),""),""),"") -> #VALUE!
D53: I underkylaren avgiven effekt | E53: =IF(E47<>'Blad2 '!A10,IF(E28<>'Blad2 '!A10,IF(E29<>'Blad2 '!A10,E31*E47,""),""),"") | F53: kW | G53: teoretisk hetgastemp. | I53: =IF(E45<>'Blad2 '!A10,IF(C14<>'Blad2 '!A10,IF(C17<>'Blad2 '!A10,'Blad2 '!G38,""),""),"") -> 80.954545
D54: Summa avgiven effekt | E54: =IF(C17>0,IF(E20>0,IF(E25<>'Blad2 '!A10,IF(E45<>'Blad2 '!A10,IF(E47<>'Blad2 '!A10,'Blad2 '!A20,""),""),""),""),"") -> 1.9267674 | F54: kW | G54: isentropisk h | I54: =IF(E47<>'Blad2 '!A10,IF(C14<>'Blad2 '!A10,IF(C17<>'Blad2 '!A10,'Blad2 '!F42,""),""),"") -> 1
D55: I förångaren upptagen effekt | E55: =IF(E47<>'Blad2 '!A10,E40*E47,"") -> #VALUE! | F55: kW | G55: h med i beräkning för km-massflöde
D57: Hetgasväx. | E57: Kondensor | F57: Underkylare | I57: Förångare
C58: Värmebärare | E58: Vatten | H58: Köldbärare | I58: sprit
C59: Specifik entalpi kJ / kg / °K | E59: 4.18 | H59: ent.kJ/kg/K | I59: 3.8
C60: Temperatur in °C | E60: 44.2 | G60: Summa | H60: in °C | I60: 0.75
C61: Temperatur ut °C | E61: 49.2 | G61: avgiven | H61: ut °C | I61: -0.3
C62: Flöde kg / minut | G62: effekt kW | H62: fl. kg/min
C63: Effekt kW | D63: =IF($D$59<>'Blad2 '!$A$10,IF($D$60<>'Blad2 '!$A$10,IF($D$61<>'Blad2 '!$A$10,IF($D$62<>'Blad2 '!$A$10,SUM($D$59*$D$62*($D$61-$D$60)/60),""),""),""),"") | E63: =IF($E$59<>'Blad2 '!$A$10,IF($E$60<>'Blad2 '!$A$10,IF($E$61<>'Blad2 '!$A$10,IF($E$62<>'Blad2 '!$A$10,SUM($E$59*$E$62*($E$61-$E$60)/60),""),""),""),"") | F63: =IF($F$59<>'Blad2 '!$A$10,IF($F$60<>'Blad2 '!$A$10,IF($F$61<>'Blad2 '!$A$10,IF($F$62<>'Blad2 '!$A$10,SUM($F$59*$F$62*($F$61-$F$60)/60),""),""),""),"") | G63: =IF(OR(D63<>'Blad2 '!A10,E63<>'Blad2 '!A10,F63<>'Blad2 '!A10),SUM(D63,E63,F63),'Blad2 '!A10) | H63: eff. kW | I63: =IF($I$59<>'Blad2 '!$A$10,IF($I$60<>'Blad2 '!$A$10,IF($I$61<>'Blad2 '!$A$10,IF($I$62<>'Blad2 '!$A$10,SUM($I$59*$I$62*($I$60-$I$61)/60),""),""),""),"")

Sheet Diagram
B2: Köldmedium: | D2: =Beräkningsblad!C8 -> R134a
E3: Kund: | F3: =Beräkningsblad!G3 -> 0
B4: Datum: | C4: =Beräkningsblad!G4 -> 0 | E4: Aggregat: | F4: =Beräkningsblad!G5 -> 0
C5: L1 | D5: L2 | E5: L3
B6: Spänning | C6: =Beräkningsblad!C10 -> 400 | D6: =Beräkningsblad!D10 -> 400 | E6: =Beräkningsblad!E10 -> 400 | F6: V | G6: Cos j | H6: =Beräkningsblad!G10 -> 1
B8: Ström | C8: =Beräkningsblad!C11 -> 4.15 | D8: =Beräkningsblad!D11 -> 4.15 | E8: =Beräkningsblad!E11 -> 4.15 | F8: A | G8: h | H8: =Beräkningsblad!I54 -> 1
B10: Hp | C10: =Beräkningsblad!C17 -> 19 | D10: bar (e) | F10: Kondensor inlopp | H10: =Beräkningsblad!E24 -> 106.5 | I10: °C
B12: Lp | C12: =Beräkningsblad!C14 -> 0.9 | D12: bar (e) | F12: Kondensor utlopp | H12: =Beräkningsblad!E25 -> 46.5 | I12: °C
B14: Hetgas | C14: =Beräkningsblad!E20 -> 106.5 | D14: °C | G14: Suggasvx. Vätska inlopp | H14: =Beräkningsblad!E32 -> 0 | I14: °C
B16: Suggas | C16: =Beräkningsblad!E45 -> -6.5 | D16: °C | G16: Suggasvx. Vätska utlopp | H16: =Beräkningsblad!E33 -> 0 | I16: °C
B18: Hetgasvx.inlopp | C18: =Beräkningsblad!E21 -> 0 | D18: °C | G18: Suggasvx.Gas inlopp | H18: =Beräkningsblad!E41 -> 0 | I18: °C
B20: Hetgasvx.utlopp | C20: =Beräkningsblad!E22 -> 0 | D20: °C | G20: Suggasvx.Gas utlopp | H20: =Beräkningsblad!E42 -> 0 | I20: °C
B22: Strypdon Vätska | C22: =Beräkningsblad!E36 -> -9.2 | D22: °C | F22: Förångare Gas utlopp | H22: =Beräkningsblad!E38 -> -6.5 | I22: °C
A24: Hp 100% kondensat | G24: Hp | H24: =Beräkningsblad!E18 -> 65 | I24: °C
A25: =Beräkningsblad!E19 -> 65 | B25: °C | G25: 100% gas | H25: =Beräkningsblad!E17 -> 20 | I25: bar (a)
A26: =Beräkningsblad!E17 -> 20 | B26: bar (a) | H26: =Beräkningsblad!J18 -> 0 | I26: kJ/kg
A27: =Beräkningsblad!I19 -> 0 | B27: kJ/kg
A28: Underkylning | G28: Hetgaspunkt | H28: =Beräkningsblad!E20 -> 106.5 | I28: °C
A29: =Beräkningsblad!E37 -> 74.2 | B29: °K | H29: =Beräkningsblad!J20 -> 0 | I29: kJ/kg
A30: =Beräkningsblad!E36 -> -9.2 | B30: °C
A31: =Beräkningsblad!I36 | B31: kJ/kg | G31: Hetg.vx.ut | H31: =Beräkningsblad!E22 -> 0 | I31: °C
A32: Strypdonets | G32: Kond. In | H32: =Beräkningsblad!E24 -> 106.5
A33: entalpi
G34: Suggasp. | H34: =Beräkningsblad!E45 -> -6.5 | I34: °C
H35: =Beräkningsblad!J45 -> 395.44428 | I35: kJ/kg
A36: Lp | G36: Överhettning | H36: =Beräkningsblad!E46 -> 5.5 | I36: °K
A37: =Beräkningsblad!E14 -> 1.9 | B37: bar (a) | G37: Lp | H37: =Beräkningsblad!E15 -> -12 | I37: °C
G38: 100% gas | H38: =Beräkningsblad!J15 -> 390.4 | I38: kJ/kg
A40: COP v = | B40: =H29 -> 0 | C40: - | D40: =A31 | E40: = | F40: =(B40-D40)/(B41-D41) -> #VALUE! | H40: Tillförd el effekt
B41: =H29 -> 0 | C41: - | D41: =H35 -> 395.44428 | H41: =Beräkningsblad!E50 -> 3.0252043 | I41: kW
A43: COP k = | B43: =H35 -> 395.44428 | C43: - | D43: =A31 | E43: = | F43: =(B43-D43)/(B44-D44) -> #VALUE! | H43: Avgiven effekt
B44: =H29 -> 0 | C44: - | D44: =H35 -> 395.44428 | H44: =Beräkningsblad!E54 -> 1.9267674 | I44: kW
B47: Energiläckage | H47: Energivinst | I47: =Beräkningsblad!J51 -> 0.63690488
A48: Mellan kompressor-hetgasväxlare | E48: =Beräkningsblad!J20-Beräkningsblad!J21 -> #VALUE! | F48: W
A49: Mellan hetgasväxlare-kondensor | E49: =IF(Beräkningsblad!E22>Beräkningsblad!E19,(Beräkningsblad!J22-Beräkningsblad!J24),Beräkningsblad!I22-Beräkningsblad!I24) -> #VALUE! | F49: W
A50: Mellan kondensor-underkylare | E50: =Beräkningsblad!I25-Beräkningsblad!I28 -> #VALUE! | F50: W
A51: Mellan underkylare-suggasväxlare | E51: =Beräkningsblad!I29-Beräkningsblad!I32 -> #VALUE!
A52: Mellan suggasväxlare-expantionsventil | E52: =Beräkningsblad!I33-Beräkningsblad!I36 -> #VALUE! | F52: W
A53: Mellan förångare-suggasväxlare | E53: =Beräkningsblad!J38-Beräkningsblad!J41 -> #VALUE! | F53: W
A54: Mellan suggasväxlare-kompressor | E54: =Beräkningsblad!J42-Beräkningsblad!J45 -> #VALUE! | F54: W

Sheet Blad2 
A1: Medelspänning | C1: M.ström | E1: 1 phas är markerat. Ange spänning och ström under L1
A2: phas 1 | B2: =Beräkningsblad!C10 -> 400 | C2: =Beräkningsblad!C11 -> 4.15 | E2: 3 phas
A3: phas 2 | B3: =Beräkningsblad!D10 -> 400 | C3: =Beräkningsblad!D11 -> 4.15
A4: phas 3 | B4: =Beräkningsblad!E10 -> 400 | C4: =Beräkningsblad!E11 -> 4.15 | E4: Elektrisk effekt 1 phas | H4: =Beräkningsblad!C10*Beräkningsblad!C11*Beräkningsblad!G10/1000 -> 1.66 | J4: =IF(Beräkningsblad!C10>0,IF(Beräkningsblad!C11>0,IF(Beräkningsblad!G10>0,(Beräkningsblad!C10*Beräkningsblad!C11*Beräkningsblad!G10/1000),""),""),"") -> 1.66
A5: summa | B5: =SUM(B2:B4) -> 1200 | C5: =SUM(C2:C4) -> 12.45 | E5: Elektrisk effekt 3 phas | H5: =B6*C6*Beräkningsblad!G10*SQRT(3)/1000 -> 2.8752043 | J5: =IF(Beräkningsblad!C10>0,IF(Beräkningsblad!D10>0,IF(Beräkningsblad!E10>0,IF(Beräkningsblad!C11>0,IF(Beräkningsblad!D11>0,IF(Beräkningsblad!E11>0,IF(Beräkningsblad!G10>0,(B6*C6*Beräkningsblad!G10*SQRT(3)/1000),""),""),""),""),""),""),"") -> 2.8752043
A6: summa /3 | B6: =B5/3 -> 400 | C6: =C5/3 -> 4.15
E7: Högt tryck angivet | H7: Ingen tryckrörstemp.
A8: KONDENSERING
E9: Hög temperatur | H9: Låg temperatur
A10: =("") | B10: A10 = tom cell
A11: 1 | E11: Ingen inloppstemp. | H11: Hetgasvx.
A12: 0
A13: Inget högtryck angivet | E13: Kont.hetgasväxlaretemp.
H14: Inlopp låg temp.
A15: =Beräkningsblad!E23 | B15: hetgasvx. | E15: Ingen kondensering | H15: Kont. Kondensor
A16: =Beräkningsblad!E27 -> -265 | B16: kond. | H16: Kont. Underkylare
A17: =Beräkningsblad!E31 | B17: und.kyl | E17: s kurva | F17: idealisk kompression
A18: =SUM(A16,A15) -> -265 | B18: summa
A19: =Beräkningsblad!E47 -> -0.0072708204 | B19: massfl. | E19: Lp | F19: =Beräkningsblad!E14 -> 1.9 | G19: (bar a)
A20: =A19*A18 -> 1.9267674 | B20: avg.eff. | E20: förång.temp | F20: =Beräkningsblad!E15 -> -12 | G20: ºC
E21: s kurva | F21: =VLOOKUP(F19,Blad3!A6:J121,10) -> 1.742
A22: Kont.temp | E22: multiplikator | F22: =VLOOKUP(F19,Blad3!A6:M121,13) -> 0.003
E23: överhettning | F23: =Beräkningsblad!E45-Beräkningsblad!E15 -> 5.5 | G23: K | H23: entalpi | I23: =Beräkningsblad!J45 -> 395.44428
A24: =Beräkningsblad!D63 | B24: hetgas | E24: beräknad s kurva | G24: =F21+(F23*F22) -> 1.7585
A25: =Beräkningsblad!E63 | B25: kond
A26: =Beräkningsblad!F63 | B26: und.k
A27: =SUM(A24:A26) -> 0 | B27: summa | E27: s kurva
E29: Hp | F29: =Beräkningsblad!E17 -> 20 | G29: (bar a)
E30: förå.temp | F30: =Beräkningsblad!E18 -> 65 | G30: °C
E31: s kurva | F31: =VLOOKUP(F29,Blad3!A6:J121,10) -> 1.7 | H31: entalpi | I31: =Beräkningsblad!J18 -> 0
E32: hetgas | F32: =Beräkningsblad!E20 -> 106.5 | G32: ºC | H32: entalpi | I32: =Beräkningsblad!J20 -> 0
E33: överhettning | F33: =F32-Beräkningsblad!E18 -> 41.5 | G33: K | H33: differens | I33: =I32-I31 -> 0
E34: multplikator | F34: =VLOOKUP(F29,Blad3!A6:M121,13) -> 0.0036666667
E35: beräknad s kurva | G35: =F31+(F34*F33) -> 1.8521667
E36: s kurveändring | G36: =G35-F31 -> 0.15216667
E37: entalpi vid s kurvan | G37: =G24 -> 1.7585 | I37: =I31+((G37-F31)/G36*I33) -> 0
E38: teoretisk hetgas | G38: =F30+((G24-F31)*F33/G36) -> 80.954545
E40: Isentropisk verkningsgrad
F41: entalpi
E42: h | F42: =(I37-I23)/(I32-I23) -> 1

Sheet Blad3
A1: R134a | B1: Temperatur | D1: Specifik volym | F1: Specifik entalpi | I1: Specifik | K1: sugrör
B2: vätska | C2: ånga | D2: vätska | E2: ånga | F2: vätska | G2: ånga | I2: entalpi | J2: entropisk | K2: temperatur
A3: Tryck | B3: t,BP | C3: t,DP | D3: VBP | E3: VDP | F3: h,BP | G3: h,BP | I3: Hetgas | J3: kompression | K3: överhettning
A4: abs | B4: C° | C4: C° | D4: m³ / kg | E4: m³ / kg | F4: kJ / kg | G4: kJ / kg | H4: multiplikator | I4: högst | K4: max 30 K | L4: överhettning | M4: multiplikator
A5: bar(a) | D5: *1/1000 | H5: hetgas | I5: 130°C | J5: s kurva | K5: ºC | L5: s kurva | M5: s kurva
A6: 0.516 | B6: -40 | C6: -40 | D6: 0.706 | E6: 357.66 | F6: 149.34 | G6: 372.78 | H6: =($I6-$G6)/(130-$C6) -> 0.87776471 | I6: 522 | J6: 1.77 | K6: =C6+30 -> -10 | L6: 1.82 | M6: =(L6-J6)/30 -> 0.0016666667
A7: 0.554 | B7: -39 | C7: -39 | D7: 0.707 | E7: 340.72 | F7: 150.53 | G7: 373.42 | H7: =($I7-$G7)/(130-$C7) -> 0.87888296 | I7: 521.95122 | J7: 1.769 | K7: =C7+30 -> -9 | L7: 1.823 | M7: =(L7-J7)/30 -> 0.0018
A8: 0.572 | B8: -38 | C8: -38 | D8: 0.708 | E8: 324.73 | F8: 151.72 | G8: 374.07 | H8: =($I8-$G8)/(130-$C8) -> 0.87995499 | I8: 521.90244 | J8: 1.768 | K8: =C8+30 -> -8 | L8: 1.826 | M8: =(L8-J8)/30 -> 0.0019333333
A9: 0.602 | B9: -37 | C9: -37 | D9: 0.71 | E9: 309.63 | F9: 152.91 | G9: 374.71 | H9: =($I9-$G9)/(130-$C9) -> 0.88109975 | I9: 521.85366 | J9: 1.767 | K9: =C9+30 -> -7 | L9: 1.829 | M9: =(L9-J9)/30 -> 0.0020666667
A10: 0.663 | B10: -36 | C10: -36 | D10: 0.711 | E10: 295.36 | F10: 154.11 | G10: 375.35 | H10: =($I10-$G10)/(130-$C10) -> 0.8822583 | I10: 521.80488 | J10: 1.766 | K10: =C10+30 -> -6 | L10: 1.832 | M10: =(L10-J10)/30 -> 0.0022
A11: 0.666 | B11: -35 | C11: -35 | D11: 0.713 | E11: 281.87 | F11: 155.32 | G11: 375.99 | H11: =($I11-$G11)/(130-$C11) -> 0.88343089 | I11: 521.7561 | J11: 1.765 | K11: =C11+30 -> -5 | L11: 1.835 | M11: =(L11-J11)/30 -> 0.0023333333
A12: 0.699 | B12: -34 | C12: -34 | D12: 0.714 | E12: 269.12 | F12: 156.53 | G12: 376.63 | H12: =($I12-$G12)/(130-$C12) -> 0.88461779 | I12: 521.70732 | J12: 1.764 | K12: =C12+30 -> -4 | L12: 1.838 | M12: =(L12-J12)/30 -> 0.0024666667
A13: 0.734 | B13: -33 | C13: -33 | D13: 0.716 | E13: 257.05 | F13: 157.74 | G13: 377.27 | H13: =($I13-$G13)/(130-$C13) -> 0.88581924 | I13: 521.65854 | J13: 1.763 | K13: =C13+30 -> -3 | L13: 1.841 | M13: =(L13-J13)/30 -> 0.0026
A14: 0.77 | B14: -32 | C14: -32 | D14: 0.717 | E14: 245.62 | F14: 158.96 | G14: 377.91 | H14: =($I14-$G14)/(130-$C14) -> 0.88703553 | I14: 521.60976 | J14: 1.762 | K14: =C14+30 -> -2 | L14: 1.844 | M14: =(L14-J14)/30 -> 0.0027333333
A15: 0.808 | B15: -31 | C15: -31 | D15: 0.719 | E15: 234.8 | F15: 160.18 | G15: 378.54 | H15: =($I15-$G15)/(130-$C15) -> 0.88832904 | I15: 521.56098 | J15: 1.761 | K15: =C15+30 -> -1 | L15: 1.847 | M15: =(L15-J15)/30 -> 0.0028666667
A16: 0.848 | B16: -30 | C16: -30 | D16: 0.72 | E16: 224.55 | F16: 161.4 | G16: 379.18 | H16: =($I16-$G16)/(130-$C16) -> 0.88957622 | I16: 521.5122 | J16: 1.76 | K16: =C16+30 -> 0 | L16: 1.85 | M16: =(L16-J16)/30 -> 0.003
A17: 0.888 | B17: -29 | C17: -29 | D17: 0.722 | E17: 214.83 | F17: 162.63 | G17: 379.82 | H17: =($I17-$G17)/(130-$C17) -> 0.89083909 | I17: 521.46341 | J17: 1.759 | K17: =C17+30 -> 1 | L17: 1.849 | M17: =(L17-J17)/30 -> 0.003
... A110: 18.476 | B110: 64 | C110: 64 | D110: 0.975 | E110: 10.25 | F110: 294.53 | G110: 428.08 | H110: =($I110-$G110)/(130-$C110) -> 1.2109091 | I110: 508 | J110: 1.702 | K110: =C110+30 -> 94 | L110: 1.81 | M110: =(L110-J110)/30 -> 0.0036
A111: 18.906 | B111: 65 | C111: 65 | H111: =($I111-$G111)/(130-$C111) -> 0 | J111: 1.7 | K111: =C111+30 -> 95 | L111: 1.81 | M111: =(L111-J111)/30 -> 0.0036666667
H112: =($I112-$G112)/(130-$C112) -> 0 | K112: =C112+30 -> 30 | M112: =(L112-J112)/30 -> 0
