Workbook

Sheet värmepumpdata
A1: datum tid | B1: kWh tot | C1: kWh VP | D1: Ute max °C | E1: Ute min °C | F1: Ute termometer | G1: Ute °C givare | H1: Ö hall °C Är | I1: Ö hall °C max | J1: Ö hall °C min | K1: V-rum °C Är | L1: V-rum °C max | M1: V-rum °C min | N1: Rumsgivare °C är | O1: Rumsgivare °C bör | P1: Kurv lut-ning | Q1: para-llell | R1: Rumskomp | S1: VP | T1: TS | U1: VB fram | V1: VB mål | W1: VB retur | X1: KB fram | Y1: KB retur | Z1: VV är (40) | AA1: VP starter | AB1: VP tid | AC1: TS tid | AD1: kWh tot per dygn | AE1: Värme +VV kWh/ dygn | AF1: HH kWh/ dygn | AG1: Ute medel °C | AH1: Utemedel 2 dygn före 1dec 2010 | AI1: Delta ute | AJ1: total tid | AK1: VP tid | AL1: % gångtid | AM1: kWh/VP-timme | AN1: VP tid per dygn | AO1: TS tid | AP1: TS /dygn | AQ1: Antal starter | AR1: Starter per h | AS1: Start per dygn | AT1: tid mellan start | AU1: Gångtid per start | AV1: Ändring/Observation
A2: 37895 | B2: 2320 | AD2: =+(B2-B1)/(A2-A1) -> #VALUE!
A3: 38205 | B3: 27575 | AD3: =+(B3-B2)/(A3-A2) -> 81.467742
A4: 38360 | B4: 34852 | AD4: =+(B4-B3)/(A4-A3) -> 46.948387
A5: 38412 | B5: 38524 | AD5: =+(B5-B4)/(A5-A4) -> 70.615385
A6: 38442 | B6: 42500 | AD6: =+(B6-B5)/(A6-A5) -> 132.53333
A7: 38472 | B7: 43200 | AD7: =+(B7-B6)/(A7-A6) -> 23.333333
A8: 38502 | B8: 44476 | AD8: =+(B8-B7)/(A8-A7) -> 42.533333
A9: 38534 | B9: 45160 | AD9: =+(B9-B8)/(A9-A8) -> 21.375
A10: 38566 | B10: 46450 | AD10: =+(B10-B9)/(A10-A9) -> 40.3125
A11: 38625 | B11: 47600 | AD11: =+(B11-B10)/(A11-A10) -> 19.491525
A12: 38655 | B12: 48800 | AD12: =+(B12-B11)/(A12-A11) -> 40
A13: 38730 | B13: 52446 | AD13: =+(B13-B12)/(A13-A12) -> 48.613333
... A24: 39200 | B24: 87000 | AD24: =+(B24-B23)/(A24-A23) -> 108.82353
A25: 39286 | B25: 90991 | AD25: =+(B25-B24)/(A25-A24) -> 46.406977 | AE25: =+AD25-AF25 -> 31.406977 | AF25: 15
A26: 39320 | B26: 91895 | AD26: =+(B26-B25)/(A26-A25) -> 26.588235 | AE26: =+AD26-AF26 -> 11.588235 | AF26: 15 | AV26: Flyttade till Koster heltid 2007-08-06
A27: 39353 | B27: 93848 | AD27: =+(B27-B26)/(A27-A26) -> 59.181818 | AE27: =+AD27-AF27 -> 44.181818 | AF27: 15
A28: 39414 | B28: 101265 | AD28: =+(B28-B27)/(A28-A27) -> 121.59016 | AE28: =+AD28-AF28 -> 106.59016 | AF28: 15
A29: 39448 | B29: 107335 | AD29: =+(B29-B28)/(A29-A28) -> 178.52941 | AE29: =+AD29-AF29 -> 163.52941 | AF29: 15
A30: 39478 | B30: 112904 | AD30: =+(B30-B29)/(A30-A29) -> 185.63333 | AE30: =+AD30-AF30 -> 170.63333 | AF30: 15
A31: 39507 | B31: 118152 | AD31: =+(B31-B30)/(A31-A30) -> 180.96552 | AE31: =+AD31-AF31 -> 165.96552 | AF31: 15
A32: 39538 | B32: 123331 | AD32: =+(B32-B31)/(A32-A31) -> 167.06452 | AE32: =+AD32-AF32 -> 152.06452 | AF32: 15
A33: 39568 | B33: 126968 | AD33: =+(B33-B32)/(A33-A32) -> 121.23333 | AE33: =+AD33-AF33 -> 106.23333 | AF33: 15
A34: 39629 | B34: 130760 | AD34: =+(B34-B33)/(A34-A33) -> 62.163934 | AE34: =+AD34-AF34 -> 47.163934 | AF34: 15
A35: 39730 | B35: 136477 | AD35: =+(B35-B34)/(A35-A34) -> 56.60396 | AE35: =+AD35-AF35 -> 41.60396 | AF35: 15
A36: 39767 | B36: 4136 | AD36: =+(B36-0)/(A36-A35) -> 111.78378 | AE36: =+AD36-AF36 -> 96.783784 | AF36: 15
A37: 39783 | B37: 6200 | AD37: =+(B37-B36)/(A37-A36) -> 129 | AE37: =+AD37-AF37 -> 114 | AF37: 15 | AV37: beräknad avläsning
A38: 39799.907 | P38: 9 | Q38: 3 | S38: av | U38: 39 | W38: 40 | AA38: 7 | AH38: =(G38+G37)/2 -> 0 | AV38: installerar VP. Testkörn 1v. Öppnar alla raddar, stryper matsal- o salraddar.
A39: 39799.958 | G39: 5 | P39: 9 | Q39: 3 | S39: av | U39: 44 | W39: 44 | X39: 5 | Y39: 7 | Z39: 50 | AA39: 8 | AB39: 7 | AC39: 0 | AH39: =(G39+G38)/2 -> 2.5 | AJ39: =(+A39-A38)*24 -> 1.2333333 | AK39: =+AB39-AB38 -> 7 | AN39: =+AK39/AJ39*24 -> 136.21622 | AO39: =+AC39-AC38 -> 0 | AP39: =+AO39/AJ39*24 -> 0 | AQ39: =+AA39-AA38 -> 1 | AR39: =+AQ39/AJ39 -> 0.81081081 | AS39: =+AR39*24 -> 19.459459 | AT39: =+AJ39/AQ39*60 -> 74 | AU39: =+AK39/AQ39*60 -> 420
A40: 39800.292 | G40: 6 | P40: 9 | Q40: 3 | S40: larm | U40: 38 | W40: 34 | X40: 11 | Y40: 11 | Z40: 51 | AA40: 14 | AB40: 11 | AC40: 0 | AH40: =(G40+G39)/2 -> 5.5 | AJ40: =(+A40-A39)*24 -> 8 | AK40: =+AB40-AB39 -> 4 | AL40: =+AK40/AJ40*100 -> 50 | AN40: =+AK40/AJ40*24 -> 12 | AO40: =+AC40-AC39 -> 0 | AP40: =+AO40/AJ40*24 -> 0 | AQ40: =+AA40-AA39 -> 6 | AR40: =+AQ40/AJ40 -> 0.75 | AS40: =+AR40*24 -> 18 | AT40: =+AJ40/AQ40*60 -> 80 | AU40: =+AK40/AQ40*60 -> 40
A41: 39800.408 | G41: 6 | P41: 9 | Q41: 3 | S41: av | U41: 42 | W41: 42 | X41: 5 | Y41: 8 | Z41: 50 | AA41: 16 | AB41: 12 | AC41: 0 | AH41: =(G41+G40)/2 -> 6 | AJ41: =(+A41-A40)*24 -> 2.8 | AK41: =+AB41-AB40 -> 1 | AL41: =+AK41/AJ41*100 -> 35.714286 | AN41: =+AK41/AJ41*24 -> 8.5714286 | AO41: =+AC41-AC40 -> 0 | AP41: =+AO41/AJ41*24 -> 0 | AQ41: =+AA41-AA40 -> 2 | AR41: =+AQ41/AJ41 -> 0.71428571 | AS41: =+AR41*24 -> 17.142857 | AT41: =+AJ41/AQ41*60 -> 84 | AU41: =+AK41/AQ41*60 -> 30
A42: 39800.458 | G42: 5 | P42: 9 | Q42: 3 | S42: av | U42: 42 | W42: 42 | X42: 5 | Y42: 8 | Z42: 49 | AA42: 17 | AB42: 13 | AC42: 0 | AH42: =(G42+G41)/2 -> 5.5 | AJ42: =(+A42-A41)*24 -> 1.2 | AK42: =+AB42-AB41 -> 1 | AL42: =+AK42/AJ42*100 -> 83.333333 | AN42: =+AK42/AJ42*24 -> 20 | AO42: =+AC42-AC41 -> 0 | AP42: =+AO42/AJ42*24 -> 0 | AQ42: =+AA42-AA41 -> 1 | AR42: =+AQ42/AJ42 -> 0.83333333 | AS42: =+AR42*24 -> 20 | AT42: =+AJ42/AQ42*60 -> 72 | AU42: =+AK42/AQ42*60 -> 60
A43: 39800.49 | G43: 5 | P43: 9 | Q43: 3 | S43: larm | U43: 32 | W43: 32 | X43: 5 | Y43: 8 | Z43: 56 | AA43: 18 | AB43: 14 | AC43: 0 | AH43: =(G43+G42)/2 -> 5 | AJ43: =(+A43-A42)*24 -> 0.75 | AK43: =+AB43-AB42 -> 1 | AL43: =+AK43/AJ43*100 -> 133.33333 | AN43: =+AK43/AJ43*24 -> 32 | AO43: =+AC43-AC42 -> 0 | AP43: =+AO43/AJ43*24 -> 0 | AQ43: =+AA43-AA42 -> 1 | AR43: =+AQ43/AJ43 -> 1.3333333 | AS43: =+AR43*24 -> 32 | AT43: =+AJ43/AQ43*60 -> 45 | AU43: =+AK43/AQ43*60 -> 60
A44: 39800.51 | G44: 5 | P44: 9 | Q44: 3 | S44: till | U44: 43 | W44: 38 | X44: 5 | Y44: 0 | Z44: 49 | AA44: 19 | AB44: 14 | AC44: 0 | AH44: =(G44+G43)/2 -> 5 | AJ44: =(+A44-A43)*24 -> 0.5 | AK44: =+AB44-AB43 -> 0 | AL44: =+AK44/AJ44*100 -> 0 | AN44: =+AK44/AJ44*24 -> 0 | AO44: =+AC44-AC43 -> 0 | AP44: =+AO44/AJ44*24 -> 0 | AQ44: =+AA44-AA43 -> 1 | AR44: =+AQ44/AJ44 -> 2 | AS44: =+AR44*24 -> 48 | AT44: =+AJ44/AQ44*60 -> 30 | AU44: =+AK44/AQ44*60 -> 0
A45: 39800.538 | G45: 5 | P45: 9 | Q45: 3 | S45: till | U45: 47 | W45: 43 | X45: 4 | Y45: 0 | Z45: 49 | AA45: 19 | AB45: 15 | AC45: 0 | AH45: =(G45+G44)/2 -> 5 | AJ45: =(+A45-A44)*24 -> 0.66666667 | AK45: =+AB45-AB44 -> 1 | AL45: =+AK45/AJ45*100 -> 150 | AN45: =+AK45/AJ45*24 -> 36 | AO45: =+AC45-AC44 -> 0 | AP45: =+AO45/AJ45*24 -> 0 | AQ45: =+AA45-AA44 -> 0 | AR45: =+AQ45/AJ45 -> 0 | AS45: =+AR45*24 -> 0 | AT45: =+AJ45/AQ45*60 -> #DIV/0! | AU45: =+AK45/AQ45*60 -> #DIV/0!
A46: 39800.583 | G46: 5 | P46: 9 | Q46: 3 | S46: larm | U46: 39 | W46: 39 | X46: 4 | Y46: 8 | Z46: 56 | AA46: 19 | AB46: 16 | AC46: 0 | AH46: =(G46+G45)/2 -> 5 | AJ46: =(+A46-A45)*24 -> 1.0833333 | AK46: =+AB46-AB45 -> 1 | AL46: =+AK46/AJ46*100 -> 92.307692 | AN46: =+AK46/AJ46*24 -> 22.153846 | AO46: =+AC46-AC45 -> 0 | AP46: =+AO46/AJ46*24 -> 0 | AQ46: =+AA46-AA45 -> 0 | AR46: =+AQ46/AJ46 -> 0 | AS46: =+AR46*24 -> 0 | AT46: =+AJ46/AQ46*60 -> #DIV/0! | AU46: =+AK46/AQ46*60 -> #DIV/0!
A47: 39800.731 | G47: 5 | P47: 9 | Q47: 3 | S47: till | U47: 48 | W47: 43 | X47: 4 | Y47: 0 | Z47: 45 | AA47: 22 | AB47: 18 | AC47: 0 | AH47: =(G47+G46)/2 -> 5 | AJ47: =(+A47-A46)*24 -> 3.5333333 | AK47: =+AB47-AB46 -> 2 | AL47: =+AK47/AJ47*100 -> 56.603774 | AN47: =+AK47/AJ47*24 -> 13.584906 | AO47: =+AC47-AC46 -> 0 | AP47: =+AO47/AJ47*24 -> 0 | AQ47: =+AA47-AA46 -> 3 | AR47: =+AQ47/AJ47 -> 0.8490566 | AS47: =+AR47*24 -> 20.377358 | AT47: =+AJ47/AQ47*60 -> 70.666667 | AU47: =+AK47/AQ47*60 -> 40
A48: 39800.792 | G48: 3 | P48: 9 | Q48: 3 | S48: EP | U48: 32 | W48: 32 | X48: - | Y48: - | Z48: 49 | AA48: 22 | AB48: 18 | AC48: 0 | AH48: =(G48+G47)/2 -> 4 | AJ48: =(+A48-A47)*24 -> 1.4666667 | AK48: =+AB48-AB47 -> 0 | AL48: =+AK48/AJ48*100 -> 0 | AN48: =+AK48/AJ48*24 -> 0 | AO48: =+AC48-AC47 -> 0 | AP48: =+AO48/AJ48*24 -> 0 | AQ48: =+AA48-AA47 -> 0 | AR48: =+AQ48/AJ48 -> 0 | AS48: =+AR48*24 -> 0 | AT48: =+AJ48/AQ48*60 -> #DIV/0! | AU48: =+AK48/AQ48*60 -> #DIV/0! | AV48: satte VP ur drift
A49: 39801.555 | B49: 8716.46 | G49: 7 | P49: 9 | Q49: 3 | S49: larm | U49: 63 | W49: 34 | Z49: 57 | AD49: =+(B49-B37)/(A49-A37) -> 135.62268 | AE49: =+AD49-AF49 -> 120.62268 | AF49: 15 | AH49: =(G49+G48)/2 -> 5 | AJ49: =(+A49-A48)*24 -> 18.316667 | AK49: =+AB49-AB48 -> -18 | AL49: =+AK49/AJ49*100 -> -98.271156 | AN49: =+AK49/AJ49*24 -> -23.585077 | AO49: =+AC49-AC48 -> 0 | AP49: =+AO49/AJ49*24 -> 0 | AQ49: =+AA49-AA48 -> -22 | AR49: =+AQ49/AJ49 -> -1.2010919 | AS49: =+AR49*24 -> -28.826206 | AT49: =+AJ49/AQ49*60 -> -49.954545 | AU49: =+AK49/AQ49*60 -> 49.090909 | AV49: Hade VP i drift 5min. Testade vidare
A50: 39801.861 | AA50: 30 | AB50: 17.8 | AC50: 0 | AH50: =(G50+G49)/2 -> 3.5 | AJ50: =(+A50-A49)*24 -> 7.35 | AK50: =+AB50-AB49 -> 17.8 | AL50: =+AK50/AJ50*100 -> 242.17687 | AN50: =+AK50/AJ50*24 -> 58.122449 | AO50: =+AC50-AC49 -> 0 | AP50: =+AO50/AJ50*24 -> 0 | AQ50: =+AA50-AA49 -> 30 | AR50: =+AQ50/AJ50 -> 4.0816327 | AS50: =+AR50*24 -> 97.959184 | AT50: =+AJ50/AQ50*60 -> 14.7 | AU50: =+AK50/AQ50*60 -> 35.6 | AV50: Startade EP drift.
...

Sheet diagr månader
A1: År | B1: Månad | C1: Medeltemp Hunnebo-strand | D1: Medel-temp hemma | E1: Medel-temp nordkoster | F1: Total kWh | G1: Värme+VV kWh | H1: Hushållsel kWh | I1: VP timmar | J1: VP % av tid | K1: VP tillförd medeleffekt kW | L1: TS timmar | M1: 12mån rullande total kWh | N1: Ändring
A2: 2003 | B2: januari
B3: februari
B4: mars
B5: april
B6: maj | P6: Isolerat Var | Q6: När
B7: juni | P7: väggar badrum | Q7: 39148
B8: juli | N8: Köpte Lindås2 | P8: väggar v-rum | Q8: 39222
B9: augusti | N9: Fritidshus | P9: väggar matsal | Q9: 39231 | R9: ??
B10: september | P10: sovrum | Q10: 39288
B11: oktober | P11: mellanrum | Q11: 39836
B12: november | P12: barnkammare | Q12: 40126 | S12: Tapet 2006-11-26
B13: december | P13: ½ vind | Q13: 40204
A14: 2004 | B14: januari | P14: arbetsrum | Q14: 40238 | R14: före radiatorindragning
B15: februari | P15: Cainas rum | Q15: 40289 | R15: ?? | S15: tapet köp 2010-10-04
B16: mars | P16: Kök 1 vägg | Q16: 40345
B17: april | P17: ½ vind | Q17: 40422 | R17: ??
B18: maj | P18: Ö-hall | Q18: 40557
B19: juni | P19: Farstu | Q19: 40848
B20: juli
B21: augusti
B22: september
B23: oktober
B24: november
B25: december
A26: 2005 | B26: januari | E26: 3.6
B27: februari | E27: 0.2
B28: mars | E28: 0
B29: april | E29: 6.4
B30: maj | E30: 9.8
B31: juni | E31: 13.9
B32: juli | E32: 18.1
B33: augusti | E33: 16.2
B34: september | E34: 14.3
B35: oktober | E35: 10
B36: november | E36: 6.8
B37: december | E37: 2.2
A38: 2006 | B38: januari | E38: -0.6 | F38: 2173
B39: februari | E39: -1.8 | F39: 2342
B40: mars | E40: -2.2 | F40: 2592
...

Sheet Graddagsnormerat
A1: År | B1: Månad | C1: temp medel | D1: kWh totalt | E1: kWh värme och varm vatten | F1: Netto värme kWh (VV=100) | G1: tröskeltemp | H1: dagar | I1: Grad dagar | J1: Graddags-norm 1961-1990 | K1: Värme Kwh Normerat mot 3228 graddagar | L1: värme kWh/ graddag | M1: Åtgärd | N1: % av energi åtgång före åtgärder
A2: 2007 | B2: januari | C2: 3.4 | D2: 4223 | F2: =+D2-475-300 -> 3448 | G2: 17 | H2: 31 | I2: =IF(C2<G2,(17-C2)*H2,0) -> 421.6 | J2: 592.1 | K2: =+F2/I2*J2 -> 4842.4118 | L2: =+F2/I2 -> 8.1783681 | M2: Börjar badrumsbygge
B3: februari | C3: -0.7 | D3: 4279 | F3: =+D3-475-300 -> 3504 | G3: 17 | H3: 28 | I3: =IF(C3<G3,(17-C3)*H3,0) -> 495.6 | J3: 542.3 | K3: =+F3/I3*J3 -> 3834.1792 | L3: =+F3/I3 -> 7.0702179
B4: mars | C4: 4.7 | D4: 4430 | F4: =+D4-475-300 -> 3655 | G4: 17 | H4: 31 | I4: =IF(C4<G4,(17-C4)*H4,0) -> 381.3 | J4: 514.6 | K4: =+F4/I4*J4 -> 4932.7642 | L4: =+F4/I4 -> 9.5856281
B5: april | C5: 7.5 | D5: 3077 | F5: =+D5-475-300 -> 2302 | G5: 12 | H5: 30 | I5: =IF(C5<G5,(17-C5)*H5,0) -> 285 | J5: 372 | K5: =+F5/I5*J5 -> 3004.7158 | L5: =+F5/I5 -> 8.077193 | M5: Nytt badrum klart, med golvvärme
B6: maj | C6: 10.4 | D6: 1439 | F6: =+D6-475-300 -> 664 | G6: 10 | H6: 31 | I6: =IF(C6<G6,(17-C6)*H6,0) -> 0 | J6: 0 | M6: Isolerat Vardagsrum
B7: juni | C7: 16.3 | D7: 1392 | F7: =+D7-475-300 -> 617 | G7: 10 | H7: 30 | I7: =IF(C7<G7,(17-C7)*H7,0) -> 0 | J7: 0 | M7: Isolerat matsal
B8: juli | C8: 15.9 | D8: 1260 | F8: =+D8-475-300 -> 485 | G8: 10 | H8: 31 | I8: =IF(C8<G8,(17-C8)*H8,0) -> 0 | J8: 0
B9: augusti | C9: 17.1 | D9: 1020 | F9: =+D9-475-300 -> 245 | G9: 11 | H9: 31 | I9: =IF(C9<G9,(17-C9)*H9,0) -> 0 | J9: 0 | M9: Flyttat in 100%
B10: september | C10: 12.9 | D10: 1889 | F10: =+D10-475-300 -> 1114 | G10: 12 | H10: 30 | I10: =IF(C10<G10,(17-C10)*H10,0) -> 0 | J10: 0
B11: oktober | C11: 9.3 | D11: 3241 | F11: =+D11-475-300 -> 2466 | G11: 13 | H11: 31 | I11: =IF(C11<G11,(17-C11)*H11,0) -> 238.7 | J11: 275.9 | K11: =+F11/I11*J11 -> 2850.3117 | L11: =+F11/I11 -> 10.330959
B12: november | C12: 4.8 | D12: 4420 | F12: =+D12-475-300 -> 3645 | G12: 17 | H12: 30 | I12: =IF(C12<G12,(17-C12)*H12,0) -> 366 | J12: 411 | K12: =+F12/I12*J12 -> 4093.1557 | L12: =+F12/I12 -> 9.9590164
B13: december | C13: 2.5 | D13: 5534 | F13: =+D13-475-300 -> 4759 | G13: 17 | H13: 31 | I13: =IF(C13<G13,(17-C13)*H13,0) -> 449.5 | J13: 530.1 | K13: =+F13/I13*J13 -> 5612.3379 | L13: =+F13/I13 -> 10.587319 | M13: Nytt Kyl o frysskåp 06/12
A14: 2007 | C14: =+AVERAGE(C2:C13) -> 8.675 | D14: 41314 | F14: =+D14-9300 -> 32014 | I14: =SUM(I2:I13) -> 2637.7 | J14: 3238 | K14: =+F14/I14*J14 -> 39299.895 | L14: =+F14/I14 -> 12.137089 | N14: =+L14/L$14 -> 1 | P14: 475 | Q14: =+P14*12 -> 5700
A15: 2008 | B15: januari | C15: 3.1 | D15: 5750 | F15: =+D15-475-300 -> 4975 | G15: 17 | H15: 31 | I15: =IF(C15<G15,(17-C15)*H15,0) -> 430.9 | J15: 592.1 | K15: =+F15/I15*J15 -> 6836.1511 | L15: =+F15/I15 -> 11.545602 | P15: 575 | Q15: =+P15*12 -> 6900
B16: februari | C16: 3.7 | D16: 5234 | F16: =+D16-475-300 -> 4459 | G16: 17 | H16: 29 | I16: =IF(C16<G16,(17-C16)*H16,0) -> 385.7 | J16: 542.3 | K16: =+F16/I16*J16 -> 6269.4211 | L16: =+F16/I16 -> 11.560799 | P16: 775 | Q16: =+P16*12 -> 9300
B17: mars | C17: 2.3 | D17: 5133 | F17: =+D17-475-300 -> 4358 | G17: 17 | H17: 31 | I17: =IF(C17<G17,(17-C17)*H17,0) -> 455.7 | J17: 514.6 | K17: =+F17/I17*J17 -> 4921.2789 | L17: =+F17/I17 -> 9.5633092
B18: april | C18: 6.9 | D18: 3578 | F18: =+D18-475-300 -> 2803 | G18: 12 | H18: 30 | I18: =IF(C18<G18,(17-C18)*H18,0) -> 303 | J18: 372 | K18: =+F18/I18*J18 -> 3441.3069 | L18: =+F18/I18 -> 9.2508251
B19: maj | C19: 11.9 | D19: 1927 | F19: =+D19-475-300 -> 1152 | G19: 10 | H19: 31 | I19: =IF(C19<G19,(17-C19)*H19,0) -> 0 | J19: 0 | M19: Nytt avlopp.
B20: juni | C20: 15.3 | D20: 1859 | F20: =+D20-475-300 -> 1084 | G20: 10 | H20: 30 | I20: =IF(C20<G20,(17-C20)*H20,0) -> 0 | J20: 0
B21: juli | C21: 18.1 | D21: 1755 | F21: =+D21-475-300 -> 980 | G21: 10 | H21: 31 | I21: =IF(C21<G21,(17-C21)*H21,0) -> 0 | J21: 0
B22: augusti | C22: 16.5 | D22: 1755 | F22: =+D22-475-300 -> 980 | G22: 11 | H22: 31 | I22: =IF(C22<G22,(17-C22)*H22,0) -> 0 | J22: 0
B23: september | C23: 12.4 | D23: 1698 | F23: =+D23-475-300 -> 923 | G23: 12 | H23: 30 | I23: =IF(C23<G23,(17-C23)*H23,0) -> 0 | J23: 0
B24: oktober | C24: 9.9 | D24: 3143 | F24: =+D24-475-300 -> 2368 | G24: 13 | H24: 31 | I24: =IF(C24<G24,(17-C24)*H24,0) -> 220.1 | J24: 275.9 | K24: =+F24/I24*J24 -> 2968.338 | L24: =+F24/I24 -> 10.758746
B25: november | C25: 5.6 | D25: 3509 | F25: =+D25-475-300 -> 2734 | G25: 17 | H25: 30 | I25: =IF(C25<G25,(17-C25)*H25,0) -> 342 | J25: 411 | K25: =+F25/I25*J25 -> 3285.5965 | L25: =+F25/I25 -> 7.994152
B26: december | C26: 1.7 | D26: 3852 | F26: =+D26-475-300 -> 3077 | G26: 17 | H26: 31 | I26: =IF(C26<G26,(17-C26)*H26,0) -> 474.3 | J26: 530.1 | K26: =+F26/I26*J26 -> 3439 | L26: =+F26/I26 -> 6.4874552 | M26: VP 22/12
A27: 2008 | C27: =+AVERAGE(C15:C26) -> 8.95 | D27: =SUM(D15:D26) -> 39193 | F27: =+D27-9300 -> 29893 | I27: =SUM(I15:I26) -> 2611.7 | J27: 3238 | K27: =+F27/I27*J27 -> 37061.506 | L27: =+F27/I27 -> 11.445802 | M27: börjat isolera vind och någon vägg | N27: =+L27/L$14 -> 0.94304338
A28: 2009 | B28: jan | C28: 0.6 | D28: 2210 | F28: =+D28-575 -> 1635 | G28: 17 | H28: 31 | I28: =IF(C28<G28,(17-C28)*H28,0) -> 508.4 | J28: 592.1 | K28: =+F28/I28*J28 -> 1904.1768 | L28: =+F28/I28 -> 3.2159717
B29: feb | C29: -2.2 | D29: 2356 | F29: =+D29-575 -> 1781 | G29: 17 | H29: 28 | I29: =IF(C29<G29,(17-C29)*H29,0) -> 537.6 | J29: 542.3 | K29: =+F29/I29*J29 -> 1796.5705 | L29: =+F29/I29 -> 3.312872 | M29: Isolerat mellanrummet
B30: mar | C30: 2.1 | D30: 2021 | F30: =+D30-575 -> 1446 | G30: 17 | H30: 31 | I30: =IF(C30<G30,(17-C30)*H30,0) -> 461.9 | J30: 514.6 | K30: =+F30/I30*J30 -> 1610.9799 | L30: =+F30/I30 -> 3.1305477
B31: apr | C31: 8.1 | D31: 1211 | F31: =+D31-575 -> 636 | G31: 12 | H31: 30 | I31: =IF(C31<G31,(17-C31)*H31,0) -> 267 | J31: 372 | K31: =+F31/I31*J31 -> 886.11236 | L31: =+F31/I31 -> 2.3820225
B32: maj | C32: 11.6 | D32: 838 | F32: =+D32-575 -> 263 | G32: 10 | H32: 31 | I32: =IF(C32<G32,(17-C32)*H32,0) -> 0 | J32: 0 | M32: Isolerat barnkammaren
B33: jun | C33: 15.1 | D33: 636 | F33: 0 | G33: 10 | H33: 30 | I33: =IF(C33<G33,(17-C33)*H33,0) -> 0 | J33: 0
B34: jul | C34: 17.2 | D34: 746 | F34: 0 | G34: 10 | H34: 31 | I34: =IF(C34<G34,(17-C34)*H34,0) -> 0 | J34: 0
B35: aug | C35: 16.8 | D35: 507 | F35: 0 | G35: 11 | H35: 31 | I35: =IF(C35<G35,(17-C35)*H35,0) -> 0 | J35: 0
B36: sep | C36: 14.5 | D36: 744 | F36: =+D36-575 -> 169 | G36: 12 | H36: 30 | I36: =IF(C36<G36,(17-C36)*H36,0) -> 0 | J36: 0
B37: okt | C37: 6.9 | D37: 1588 | F37: =+D37-575 -> 1013 | G37: 13 | H37: 31 | I37: =IF(C37<G37,(17-C37)*H37,0) -> 313.1 | J37: 275.9 | K37: =+F37/I37*J37 -> 892.64356 | L37: =+F37/I37 -> 3.2353881
B38: nov | C38: 5.7 | D38: 1690 | F38: =+D38-575 -> 1115 | G38: 17 | H38: 30 | I38: =IF(C38<G38,(17-C38)*H38,0) -> 339 | J38: 411 | K38: =+F38/I38*J38 -> 1351.8142 | L38: =+F38/I38 -> 3.2890855
B39: dec | C39: -1.5 | D39: 3129 | F39: =+D39-575 -> 2554 | G39: 17 | H39: 31 | I39: =IF(C39<G39,(17-C39)*H39,0) -> 573.5 | J39: 530.1 | K39: =+F39/I39*J39 -> 2360.7243 | L39: =+F39/I39 -> 4.4533566
A40: 2009 | C40: =+AVERAGE(C28:C39) -> 7.9083333 | D40: =SUM(D28:D39) -> 17676 | F40: =SUM(F28:F39) -> 10612 | I40: =SUM(I28:I39) -> 3000.5 | J40: 3238 | K40: =+F40/I40*J40 -> 11451.977 | L40: =+F40/I40 -> 3.5367439 | M40: Hela året med Installerad VP | N40: =+L40/L$14 -> 0.29139968
...

Sheet Hushållsel
A1: ='diagr månader'!B99 -> feb | B1: ='diagr månader'!H99 -> 410
A2: ='diagr månader'!B100 -> mars | B2: ='diagr månader'!H100 -> 507
A3: ='diagr månader'!B101 -> april | B3: ='diagr månader'!H101 -> 413
A4: ='diagr månader'!B102 -> maj | B4: ='diagr månader'!H102 -> 356
A5: ='diagr månader'!B103 -> juni | B5: ='diagr månader'!H103 -> 376
A6: ='diagr månader'!B104 -> juli | B6: ='diagr månader'!H104 -> 601
A7: ='diagr månader'!B105 -> Aug | B7: ='diagr månader'!H105 -> 431
A8: ='diagr månader'!B106 -> Sept | B8: ='diagr månader'!H106 -> 393
A9: ='diagr månader'!B107 -> Okt | B9: ='diagr månader'!H107 -> 563
A10: ='diagr månader'!B108 -> Nov | B10: ='diagr månader'!H108 -> 542
A11: ='diagr månader'!B109 -> Dec | B11: ='diagr månader'!H109 -> 1289
A12: ='diagr månader'!B110 -> jan | B12: ='diagr månader'!H110 -> 638
... A23: ='diagr månader'!B121 -> dec | B23: ='diagr månader'!H121 -> 0

Sheet Gångtid-temp ute

Sheet UCOP
B1: Formeln är Energi=U x yta x DeltaT x tid U= Energi(Wh)/(yta(m2) x DeltaT( ºC) x Tid(h)) W/m2/ ºC
A3: År | B3: Månad | C3: Kwh tot | D3: kWh VP | E3: Kwh HH | F3: Kwh VV uppskattat | G3: RT ºC | H3: Medel T ºC ute | I3: UCOP | J3: TS h
A4: 2011 | B4: feb | C4: 1835 | D4: 1425 | E4: =C4-D4 -> 410 | F4: 100 | G4: 21 | H4: -1.6 | I4: =(D4-F4)/384/31/24/(G4-H4)*1000 -> 0.20521225 | J4: 56
A5: 2011 | B5: mar | C5: 1475 | D5: 968 | E5: =C5-D5 -> 507 | F5: 100 | G5: 21 | H5: 1.8 | I5: =(D5-F5)/384/31/24/(G5-H5)*1000 -> 0.15823929
A6: 2011 | B6: apr | C6: 857 | D6: 444 | E6: =C6-D6 -> 413 | F6: 100 | G6: 21 | H6: 9.3 | I6: =(D6-F6)/384/31/24/(G6-H6)*1000 -> 0.10291257 | K6: Mycket solinstrålning....
A7: 2011 | B7: maj | C7: 588 | D7: 232 | E7: =C7-D7 -> 356 | F7: 100 | G7: 21 | H7: 12
A8: 2011 | B8: jun | C8: 473 | D8: 97 | E8: =C8-D8 -> 376 | F8: 100 | G8: 21 | H8: 14
A9: 2011 | B9: jul | C9: 718 | D9: 117 | E9: =C9-D9 -> 601 | F9: 100 | G9: 21 | H9: 15
A10: 2011 | B10: aug | C10: 523 | D10: 87 | E10: =C10-D10 -> 436 | F10: 100 | G10: 21 | H10: 17
A11: 2011 | B11: sep | E11: =C11-D11 -> 0 | F11: 100 | G11: 21
A12: 2011 | B12: okt | E12: =C12-D12 -> 0 | F12: 100 | G12: 21 | I12: =(D12-F12)/384/31/24/(G12-H12)*1000 -> -0.016667733
A13: 2011 | B13: nov | E13: =C13-D13 -> 0 | F13: 100 | G13: 21 | I13: =(D13-F13)/384/31/24/(G13-H13)*1000 -> -0.016667733
A14: 2011 | B14: dec | E14: =C14-D14 -> 0 | F14: 100 | G14: 21 | I14: =(D14-F14)/384/31/24/(G14-H14)*1000 -> -0.016667733
A15: 2012 | B15: jan | E15: =C15-D15 -> 0 | F15: 100 | G15: 21 | I15: =(D15-F15)/384/31/24/(G15-H15)*1000 -> -0.016667733
A16: 2012 | B16: feb | E16: =C16-D16 -> 0 | F16: 100 | G16: 21 | I16: =(D16-F16)/384/31/24/(G16-H16)*1000 -> -0.016667733
A17: 2012 | B17: mar | E17: =C17-D17 -> 0 | F17: 100 | G17: 21 | I17: =(D17-F17)/384/31/24/(G17-H17)*1000 -> -0.016667733
A18: 2012 | B18: apr | E18: =C18-D18 -> 0 | F18: 100 | G18: 21 | I18: =(D18-F18)/384/31/24/(G18-H18)*1000 -> -0.016667733
A19: 2012 | B19: maj | E19: =C19-D19 -> 0 | F19: 100 | G19: 21 | I19: =(D19-F19)/384/31/24/(G19-H19)*1000 -> -0.016667733
A20: 2012 | B20: jun | E20: =C20-D20 -> 0 | F20: 100 | G20: 21 | I20: =(D20-F20)/384/31/24/(G20-H20)*1000 -> -0.016667733
A21: 2012 | B21: jul | E21: =C21-D21 -> 0 | F21: 100 | G21: 21 | I21: =(D21-F21)/384/31/24/(G21-H21)*1000 -> -0.016667733
A22: 2012

Sheet kWh temp per mån
A1: 4.6 | B1: 3.2
A3: 35 | B3: 50
A5: 42000 | B5: 42000
A6: 30000 | B6: 30000 | K6: vad kostar golvvärmeinstallation? | N6: kr/kvm | O6: kvm | P6: summa | Q6: avbet.tid
A7: =+A5/$A$1 -> 9130.4348 | B7: =+B5/$B$1 -> 13125 | C7: =-A7+B7 -> 3994.5652 | E7: besparingspotential med golvvärme per år utan extra isolering | N7: 200 | O7: 160 | P7: =+N7*O7 -> 32000 | Q7: =+P7/C7/1.3 -> 6.1622187
A8: =+A6/$A$1 -> 6521.7391 | B8: =+B6/$B$1 -> 9375 | C8: =-A8+B8 -> 2853.2609 | E8: besparingspotential med golvvärme per år med extra isolering | N8: 200 | O8: 160 | P8: =+N8*O8 -> 32000 | Q8: =+P8/C8/1.3 -> 8.6271062
A12: Månad | B12: 2006 | C12: 2007 | E12: 2008 | F12: 2009 | G12: 2010 | H12: 2011
A13: januari | B13: 2157 | C13: 4180 | E13: 5756 | F13: 2210 | G13: 3643 | H13: 1954
A14: februari | B14: 2380 | C14: 4362 | E14: 5233 | F14: 2356 | G14: 2778 | H14: 1835
A15: mars | B15: 2563 | C15: 4368 | E15: 5132 | F15: 2021 | G15: 1947 | H15: 1475
A16: april | B16: 1951 | C16: 3056 | E16: 3575 | F16: 1211 | G16: 1296 | H16: 857
A17: maj | B17: 566 | C17: 1456 | E17: 1959 | F17: 838 | G17: 733 | H17: 588
A18: juni | B18: 548 | C18: 1409 | E18: 1827 | F18: 636 | G18: 631 | H18: 473
A19: juli | B19: 708 | C19: 1233 | E19: 1772 | F19: 746 | G19: 851 | H19: 718
A20: augusti | B20: 744 | C20: 1024 | E20: 1772 | F20: 507 | G20: 637 | H20: 518
A21: september | B21: 951 | C21: 1888 | E21: 1715 | F21: 744 | G21: 735 | H21: 549
A22: oktober | B22: 1453 | C22: 3254 | E22: 3142 | F22: 1588 | G22: 1348 | H22: 883
A23: november | B23: 2230 | C23: 4413 | E23: 3458 | F23: 1690 | G23: 1807 | H23: 1057
A24: december | B24: 3022 | C24: 5518 | E24: 3852 | F24: 3129 | G24: 2664
A25: januari | B25: 4223 | C25: =SUM(C13:C24) -> 36161 | E25: =SUM(E13:E24) -> 39193 | F25: =SUM(F13:F24) -> 17676 | G25: =SUM(G13:G24) -> 19070 | H25: =SUM(H13:H24,G24) -> 13571 | I25: 12mån rullande
A26: februari | B26: 4279
A27: mars | B27: 4430
A28: april | B28: 3077
A29: maj | B29: 1439
A30: juni | B30: 1392
A31: juli | B31: 1260
A32: augusti | B32: 1020
A33: september | B33: 1889
A34: oktober | B34: 3241
A35: november | B35: 4420
A36: december | B36: 5534
A37: januari | B37: 5750
... A48: december | B48: 3852
A49: januari | B49: 2210 | D49: 1
A50: februari | B50: 2356 | D50: -2
A51: mars | B51: 2021 | D51: 2
A52: april | B52: 1211 | D52: 8
A53: maj | B53: 838 | D53: 11
A54: juni | B54: 636 | D54: 15
A55: juli | B55: 746 | D55: 17
...

Sheet Fortum mätarställningar
A1: Datum | B1: Avläsning | C1: Räkneverk | D1: Mätarställning | E1: Förbrukning | F1: Årsförbrukn.* | G1: % av år
A2: 2012-07-01 | B2: Avläst | C2: Normallast Aktiv In: | D2: 65412 | E2: 407 kWh | F2: 11440 kWh | G2: 3,6%
A3: 2012-06-01 | B3: Avläst | C3: Normallast Aktiv In: | D3: 65005 | E3: 481 kWh | F3: 11507 kWh | G3: 4,2%
A4: 2012-05-01 | B4: Avläst | C4: Normallast Aktiv In: | D4: 64524 | E4: 955 kWh | F4: 11614 kWh | G4: 8,2%
A5: 2012-04-01 | B5: Avläst | C5: Normallast Aktiv In: | D5: 63569 | E5: 963 kWh | F5: 11516 kWh | G5: 8,4%
A6: 2012-03-01 | B6: Avläst | C6: Normallast Aktiv In: | D6: 62606 | E6: 1346 kWh | F6: 12028 kWh | G6: 11,2%
A7: 2012-02-01 | B7: Avläst | C7: Normallast Aktiv In: | D7: 61260 | E7: 1558 kWh | F7: 12517 kWh | G7: 12,4%
A8: 2012-01-01 | B8: Avläst | C8: Normallast Aktiv In: | D8: 59702 | E8: 2007 kWh | F8: 12913 kWh | G8: 15,5%
A9: 2011-12-01 | B9: Avläst | C9: Normallast Aktiv In: | D9: 57695 | E9: 1054 kWh | F9: 13561 kWh | G9: 7,8%
A10: 2011-11-01 | B10: Avläst | C10: Normallast Aktiv In: | D10: 56641 | E10: 884 kWh | F10: 14314 kWh | G10: 6,2%
A11: 2011-10-01 | B11: Avläst | C11: Normallast Aktiv In: | D11: 55757 | E11: 549 kWh | F11: 14778 kWh | G11: 3,7%
A12: 2011-09-01 | B12: Avläst | C12: Normallast Aktiv In: | D12: 55208 | E12: 521 kWh | F12: 14964 kWh | G12: 3,5%
A13: 2011-08-01 | B13: Avläst | C13: Normallast Aktiv In: | D13: 54687 | E13: 715 kWh | F13: 15080 kWh | G13: 4,7%
... A18: 2011-03-01 | B18: Avläst | C18: Normallast Aktiv In: | D18: 50578 | E18: 1835 kWh | F18: 16429 kWh | G18: 11,2%
A19: 40575 | B19: Avläst | C19: Normallast Aktiv In: | D19: 48743 | E19: 1954 kWh | F19: 17372 kWh | G19: 0.112
A20: 40544 | B20: Avläst | C20: Normallast Aktiv In: | D20: 46789 | E20: 2655 kWh | F20: 19061 kWh | G20: 0.139
A21: 40513 | B21: Avläst | C21: Normallast Aktiv In: | D21: 44134 | E21: 1807 kWh | F21: 19535 kWh | G21: 0.093
A22: 40483 | B22: Avläst | C22: Normallast Aktiv In: | D22: 42327 | E22: 1348 kWh | F22: 19418 kWh | G22: 0.069
A23: 40452 | B23: Avläst | C23: Normallast Aktiv In: | D23: 40979 | E23: 735 kWh | F23: 19658 kWh | G23: 0.037
A24: 40422 | B24: Avläst | C24: Normallast Aktiv In: | D24: 40244 | E24: 637 kWh | F24: 19667 kWh | G24: 0.032
A25: 40391 | B25: Avläst | C25: Normallast Aktiv In: | D25: 39607 | E25: 851 kWh | F25: 19537 kWh | G25: 0.044
A26: 40360 | B26: Avläst | C26: Normallast Aktiv In: | D26: 38756 | E26: 631 kWh | F26: 19432 kWh | G26: 0.032
A27: 40330 | B27: Avläst | C27: Normallast Aktiv In: | D27: 38125 | E27: 733 kWh | F27: 19437 kWh | G27: 0.038
A28: 40299 | B28: Avläst | C28: Normallast Aktiv In: | D28: 37392 | E28: 1296 kWh | F28: 19542 kWh | G28: 0.066
A29: 40269 | B29: Avläst | C29: Normallast Aktiv In: | D29: 36096 | E29: 1947 kWh | F29: 19457 kWh | G29: 0.1
A30: 40238 | B30: Avläst | C30: Normallast Aktiv In: | D30: 34149 | E30: 2778 kWh | F30: 19531 kWh | G30: 0.142
... A41: 39904 | B41: Avläst | C41: Normallast Aktiv In: | D41: 16639 | E41: 2021 kWh | F41: 21000 kWh | G41: 0.096
