Workbook

Sheet värmepumpdata
A1: datum tid | B1: kWh tot | C1: kWh VP | D1: Ute max °C | E1: Ute min °C | F1: Ute termometer | G1: Ute °C givare | H1: Ö hall °C Är | I1: Ö hall °C max | J1: Ö hall °C min | K1: V-rum °C Är | L1: V-rum °C max | M1: V-rum °C min | N1: Rumsgivare °C är | O1: Rumsgivare °C bör | P1: Kurv lut-ning | Q1: para-llell | R1: Rumskomp | S1: VP | T1: TS | U1: VB fram | V1: VB mål | W1: VB retur | X1: KB fram | Y1: KB retur | Z1: VV är (40) | AA1: VP starter | AB1: VP tid | AC1: TS tid | AD1: kWh tot per dygn | AE1: Värme +VV kWh/ dygn | AF1: HH kWh/ dygn | AG1: Ute medel °C | AH1: Utemedel 2 dygn före 1dec 2010 | AI1: Delta ute | AJ1: total tid | AK1: VP tid | AL1: % gångtid | AM1: kWh/VP-timme | AN1: VP tid per dygn | AO1: TS tid | AP1: TS /dygn | AQ1: Antal starter | AR1: Starter per h | AS1: Start per dygn | AT1: tid mellan start | AU1: Gångtid per start | AV1: Ändring/Observation
A2: 37895 | B2: 2320 | AD2: =+(B2-B1)/(A2-A1) -> #VALUE!
A3: 38205 | B3: 27575 | AD3: =+(B3-B2)/(A3-A2) -> 81.467742
A4: 38360 | B4: 34852 | AD4: =+(B4-B3)/(A4-A3) -> 46.948387
A5: 38412 | B5: 38524 | AD5: =+(B5-B4)/(A5-A4) -> 70.615385
A6: 38442 | B6: 42500 | AD6: =+(B6-B5)/(A6-A5) -> 132.53333
A7: 38472 | B7: 43200 | AD7: =+(B7-B6)/(A7-A6) -> 23.333333
A8: 38502 | B8: 44476 | AD8: =+(B8-B7)/(A8-A7) -> 42.533333
A9: 38534 | B9: 45160 | AD9: =+(B9-B8)/(A9-A8) -> 21.375
A10: 38566 | B10: 46450 | AD10: =+(B10-B9)/(A10-A9) -> 40.3125
A11: 38625 | B11: 47600 | AD11: =+(B11-B10)/(A11-A10) -> 19.491525
A12: 38655 | B12: 48800 | AD12: =+(B12-B11)/(A12-A11) -> 40
A13: 38730 | B13: 52446 | AD13: =+(B13-B12)/(A13-A12) -> 48.613333
... A24: 39200 | B24: 87000 | AD24: =+(B24-B23)/(A24-A23) -> 108.82353
A25: 39286 | B25: 90991 | AD25: =+(B25-B24)/(A25-A24) -> 46.406977 | AE25: =+AD25-AF25 -> 31.406977 | AF25: 15
A26: 39320 | B26: 91895 | AD26: =+(B26-B25)/(A26-A25) -> 26.588235 | AE26: =+AD26-AF26 -> 11.588235 | AF26: 15 | AV26: Flyttade till Koster heltid 2007-08-06
A27: 39353 | B27: 93848 | AD27: =+(B27-B26)/(A27-A26) -> 59.181818 | AE27: =+AD27-AF27 -> 44.181818 | AF27: 15
A28: 39414 | B28: 101265 | AD28: =+(B28-B27)/(A28-A27) -> 121.59016 | AE28: =+AD28-AF28 -> 106.59016 | AF28: 15
A29: 39448 | B29: 107335 | AD29: =+(B29-B28)/(A29-A28) -> 178.52941 | AE29: =+AD29-AF29 -> 163.52941 | AF29: 15
A30: 39478 | B30: 112904 | AD30: =+(B30-B29)/(A30-A29) -> 185.63333 | AE30: =+AD30-AF30 -> 170.63333 | AF30: 15
A31: 39507 | B31: 118152 | AD31: =+(B31-B30)/(A31-A30) -> 180.96552 | AE31: =+AD31-AF31 -> 165.96552 | AF31: 15
A32: 39538 | B32: 123331 | AD32: =+(B32-B31)/(A32-A31) -> 167.06452 | AE32: =+AD32-AF32 -> 152.06452 | AF32: 15
A33: 39568 | B33: 126968 | AD33: =+(B33-B32)/(A33-A32) -> 121.23333 | AE33: =+AD33-AF33 -> 106.23333 | AF33: 15
A34: 39629 | B34: 130760 | AD34: =+(B34-B33)/(A34-A33) -> 62.163934 | AE34: =+AD34-AF34 -> 47.163934 | AF34: 15
A35: 39730 | B35: 136477 | AD35: =+(B35-B34)/(A35-A34) -> 56.60396 | AE35: =+AD35-AF35 -> 41.60396 | AF35: 15
A36: 39767 | B36: 4136 | AD36: =+(B36-0)/(A36-A35) -> 111.78378 | AE36: =+AD36-AF36 -> 96.783784 | AF36: 15
A37: 39783 | B37: 6200 | AD37: =+(B37-B36)/(A37-A36) -> 129 | AE37: =+AD37-AF37 -> 114 | AF37: 15 | AV37: beräknad avläsning
A38: 39799.907 | P38: 9 | Q38: 3 | S38: av | U38: 39 | W38: 40 | AA38: 7 | AH38: =(G38+G37)/2 -> 0 | AV38: installerar VP. Testkörn 1v. Öppnar alla raddar, stryper matsal- o salraddar.
A39: 39799.958 | G39: 5 | P39: 9 | Q39: 3 | S39: av | U39: 44 | W39: 44 | X39: 5 | Y39: 7 | Z39: 50 | AA39: 8 | AB39: 7 | AC39: 0 | AH39: =(G39+G38)/2 -> 2.5 | AJ39: =(+A39-A38)*24 -> 1.2333333 | AK39: =+AB39-AB38 -> 7 | AN39: =+AK39/AJ39*24 -> 136.21622 | AO39: =+AC39-AC38 -> 0 | AP39: =+AO39/AJ39*24 -> 0 | AQ39: =+AA39-AA38 -> 1 | AR39: =+AQ39/AJ39 -> 0.81081081 | AS39: =+AR39*24 -> 19.459459 | AT39: =+AJ39/AQ39*60 -> 74 | AU39: =+AK39/AQ39*60 -> 420
A40: 39800.292 | G40: 6 | P40: 9 | Q40: 3 | S40: larm | U40: 38 | W40: 34 | X40: 11 | Y40: 11 | Z40: 51 | AA40: 14 | AB40: 11 | AC40: 0 | AH40: =(G40+G39)/2 -> 5.5 | AJ40: =(+A40-A39)*24 -> 8 | AK40: =+AB40-AB39 -> 4 | AL40: =+AK40/AJ40*100 -> 50 | AN40: =+AK40/AJ40*24 -> 12 | AO40: =+AC40-AC39 -> 0 | AP40: =+AO40/AJ40*24 -> 0 | AQ40: =+AA40-AA39 -> 6 | AR40: =+AQ40/AJ40 -> 0.75 | AS40: =+AR40*24 -> 18 | AT40: =+AJ40/AQ40*60 -> 80 | AU40: =+AK40/AQ40*60 -> 40
A41: 39800.408 | G41: 6 | P41: 9 | Q41: 3 | S41: av | U41: 42 | W41: 42 | X41: 5 | Y41: 8 | Z41: 50 | AA41: 16 | AB41: 12 | AC41: 0 | AH41: =(G41+G40)/2 -> 6 | AJ41: =(+A41-A40)*24 -> 2.8 | AK41: =+AB41-AB40 -> 1 | AL41: =+AK41/AJ41*100 -> 35.714286 | AN41: =+AK41/AJ41*24 -> 8.5714286 | AO41: =+AC41-AC40 -> 0 | AP41: =+AO41/AJ41*24 -> 0 | AQ41: =+AA41-AA40 -> 2 | AR41: =+AQ41/AJ41 -> 0.71428571 | AS41: =+AR41*24 -> 17.142857 | AT41: =+AJ41/AQ41*60 -> 84 | AU41: =+AK41/AQ41*60 -> 30
A42: 39800.458 | G42: 5 | P42: 9 | Q42: 3 | S42: av | U42: 42 | W42: 42 | X42: 5 | Y42: 8 | Z42: 49 | AA42: 17 | AB42: 13 | AC42: 0 | AH42: =(G42+G41)/2 -> 5.5 | AJ42: =(+A42-A41)*24 -> 1.2 | AK42: =+AB42-AB41 -> 1 | AL42: =+AK42/AJ42*100 -> 83.333333 | AN42: =+AK42/AJ42*24 -> 20 | AO42: =+AC42-AC41 -> 0 | AP42: =+AO42/AJ42*24 -> 0 | AQ42: =+AA42-AA41 -> 1 | AR42: =+AQ42/AJ42 -> 0.83333333 | AS42: =+AR42*24 -> 20 | AT42: =+AJ42/AQ42*60 -> 72 | AU42: =+AK42/AQ42*60 -> 60
A43: 39800.49 | G43: 5 | P43: 9 | Q43: 3 | S43: larm | U43: 32 | W43: 32 | X43: 5 | Y43: 8 | Z43: 56 | AA43: 18 | AB43: 14 | AC43: 0 | AH43: =(G43+G42)/2 -> 5 | AJ43: =(+A43-A42)*24 -> 0.75 | AK43: =+AB43-AB42 -> 1 | AL43: =+AK43/AJ43*100 -> 133.33333 | AN43: =+AK43/AJ43*24 -> 32 | AO43: =+AC43-AC42 -> 0 | AP43: =+AO43/AJ43*24 -> 0 | AQ43: =+AA43-AA42 -> 1 | AR43: =+AQ43/AJ43 -> 1.3333333 | AS43: =+AR43*24 -> 32 | AT43: =+AJ43/AQ43*60 -> 45 | AU43: =+AK43/AQ43*60 -> 60
A44: 39800.51 | G44: 5 | P44: 9 | Q44: 3 | S44: till | U44: 43 | W44: 38 | X44: 5 | Y44: 0 | Z44: 49 | AA44: 19 | AB44: 14 | AC44: 0 | AH44: =(G44+G43)/2 -> 5 | AJ44: =(+A44-A43)*24 -> 0.5 | AK44: =+AB44-AB43 -> 0 | AL44: =+AK44/AJ44*100 -> 0 | AN44: =+AK44/AJ44*24 -> 0 | AO44: =+AC44-AC43 -> 0 | AP44: =+AO44/AJ44*24 -> 0 | AQ44: =+AA44-AA43 -> 1 | AR44: =+AQ44/AJ44 -> 2 | AS44: =+AR44*24 -> 48 | AT44: =+AJ44/AQ44*60 -> 30 | AU44: =+AK44/AQ44*60 -> 0
A45: 39800.538 | G45: 5 | P45: 9 | Q45: 3 | S45: till | U45: 47 | W45: 43 | X45: 4 | Y45: 0 | Z45: 49 | AA45: 19 | AB45: 15 | AC45: 0 | AH45: =(G45+G44)/2 -> 5 | AJ45: =(+A45-A44)*24 -> 0.66666667 | AK45: =+AB45-AB44 -> 1 | AL45: =+AK45/AJ45*100 -> 150 | AN45: =+AK45/AJ45*24 -> 36 | AO45: =+AC45-AC44 -> 0 | AP45: =+AO45/AJ45*24 -> 0 | AQ45: =+AA45-AA44 -> 0 | AR45: =+AQ45/AJ45 -> 0 | AS45: =+AR45*24 -> 0 | AT45: =+AJ45/AQ45*60 -> #DIV/0! | AU45: =+AK45/AQ45*60 -> #DIV/0!
A46: 39800.583 | G46: 5 | P46: 9 | Q46: 3 | S46: larm | U46: 39 | W46: 39 | X46: 4 | Y46: 8 | Z46: 56 | AA46: 19 | AB46: 16 | AC46: 0 | AH46: =(G46+G45)/2 -> 5 | AJ46: =(+A46-A45)*24 -> 1.0833333 | AK46: =+AB46-AB45 -> 1 | AL46: =+AK46/AJ46*100 -> 92.307692 | AN46: =+AK46/AJ46*24 -> 22.153846 | AO46: =+AC46-AC45 -> 0 | AP46: =+AO46/AJ46*24 -> 0 | AQ46: =+AA46-AA45 -> 0 | AR46: =+AQ46/AJ46 -> 0 | AS46: =+AR46*24 -> 0 | AT46: =+AJ46/AQ46*60 -> #DIV/0! | AU46: =+AK46/AQ46*60 -> #DIV/0!
A47: 39800.731 | G47: 5 | P47: 9 | Q47: 3 | S47: till | U47: 48 | W47: 43 | X47: 4 | Y47: 0 | Z47: 45 | AA47: 22 | AB47: 18 | AC47: 0 | AH47: =(G47+G46)/2 -> 5 | AJ47: =(+A47-A46)*24 -> 3.5333333 | AK47: =+AB47-AB46 -> 2 | AL47: =+AK47/AJ47*100 -> 56.603774 | AN47: =+AK47/AJ47*24 -> 13.584906 | AO47: =+AC47-AC46 -> 0 | AP47: =+AO47/AJ47*24 -> 0 | AQ47: =+AA47-AA46 -> 3 | AR47: =+AQ47/AJ47 -> 0.8490566 | AS47: =+AR47*24 -> 20.377358 | AT47: =+AJ47/AQ47*60 -> 70.666667 | AU47: =+AK47/AQ47*60 -> 40
A48: 39800.792 | G48: 3 | P48: 9 | Q48: 3 | S48: EP | U48: 32 | W48: 32 | X48: - | Y48: - | Z48: 49 | AA48: 22 | AB48: 18 | AC48: 0 | AH48: =(G48+G47)/2 -> 4 | AJ48: =(+A48-A47)*24 -> 1.4666667 | AK48: =+AB48-AB47 -> 0 | AL48: =+AK48/AJ48*100 -> 0 | AN48: =+AK48/AJ48*24 -> 0 | AO48: =+AC48-AC47 -> 0 | AP48: =+AO48/AJ48*24 -> 0 | AQ48: =+AA48-AA47 -> 0 | AR48: =+AQ48/AJ48 -> 0 | AS48: =+AR48*24 -> 0 | AT48: =+AJ48/AQ48*60 -> #DIV/0! | AU48: =+AK48/AQ48*60 -> #DIV/0! | AV48: satte VP ur drift
A49: 39801.555 | B49: 8716.46 | G49: 7 | P49: 9 | Q49: 3 | S49: larm | U49: 63 | W49: 34 | Z49: 57 | AD49: =+(B49-B37)/(A49-A37) -> 135.62268 | AE49: =+AD49-AF49 -> 120.62268 | AF49: 15 | AH49: =(G49+G48)/2 -> 5 | AJ49: =(+A49-A48)*24 -> 18.316667 | AK49: =+AB49-AB48 -> -18 | AL49: =+AK49/AJ49*100 -> -98.271156 | AN49: =+AK49/AJ49*24 -> -23.585077 | AO49: =+AC49-AC48 -> 0 | AP49: =+AO49/AJ49*24 -> 0 | AQ49: =+AA49-AA48 -> -22 | AR49: =+AQ49/AJ49 -> -1.2010919 | AS49: =+AR49*24 -> -28.826206 | AT49: =+AJ49/AQ49*60 -> -49.954545 | AU49: =+AK49/AQ49*60 -> 49.090909 | AV49: Hade VP i drift 5min. Testade vidare
A50: 39801.861 | AA50: 30 | AB50: 17.8 | AC50: 0 | AH50: =(G50+G49)/2 -> 3.5 | AJ50: =(+A50-A49)*24 -> 7.35 | AK50: =+AB50-AB49 -> 17.8 | AL50: =+AK50/AJ50*100 -> 242.17687 | AN50: =+AK50/AJ50*24 -> 58.122449 | AO50: =+AC50-AC49 -> 0 | AP50: =+AO50/AJ50*24 -> 0 | AQ50: =+AA50-AA49 -> 30 | AR50: =+AQ50/AJ50 -> 4.0816327 | AS50: =+AR50*24 -> 97.959184 | AT50: =+AJ50/AQ50*60 -> 14.7 | AU50: =+AK50/AQ50*60 -> 35.6 | AV50: Startade EP drift.
A51: 39803.699 | AA51: 30 | AB51: 17.8 | AC51: 72 | AH51: =(G51+G50)/2 -> 0 | AJ51: =(+A51-A50)*24 -> 44.1 | AK51: =+AB51-AB50 -> 0 | AL51: =+AK51/AJ51*100 -> 0 | AN51: =+AK51/AJ51*24 -> 0 | AO51: =+AC51-AC50 -> 72 | AP51: =+AO51/AJ51*24 -> 39.183673 | AQ51: =+AA51-AA50 -> 0 | AR51: =+AQ51/AJ51 -> 0 | AS51: =+AR51*24 -> 0 | AT51: =+AJ51/AQ51*60 -> #DIV/0! | AU51: =+AK51/AQ51*60 -> #DIV/0!
A52: 39803.942 | U52: 56 | AA52: 37 | AB52: 21 | AC52: 72 | AH52: =(G52+G51)/2 -> 0 | AJ52: =(+A52-A51)*24 -> 5.8333333 | AK52: =+AB52-AB51 -> 3.2 | AL52: =+AK52/AJ52*100 -> 54.857143 | AN52: =+AK52/AJ52*24 -> 13.165714 | AO52: =+AC52-AC51 -> 0 | AP52: =+AO52/AJ52*24 -> 0 | AQ52: =+AA52-AA51 -> 7 | AR52: =+AQ52/AJ52 -> 1.2 | AS52: =+AR52*24 -> 28.8 | AT52: =+AJ52/AQ52*60 -> 50 | AU52: =+AK52/AQ52*60 -> 27.428571 | AV52: testar med VVstopp A
A53: 39803.979 | U53: 57 | AA53: 39 | AB53: 22 | AC53: 74 | AH53: =(G53+G52)/2 -> 0 | AJ53: =(+A53-A52)*24 -> 0.9 | AK53: =+AB53-AB52 -> 1 | AL53: =+AK53/AJ53*100 -> 111.11111 | AN53: =+AK53/AJ53*24 -> 26.666667 | AO53: =+AC53-AC52 -> 2 | AP53: =+AO53/AJ53*24 -> 53.333333 | AQ53: =+AA53-AA52 -> 2 | AR53: =+AQ53/AJ53 -> 2.2222222 | AS53: =+AR53*24 -> 53.333333 | AT53: =+AJ53/AQ53*60 -> 27 | AU53: =+AK53/AQ53*60 -> 30 | AV53: testar med VVstopp A
A54: 39804.292 | G54: 3 | P54: 9 | Q54: 3 | AA54: 51 | AB54: 26 | AC54: 74 | AH54: =(G54+G53)/2 -> 1.5 | AJ54: =(+A54-A53)*24 -> 7.5 | AK54: =+AB54-AB53 -> 4 | AL54: =+AK54/AJ54*100 -> 53.333333 | AN54: =+AK54/AJ54*24 -> 12.8 | AO54: =+AC54-AC53 -> 0 | AP54: =+AO54/AJ54*24 -> 0 | AQ54: =+AA54-AA53 -> 12 | AR54: =+AQ54/AJ54 -> 1.6 | AS54: =+AR54*24 -> 38.4 | AT54: =+AJ54/AQ54*60 -> 37.5 | AU54: =+AK54/AQ54*60 -> 20 | AV54: VVstopp(=A) bekräftat (Tord H kollat med Nibe)).
A55: 39806.599 | B55: 9529.73 | G55: 0 | P55: 8 | Q55: 1 | V55: 41 | AA55: 131 | AB55: 59 | AC55: 74 | AD55: =+(B55-B49)/(A55-A49) -> 161.24312 | AE55: =+AD55-AF55 -> 146.24312 | AF55: 15 | AH55: =(G55+G54)/2 -> 1.5 | AJ55: =(+A55-A54)*24 -> 55.366667 | AK55: =+AB55-AB54 -> 33 | AL55: =+AK55/AJ55*100 -> 59.602649 | AN55: =+AK55/AJ55*24 -> 14.304636 | AO55: =+AC55-AC54 -> 0 | AP55: =+AO55/AJ55*24 -> 0 | AQ55: =+AA55-AA54 -> 80 | AR55: =+AQ55/AJ55 -> 1.4449127 | AS55: =+AR55*24 -> 34.677905 | AT55: =+AJ55/AQ55*60 -> 41.525 | AU55: =+AK55/AQ55*60 -> 24.75
A56: 39807.604 | B56: 9605.54 | G56: -1 | P56: 8 | Q56: 1 | S56: till | V56: 41 | X56: 3 | Y56: -2 | AA56: 167 | AB56: 74 | AC56: 74 | AD56: =+(B56-B55)/(A56-A55) -> 75.39116 | AE56: =+AD56-AF56 -> 60.39116 | AF56: 15 | AH56: =(G56+G55)/2 -> -0.5 | AJ56: =(+A56-A55)*24 -> 24.133333 | AK56: =+AB56-AB55 -> 15 | AL56: =+AK56/AJ56*100 -> 62.154696 | AN56: =+AK56/AJ56*24 -> 14.917127 | AO56: =+AC56-AC55 -> 0 | AP56: =+AO56/AJ56*24 -> 0 | AQ56: =+AA56-AA55 -> 36 | AR56: =+AQ56/AJ56 -> 1.4917127 | AS56: =+AR56*24 -> 35.801105 | AT56: =+AJ56/AQ56*60 -> 40.222222 | AU56: =+AK56/AQ56*60 -> 25 | AV56: Stänger stora radd i salen helt 22 gr i salen)
A57: 39808.604 | B57: 9680.66 | G57: -1 | P57: 8 | Q57: 1 | U57: 38 | V57: 41 | W57: 37 | X57: 5 | Y57: 7 | Z57: 48 | AA57: 204 | AB57: 88 | AC57: 74 | AD57: =+(B57-B56)/(A57-A56) -> 75.12 | AE57: =+AD57-AF57 -> 60.12 | AF57: 15 | AH57: =(G57+G56)/2 -> -1 | AJ57: =(+A57-A56)*24 -> 24 | AK57: =+AB57-AB56 -> 14 | AL57: =+AK57/AJ57*100 -> 58.333333 | AN57: =+AK57/AJ57*24 -> 14 | AO57: =+AC57-AC56 -> 0 | AP57: =+AO57/AJ57*24 -> 0 | AQ57: =+AA57-AA56 -> 37 | AR57: =+AQ57/AJ57 -> 1.5416667 | AS57: =+AR57*24 -> 37 | AT57: =+AJ57/AQ57*60 -> 38.918919 | AU57: =+AK57/AQ57*60 -> 22.702703 | AV57: Öppnar lilla radd i salen helt (21 gr i matsal)
A58: 39808.885 | B58: 9701.51 | G58: -2 | K58: 21 | P58: 8 | Q58: 1 | S58: till | U58: 47 | V58: 42 | W58: 38 | X58: 5 | Y58: 0 | Z58: 47 | AA58: 214 | AB58: 92 | AC58: 74 | AD58: =+(B58-B57)/(A58-A57) -> 74.133333 | AE58: =+AD58-AF58 -> 59.133333 | AF58: 15 | AH58: =(G58+G57)/2 -> -1.5 | AJ58: =(+A58-A57)*24 -> 6.75 | AK58: =+AB58-AB57 -> 4 | AL58: =+AK58/AJ58*100 -> 59.259259 | AN58: =+AK58/AJ58*24 -> 14.222222 | AO58: =+AC58-AC57 -> 0 | AP58: =+AO58/AJ58*24 -> 0 | AQ58: =+AA58-AA57 -> 10 | AR58: =+AQ58/AJ58 -> 1.4814815 | AS58: =+AR58*24 -> 35.555556 | AT58: =+AJ58/AQ58*60 -> 40.5 | AU58: =+AK58/AQ58*60 -> 24 | AV58: Stänger elradd i barnrum. Öppnar radd i matsal helt
A59: 39809.882 | B59: 9767.82 | G59: -3 | P59: 8 | Q59: 1 | S59: till | U59: 45 | V59: 42 | W59: 37 | X59: 4 | Y59: -1 | Z59: 49 | AA59: 249 | AB59: 107 | AC59: 74 | AD59: =+(B59-B58)/(A59-A58) -> 66.541045 | AE59: =+AD59-AF59 -> 51.541045 | AF59: 15 | AH59: =(G59+G58)/2 -> -2.5 | AJ59: =(+A59-A58)*24 -> 23.916667 | AK59: =+AB59-AB58 -> 15 | AL59: =+AK59/AJ59*100 -> 62.71777 | AN59: =+AK59/AJ59*24 -> 15.052265 | AO59: =+AC59-AC58 -> 0 | AP59: =+AO59/AJ59*24 -> 0 | AQ59: =+AA59-AA58 -> 35 | AR59: =+AQ59/AJ59 -> 1.4634146 | AS59: =+AR59*24 -> 35.121951 | AT59: =+AJ59/AQ59*60 -> 41 | AU59: =+AK59/AQ59*60 -> 25.714286 | AV59: har kalibrerat utetemp -1° satt på alla o trimmat raddarna till delta 7°, >3° i matsal o sal. Ställer termostaterna där på III.Känns kallt i huset. Ändrar till kurva 9. Flyttar rörisolering från hall till vind i Cainas rum.
A60: 39810.512 | B60: 9812.87 | G60: -1 | P60: 9 | Q60: 1 | S60: till | U60: 51 | V60: VV | W60: 36 | X60: 2 | Y60: -2 | Z60: 46 | AA60: 265 | AB60: 118 | AC60: 74 | AD60: =+(B60-B59)/(A60-A59) -> 71.444934 | AE60: =+AD60-AF60 -> 56.444934 | AF60: 15 | AH60: =(G60+G59)/2 -> -2 | AJ60: =(+A60-A59)*24 -> 15.133333 | AK60: =+AB60-AB59 -> 11 | AL60: =+AK60/AJ60*100 -> 72.687225 | AN60: =+AK60/AJ60*24 -> 17.444934 | AO60: =+AC60-AC59 -> 0 | AP60: =+AO60/AJ60*24 -> 0 | AQ60: =+AA60-AA59 -> 16 | AR60: =+AQ60/AJ60 -> 1.0572687 | AS60: =+AR60*24 -> 25.374449 | AT60: =+AJ60/AQ60*60 -> 56.75 | AU60: =+AK60/AQ60*60 -> 41.25 | AV60: Har inte blivit varmare i hallen. Men gångtider har ökat! Liksom antal starter har minskat. Ökar till kurva 10/+-0
A61: 39811.486 | B61: 9886.03 | G61: -2 | P61: 10 | Q61: 0 | S61: till | U61: 47 | V61: 47 | W61: 38 | X61: 3 | Y61: -2 | Z61: 47 | AA61: 288 | AB61: 137 | AC61: 74 | AD61: =+(B61-B60)/(A61-A60) -> 75.142939 | AE61: =+AD61-AF61 -> 60.142939 | AF61: 15 | AH61: =(G61+G60)/2 -> -1.5 | AJ61: =(+A61-A60)*24 -> 23.366667 | AK61: =+AB61-AB60 -> 19 | AL61: =+AK61/AJ61*100 -> 81.312411 | AN61: =+AK61/AJ61*24 -> 19.514979 | AO61: =+AC61-AC60 -> 0 | AP61: =+AO61/AJ61*24 -> 0 | AQ61: =+AA61-AA60 -> 23 | AR61: =+AQ61/AJ61 -> 0.98430813 | AS61: =+AR61*24 -> 23.623395 | AT61: =+AJ61/AQ61*60 -> 60.956522 | AU61: =+AK61/AQ61*60 -> 49.565217 | AV61: Gångtid ökade 10´/start. Ställer tillbaka på kurva 9 och sätter parallell till +3 (utgångsläge, körde EP drift så)
A62: 39812.358 | B62: 9951.91 | G62: -1 | P62: 9 | Q62: 3 | S62: till | U62: 50 | V62: 47 | W62: 41 | X62: 3 | Y62: -2 | Z62: 49 | AA62: 311 | AB62: 153 | AC62: 74 | AD62: =+(B62-B61)/(A62-A61) -> 75.591394 | AE62: =+AD62-AF62 -> 60.591394 | AF62: 15 | AH62: =(G62+G61)/2 -> -1.5 | AJ62: =(+A62-A61)*24 -> 20.916667 | AK62: =+AB62-AB61 -> 16 | AL62: =+AK62/AJ62*100 -> 76.494024 | AN62: =+AK62/AJ62*24 -> 18.358566 | AO62: =+AC62-AC61 -> 0 | AP62: =+AO62/AJ62*24 -> 0 | AQ62: =+AA62-AA61 -> 23 | AR62: =+AQ62/AJ62 -> 1.0996016 | AS62: =+AR62*24 -> 26.390438 | AT62: =+AJ62/AQ62*60 -> 54.565217 | AU62: =+AK62/AQ62*60 -> 41.73913
A63: 39816.826 | B63: 10232.25 | G63: -4 | H63: 15 | P63: 9 | Q63: 3 | S63: till | U63: 52 | V63: 50 | W63: 44 | X63: 3 | Y63: -1 | Z63: 47 | AA63: 421 | AB63: 239 | AC63: 74 | AD63: =+(B63-B62)/(A63-A62) -> 62.733427 | AE63: =+AD63-AF63 -> 47.733427 | AF63: 15 | AH63: =(G63+G62)/2 -> -2.5 | AJ63: =(+A63-A62)*24 -> 107.25 | AK63: =+AB63-AB62 -> 86 | AL63: =+AK63/AJ63*100 -> 80.18648 | AN63: =+AK63/AJ63*24 -> 19.244755 | AO63: =+AC63-AC62 -> 0 | AP63: =+AO63/AJ63*24 -> 0 | AQ63: =+AA63-AA62 -> 110 | AR63: =+AQ63/AJ63 -> 1.025641 | AS63: =+AR63*24 -> 24.615385 | AT63: =+AJ63/AQ63*60 -> 58.5 | AU63: =+AK63/AQ63*60 -> 46.909091 | AV63: Var bortrest, ingen vv-förbukning. Vrider upp ratten " dvs höjer till kurva 11/3 kl21:15 och VB-pumpens hastighet till II kl 23
A64: 39817.677 | B64: 10319.62 | G64: -8 | P64: 11 | Q64: 3 | S64: till | U64: 57 | V64: 55 | W64: 49 | X64: 2 | Y64: -2 | Z64: 47 | AA64: 424 | AB64: 259 | AC64: 76 | AD64: =+(B64-B63)/(A64-A63) -> 102.70433 | AE64: =+AD64-AF64 -> 87.704327 | AF64: 15 | AH64: =(G64+G63)/2 -> -6 | AJ64: =(+A64-A63)*24 -> 20.416667 | AK64: =+AB64-AB63 -> 20 | AL64: =+AK64/AJ64*100 -> 97.959184 | AN64: =+AK64/AJ64*24 -> 23.510204 | AO64: =+AC64-AC63 -> 2 | AP64: =+AO64/AJ64*24 -> 2.3510204 | AQ64: =+AA64-AA63 -> 3 | AR64: =+AQ64/AJ64 -> 0.14693878 | AS64: =+AR64*24 -> 3.5265306 | AT64: =+AJ64/AQ64*60 -> 408.33333 | AU64: =+AK64/AQ64*60 -> 400 | AV64: Luftade elementen på ÖV kl 10. Obs att EP är till. Isolerade golvet i farstun. Satte ner cirkpump på I kl 16:20.
A65: 39818.361 | B65: 10404.49 | G65: -10 | P65: 11 | Q65: 2 | S65: till | U65: 56 | V65: 55 | W65: 47 | X65: 2 | Y65: -2 | Z65: 47 | AA65: 425 | AB65: 275 | AC65: 82 | AD65: =+(B65-B64)/(A65-A64) -> 124.07391 | AE65: =+AD65-AF65 -> 109.07391 | AF65: 15 | AH65: =(G65+G64)/2 -> -9 | AJ65: =(+A65-A64)*24 -> 16.416667 | AK65: =+AB65-AB64 -> 16 | AL65: =+AK65/AJ65*100 -> 97.461929 | AN65: =+AK65/AJ65*24 -> 23.390863 | AO65: =+AC65-AC64 -> 6 | AP65: =+AO65/AJ65*24 -> 8.7715736 | AQ65: =+AA65-AA64 -> 1 | AR65: =+AQ65/AJ65 -> 0.060913706 | AS65: =+AR65*24 -> 1.4619289 | AT65: =+AJ65/AQ65*60 -> 985 | AU65: =+AK65/AQ65*60 -> 960 | AV65: TS till. EP gjorde Ebolakör till 65°. Står på -438°min…. | AW65: ebola
A66: 39818.917 | B66: 10474.98 | G66: -6 | P66: 11 | Q66: 2 | S66: till | U66: 60 | V66: 55 | W66: 49 | X66: 2 | Y66: -2 | Z66: 48 | AA66: 425 | AB66: 288 | AC66: 86 | AD66: =+(B66-B65)/(A66-A65) -> 126.882 | AE66: =+AD66-AF66 -> 111.882 | AF66: 15 | AH66: =(G66+G65)/2 -> -8 | AJ66: =(+A66-A65)*24 -> 13.333333 | AK66: =+AB66-AB65 -> 13 | AL66: =+AK66/AJ66*100 -> 97.5 | AN66: =+AK66/AJ66*24 -> 23.4 | AO66: =+AC66-AC65 -> 4 | AP66: =+AO66/AJ66*24 -> 7.2 | AQ66: =+AA66-AA65 -> 0 | AR66: =+AQ66/AJ66 -> 0 | AS66: =+AR66*24 -> 0 | AT66: =+AJ66/AQ66*60 -> #DIV/0! | AU66: =+AK66/AQ66*60 -> #DIV/0! | AV66: -362°min, EP slog till just då. Öppnar lilla elementet i salen helt.
A67: 39819.708 | B67: 10551.49 | G67: 0 | H67: 19.4 | K67: 21.5 | P67: 11 | Q67: 2 | S67: till | U67: 51 | V67: 50 | W67: 43 | X67: 2 | Y67: -2 | Z67: 49 | AA67: 428 | AB67: 307 | AC67: 88 | AD67: =+(B67-B66)/(A67-A66) -> 96.644211 | AE67: =+AD67-AF67 -> 81.644211 | AF67: 15 | AH67: =(G67+G66)/2 -> -3 | AJ67: =(+A67-A66)*24 -> 19 | AK67: =+AB67-AB66 -> 19 | AL67: =+AK67/AJ67*100 -> 100 | AN67: =+AK67/AJ67*24 -> 24 | AO67: =+AC67-AC66 -> 2 | AP67: =+AO67/AJ67*24 -> 2.5263158 | AQ67: =+AA67-AA66 -> 3 | AR67: =+AQ67/AJ67 -> 0.15789474 | AS67: =+AR67*24 -> 3.7894737 | AT67: =+AJ67/AQ67*60 -> 380 | AU67: =+AK67/AQ67*60 -> 380 | AV67: -120°min. 21.5° i matsalen. minskar termostater på stora elementen till strax under III
A68: 39820.667 | B68: 10636.27 | G68: -3 | H68: 18.2 | P68: 11 | Q68: 2 | S68: till | U68: 57 | V68: 54 | W68: 49 | X68: 2 | Y68: -2 | Z68: 46 | AA68: 429 | AB68: 329 | AC68: 90 | AD68: =+(B68-B67)/(A68-A67) -> 88.466087 | AE68: =+AD68-AF68 -> 73.466087 | AF68: 15 | AH68: =(G68+G67)/2 -> -1.5 | AJ68: =(+A68-A67)*24 -> 23 | AK68: =+AB68-AB67 -> 22 | AL68: =+AK68/AJ68*100 -> 95.652174 | AN68: =+AK68/AJ68*24 -> 22.956522 | AO68: =+AC68-AC67 -> 2 | AP68: =+AO68/AJ68*24 -> 2.0869565 | AQ68: =+AA68-AA67 -> 1 | AR68: =+AQ68/AJ68 -> 0.043478261 | AS68: =+AR68*24 -> 1.0434783 | AT68: =+AJ68/AQ68*60 -> 1380 | AU68: =+AK68/AQ68*60 -> 1320 | AV68: EP på. -128°minuter
A69: 39821.708 | B69: 10735.4 | G69: 1 | H69: 19.4 | P69: 11 | Q69: 2 | S69: till | U69: 49 | V69: 49 | W69: 42 | X69: 2 | Y69: -2 | Z69: 45 | AA69: 434 | AB69: 354 | AC69: 92 | AD69: =+(B69-B68)/(A69-A68) -> 95.1648 | AE69: =+AD69-AF69 -> 80.1648 | AF69: 15 | AH69: =(G69+G68)/2 -> -1 | AJ69: =(+A69-A68)*24 -> 25 | AK69: =+AB69-AB68 -> 25 | AL69: =+AK69/AJ69*100 -> 100 | AN69: =+AK69/AJ69*24 -> 24 | AO69: =+AC69-AC68 -> 2 | AP69: =+AO69/AJ69*24 -> 1.92 | AQ69: =+AA69-AA68 -> 5 | AR69: =+AQ69/AJ69 -> 0.2 | AS69: =+AR69*24 -> 4.8 | AT69: =+AJ69/AQ69*60 -> 300 | AU69: =+AK69/AQ69*60 -> 300 | AV69: Ändrar till 11/-2
A70: 39822.708 | B70: 10794.06 | G70: 0 | H70: 18.8 | P70: 11 | Q70: -2 | S70: till | U70: 42 | V70: 42 | W70: 34 | X70: 3 | Y70: -2 | Z70: 50 | AA70: 464 | AB70: 369 | AC70: 92 | AD70: =+(B70-B69)/(A70-A69) -> 58.66 | AE70: =+AD70-AF70 -> 43.66 | AF70: 15 | AH70: =(G70+G69)/2 -> 0.5 | AJ70: =(+A70-A69)*24 -> 24 | AK70: =+AB70-AB69 -> 15 | AL70: =+AK70/AJ70*100 -> 62.5 | AN70: =+AK70/AJ70*24 -> 15 | AO70: =+AC70-AC69 -> 0 | AP70: =+AO70/AJ70*24 -> 0 | AQ70: =+AA70-AA69 -> 30 | AR70: =+AQ70/AJ70 -> 1.25 | AS70: =+AR70*24 -> 30 | AT70: =+AJ70/AQ70*60 -> 48 | AU70: =+AK70/AQ70*60 -> 30 | AV70: (låg retur pga nystart från VV-värmning) Det var + 4° ute under dagen. Fortsätter med 11/-2
A71: 39823.625 | B71: 10849.58 | G71: 1 | H71: 18.1 | K71: 17.8 | P71: 11 | Q71: -2 | S71: av | U71: 38 | V71: 41 | W71: 39 | X71: 2 | Y71: 4 | Z71: 49 | AA71: 491 | AB71: 384 | AC71: 92 | AD71: =+(B71-B70)/(A71-A70) -> 60.567273 | AE71: =+AD71-AF71 -> 45.567273 | AF71: 15 | AH71: =(G71+G70)/2 -> 0.5 | AJ71: =(+A71-A70)*24 -> 22 | AK71: =+AB71-AB70 -> 15 | AL71: =+AK71/AJ71*100 -> 68.181818 | AN71: =+AK71/AJ71*24 -> 16.363636 | AO71: =+AC71-AC70 -> 0 | AP71: =+AO71/AJ71*24 -> 0 | AQ71: =+AA71-AA70 -> 27 | AR71: =+AQ71/AJ71 -> 1.2272727 | AS71: =+AR71*24 -> 29.454545 | AT71: =+AJ71/AQ71*60 -> 48.888889 | AU71: =+AK71/AQ71*60 -> 33.333333
A72: 39831.724 | B72: 11314.84 | G72: -1 | H72: 14.1 | K72: 17 | P72: 11 | Q72: -2 | S72: till | U72: 45 | V72: 43 | W72: 38 | X72: 2 | Y72: -3 | Z72: 47 | AA72: 703 | AB72: 523 | AC72: 92 | AD72: =+(B72-B71)/(A72-A71) -> 57.449357 | AE72: =+AD72-AF72 -> 42.449357 | AF72: 15 | AH72: =(G72+G71)/2 -> 0 | AJ72: =(+A72-A71)*24 -> 194.36667 | AK72: =+AB72-AB71 -> 139 | AL72: =+AK72/AJ72*100 -> 71.51432 | AN72: =+AK72/AJ72*24 -> 17.163437 | AO72: =+AC72-AC71 -> 0 | AP72: =+AO72/AJ72*24 -> 0 | AQ72: =+AA72-AA71 -> 212 | AR72: =+AQ72/AJ72 -> 1.090722 | AS72: =+AR72*24 -> 26.177328 | AT72: =+AJ72/AQ72*60 -> 55.009434 | AU72: =+AK72/AQ72*60 -> 39.339623 | AV72: Var bortresta dessa dagar. Ökar till 11/0.
A73: 39832.865 | B73: 11415.35 | G73: 0 | H73: 19.1 | K73: 20.5 | P73: 11 | Q73: 0 | S73: till | U73: 49 | V73: 46 | W73: 42 | X73: 2 | Y73: -3 | Z73: 49 | AA73: 720 | AB73: 546 | AC73: 93 | AD73: =+(B73-B72)/(A73-A72) -> 88.09154 | AE73: =+AD73-AF73 -> 73.09154 | AF73: 15 | AH73: =(G73+G72)/2 -> -0.5 | AJ73: =(+A73-A72)*24 -> 27.383333 | AK73: =+AB73-AB72 -> 23 | AL73: =+AK73/AJ73*100 -> 83.992696 | AN73: =+AK73/AJ73*24 -> 20.158247 | AO73: =+AC73-AC72 -> 1 | AP73: =+AO73/AJ73*24 -> 0.87644553 | AQ73: =+AA73-AA72 -> 17 | AR73: =+AQ73/AJ73 -> 0.62081558 | AS73: =+AR73*24 -> 14.899574 | AT73: =+AJ73/AQ73*60 -> 96.647059 | AU73: =+AK73/AQ73*60 -> 81.176471 | AV73: 2 TM | AW73: ebola?
A74: 39833.917 | B74: 11499.84 | G74: 2 | H74: 18.9 | K74: 19.5 | P74: 11 | Q74: 0 | S74: till | U74: 44 | V74: 45 | W74: 37 | X74: 3 | Y74: -2 | Z74: 47 | AA74: 744 | AB74: 566 | AC74: 93 | AD74: =+(B74-B73)/(A74-A73) -> 80.307327 | AE74: =+AD74-AF74 -> 65.307327 | AF74: 15 | AH74: =(G74+G73)/2 -> 1 | AJ74: =(+A74-A73)*24 -> 25.25 | AK74: =+AB74-AB73 -> 20 | AL74: =+AK74/AJ74*100 -> 79.207921 | AN74: =+AK74/AJ74*24 -> 19.009901 | AO74: =+AC74-AC73 -> 0 | AP74: =+AO74/AJ74*24 -> 0 | AQ74: =+AA74-AA73 -> 24 | AR74: =+AQ74/AJ74 -> 0.95049505 | AS74: =+AR74*24 -> 22.811881 | AT74: =+AJ74/AQ74*60 -> 63.125 | AU74: =+AK74/AQ74*60 -> 50 | AV74: 1TM
A75: 39834.847 | B75: 11569 | G75: 2 | H75: 19 | K75: 21.4 | P75: 11 | Q75: 0 | S75: av | U75: 40 | V75: 45 | W75: 39 | X75: 2 | Y75: 5 | Z75: 48 | AA75: 765 | AB75: 583 | AC75: 93 | AD75: =+(B75-B74)/(A75-A74) -> 74.321194 | AE75: =+AD75-AF75 -> 59.321194 | AF75: 15 | AH75: =(G75+G74)/2 -> 2 | AJ75: =(+A75-A74)*24 -> 22.333333 | AK75: =+AB75-AB74 -> 17 | AL75: =+AK75/AJ75*100 -> 76.119403 | AN75: =+AK75/AJ75*24 -> 18.268657 | AO75: =+AC75-AC74 -> 0 | AP75: =+AO75/AJ75*24 -> 0 | AQ75: =+AA75-AA74 -> 21 | AR75: =+AQ75/AJ75 -> 0.94029851 | AS75: =+AR75*24 -> 22.567164 | AT75: =+AJ75/AQ75*60 -> 63.809524 | AU75: =+AK75/AQ75*60 -> 48.571429
A76: 39835.75 | B76: 11638.25 | G76: -1 | H76: 18.8 | K76: 20.5 | P76: 11 | Q76: 0 | S76: till | U76: 57 | V76: vv | W76: 39 | X76: 2 | Y76: -1 | Z76: 54 | AA76: 788 | AB76: 600 | AC76: 93 | AD76: =+(B76-B75)/(A76-A75) -> 76.707692 | AE76: =+AD76-AF76 -> 61.707692 | AF76: 15 | AH76: =(G76+G75)/2 -> 0.5 | AJ76: =(+A76-A75)*24 -> 21.666667 | AK76: =+AB76-AB75 -> 17 | AL76: =+AK76/AJ76*100 -> 78.461538 | AN76: =+AK76/AJ76*24 -> 18.830769 | AO76: =+AC76-AC75 -> 0 | AP76: =+AO76/AJ76*24 -> 0 | AQ76: =+AA76-AA75 -> 23 | AR76: =+AQ76/AJ76 -> 1.0615385 | AS76: =+AR76*24 -> 25.476923 | AT76: =+AJ76/AQ76*60 -> 56.521739 | AU76: =+AK76/AQ76*60 -> 44.347826
A77: 39836.812 | B77: 11721.16 | G77: 0 | H77: 18.5 | K77: 21.5 | P77: 11 | Q77: 0 | S77: till | U77: 42 | V77: 47 | W77: 38 | X77: 2 | Y77: 1 | Z77: 51 | AA77: 810 | AB77: 621 | AC77: 93 | AD77: =+(B77-B76)/(A77-A76) -> 78.032941 | AE77: =+AD77-AF77 -> 63.032941 | AF77: 15 | AH77: =(G77+G76)/2 -> -0.5 | AJ77: =(+A77-A76)*24 -> 25.5 | AK77: =+AB77-AB76 -> 21 | AL77: =+AK77/AJ77*100 -> 82.352941 | AN77: =+AK77/AJ77*24 -> 19.764706 | AO77: =+AC77-AC76 -> 0 | AP77: =+AO77/AJ77*24 -> 0 | AQ77: =+AA77-AA76 -> 22 | AR77: =+AQ77/AJ77 -> 0.8627451 | AS77: =+AR77*24 -> 20.705882 | AT77: =+AJ77/AQ77*60 -> 69.545455 | AU77: =+AK77/AQ77*60 -> 57.272727
A78: 39838.698 | B78: 11849.72 | G78: 0 | H78: 19.3 | K78: 20.7 | P78: 11 | Q78: 0 | S78: av | U78: 48 | V78: 46 | W78: 41 | X78: 2 | Y78: -1 | Z78: 53 | AA78: 856 | AB78: 655 | AC78: 93 | AD78: =+(B78-B77)/(A78-A77) -> 68.186519 | AE78: =+AD78-AF78 -> 53.186519 | AF78: 15 | AH78: =(G78+G77)/2 -> 0 | AJ78: =(+A78-A77)*24 -> 45.25 | AK78: =+AB78-AB77 -> 34 | AL78: =+AK78/AJ78*100 -> 75.138122 | AN78: =+AK78/AJ78*24 -> 18.033149 | AO78: =+AC78-AC77 -> 0 | AP78: =+AO78/AJ78*24 -> 0 | AQ78: =+AA78-AA77 -> 46 | AR78: =+AQ78/AJ78 -> 1.0165746 | AS78: =+AR78*24 -> 24.39779 | AT78: =+AJ78/AQ78*60 -> 59.021739 | AU78: =+AK78/AQ78*60 -> 44.347826 | AV78: Mellanrum färdigisolerat. Öppen dörr. Inget element i det rummet.
A79: 39839.708 | B79: 11916.37 | G79: 0 | P79: 11 | Q79: 0 | S79: av | U79: 43 | V79: 46 | W79: 43 | X79: 2 | Y79: 0 | Z79: 47 | AA79: 881 | AB79: 673 | AC79: 93 | AD79: =+(B79-B78)/(A79-A78) -> 65.962887 | AE79: =+AD79-AF79 -> 50.962887 | AF79: 15 | AH79: =(G79+G78)/2 -> 0 | AJ79: =(+A79-A78)*24 -> 24.25 | AK79: =+AB79-AB78 -> 18 | AL79: =+AK79/AJ79*100 -> 74.226804 | AN79: =+AK79/AJ79*24 -> 17.814433 | AO79: =+AC79-AC78 -> 0 | AP79: =+AO79/AJ79*24 -> 0 | AQ79: =+AA79-AA78 -> 25 | AR79: =+AQ79/AJ79 -> 1.0309278 | AS79: =+AR79*24 -> 24.742268 | AT79: =+AJ79/AQ79*60 -> 58.2 | AU79: =+AK79/AQ79*60 -> 43.2
A80: 39842.562 | B80: 12089.56 | G80: 0 | H80: 19 | K80: 17.8 | P80: 11 | Q80: 0 | S80: till | U80: 49 | V80: 47 | W80: 42 | X80: 2 | Y80: -2 | Z80: 47 | AA80: 952 | AB80: 724 | AC80: 93 | AD80: =+(B80-B79)/(A80-A79) -> 60.679708 | AE80: =+AD80-AF80 -> 45.679708 | AF80: 15 | AH80: =(G80+G79)/2 -> 0 | AJ80: =(+A80-A79)*24 -> 68.5 | AK80: =+AB80-AB79 -> 51 | AL80: =+AK80/AJ80*100 -> 74.452555 | AN80: =+AK80/AJ80*24 -> 17.868613 | AO80: =+AC80-AC79 -> 0 | AP80: =+AO80/AJ80*24 -> 0 | AQ80: =+AA80-AA79 -> 71 | AR80: =+AQ80/AJ80 -> 1.0364964 | AS80: =+AR80*24 -> 24.875912 | AT80: =+AJ80/AQ80*60 -> 57.887324 | AU80: =+AK80/AQ80*60 -> 43.098592 | AV80: var bortrest sista dygnet, ingen vv-förbukning.
A81: 39844.646 | B81: 12233.54 | G81: -2 | H81: 19.3 | K81: 20.7 | P81: 11 | Q81: 0 | S81: till | U81: 52 | V81: 49 | W81: 47 | X81: 2 | Y81: -2 | Z81: 47 | AA81: 994 | AB81: 765 | AC81: 93 | AD81: =+(B81-B80)/(A81-A80) -> 69.1104 | AE81: =+AD81-AF81 -> 54.1104 | AF81: 15 | AH81: =(G81+G80)/2 -> -1 | AJ81: =(+A81-A80)*24 -> 50 | AK81: =+AB81-AB80 -> 41 | AL81: =+AK81/AJ81*100 -> 82 | AN81: =+AK81/AJ81*24 -> 19.68 | AO81: =+AC81-AC80 -> 0 | AP81: =+AO81/AJ81*24 -> 0 | AQ81: =+AA81-AA80 -> 42 | AR81: =+AQ81/AJ81 -> 0.84 | AS81: =+AR81*24 -> 20.16 | AT81: =+AJ81/AQ81*60 -> 71.428571 | AU81: =+AK81/AQ81*60 -> 58.571429
A82: 39845.688 | B82: 12312.15 | G82: -2 | H82: 18.9 | K82: 19.9 | P82: 11 | Q82: 0 | S82: till | U82: 49 | V82: 49 | W82: 42 | X82: 2 | Y82: -2 | Z82: 48 | AA82: 1011 | AB82: 787 | AC82: 93 | AD82: =+(B82-B81)/(A82-A81) -> 75.4656 | AE82: =+AD82-AF82 -> 60.4656 | AF82: 15 | AH82: =(G82+G81)/2 -> -2 | AJ82: =(+A82-A81)*24 -> 25 | AK82: =+AB82-AB81 -> 22 | AL82: =+AK82/AJ82*100 -> 88 | AN82: =+AK82/AJ82*24 -> 21.12 | AO82: =+AC82-AC81 -> 0 | AP82: =+AO82/AJ82*24 -> 0 | AQ82: =+AA82-AA81 -> 17 | AR82: =+AQ82/AJ82 -> 0.68 | AS82: =+AR82*24 -> 16.32 | AT82: =+AJ82/AQ82*60 -> 88.235294 | AU82: =+AK82/AQ82*60 -> 77.647059 | AV82: Var -4° pånatt o morgonen. Steg till -2 till em
A83: 39846.729 | B83: 12397.36 | G83: -5 | H83: 18.1 | K83: 20.9 | P83: 11 | Q83: 0 | S83: till | U83: 52 | V83: 51 | W83: 45 | X83: 2 | Y83: -2 | Z83: 48 | AA83: 1019 | AB83: 810 | AC83: 95 | AD83: =+(B83-B82)/(A83-A82) -> 81.8016 | AE83: =+AD83-AF83 -> 66.8016 | AF83: 15 | AH83: =(G83+G82)/2 -> -3.5 | AJ83: =(+A83-A82)*24 -> 25 | AK83: =+AB83-AB82 -> 23 | AL83: =+AK83/AJ83*100 -> 92 | AN83: =+AK83/AJ83*24 -> 22.08 | AO83: =+AC83-AC82 -> 2 | AP83: =+AO83/AJ83*24 -> 1.92 | AQ83: =+AA83-AA82 -> 8 | AR83: =+AQ83/AJ83 -> 0.32 | AS83: =+AR83*24 -> 7.68 | AT83: =+AJ83/AQ83*60 -> 187.5 | AU83: =+AK83/AQ83*60 -> 172.5 | AV83: EP inkopplad på natten då det var -6°
A84: 39847.875 | B84: 12495.47 | G84: -3 | H84: 18.3 | K84: 20.8 | P84: 11 | Q84: 0 | S84: till | U84: 52 | V84: 50 | W84: 45 | X84: 2 | Y84: -3 | Z84: 47 | AA84: 1025 | AB84: 836 | AC84: 96 | AD84: =+(B84-B83)/(A84-A83) -> 85.623273 | AE84: =+AD84-AF84 -> 70.623273 | AF84: 15 | AH84: =(G84+G83)/2 -> -4 | AJ84: =(+A84-A83)*24 -> 27.5 | AK84: =+AB84-AB83 -> 26 | AL84: =+AK84/AJ84*100 -> 94.545455 | AN84: =+AK84/AJ84*24 -> 22.690909 | AO84: =+AC84-AC83 -> 1 | AP84: =+AO84/AJ84*24 -> 0.87272727 | AQ84: =+AA84-AA83 -> 6 | AR84: =+AQ84/AJ84 -> 0.21818182 | AS84: =+AR84*24 -> 5.2363636 | AT84: =+AJ84/AQ84*60 -> 275 | AU84: =+AK84/AQ84*60 -> 260
A85: 39848.708 | B85: 12561 | G85: -3 | H85: 18.3 | K85: 17.8 | P85: 11 | Q85: 0 | S85: till | U85: 49 | V85: 49 | W85: 42 | X85: 2 | Y85: -3 | Z85: 47 | AA85: 1035 | AB85: 854 | AC85: 96 | AD85: =+(B85-B84)/(A85-A84) -> 78.636 | AE85: =+AD85-AF85 -> 63.636 | AF85: 15 | AH85: =(G85+G84)/2 -> -3 | AJ85: =(+A85-A84)*24 -> 20 | AK85: =+AB85-AB84 -> 18 | AL85: =+AK85/AJ85*100 -> 90 | AN85: =+AK85/AJ85*24 -> 21.6 | AO85: =+AC85-AC84 -> 0 | AP85: =+AO85/AJ85*24 -> 0 | AQ85: =+AA85-AA84 -> 10 | AR85: =+AQ85/AJ85 -> 0.5 | AS85: =+AR85*24 -> 12 | AT85: =+AJ85/AQ85*60 -> 120 | AU85: =+AK85/AQ85*60 -> 108
A86: 39850.708 | B86: 12716 | G86: -1 | H86: 19.4 | K86: 20.4 | P86: 11 | Q86: 0 | S86: till | U86: 50 | V86: 47 | W86: 46 | X86: 2 | Y86: -2 | Z86: 46 | AA86: 1072 | AB86: 895 | AC86: 96 | AD86: =+(B86-B85)/(A86-A85) -> 77.5 | AE86: =+AD86-AF86 -> 62.5 | AF86: 15 | AH86: =(G86+G85)/2 -> -2 | AJ86: =(+A86-A85)*24 -> 48 | AK86: =+AB86-AB85 -> 41 | AL86: =+AK86/AJ86*100 -> 85.416667 | AN86: =+AK86/AJ86*24 -> 20.5 | AO86: =+AC86-AC85 -> 0 | AP86: =+AO86/AJ86*24 -> 0 | AQ86: =+AA86-AA85 -> 37 | AR86: =+AQ86/AJ86 -> 0.77083333 | AS86: =+AR86*24 -> 18.5 | AT86: =+AJ86/AQ86*60 -> 77.837838 | AU86: =+AK86/AQ86*60 -> 66.486486 | AV86: Satte på elradiator i barnkammaren kl 17 5/2
A87: 39852.486 | B87: 12871.71 | G87: -4 | H87: 19.3 | K87: 21.6 | P87: 11 | Q87: 0 | S87: till | U87: 57 | V87: VV | W87: 36 | X87: 1 | Y87: -2 | Z87: 54 | AA87: 1107 | AB87: 930 | AC87: 96 | AD87: =+(B87-B86)/(A87-A86) -> 87.586875 | AE87: =+AD87-AF87 -> 72.586875 | AF87: 15 | AH87: =(G87+G86)/2 -> -2.5 | AJ87: =(+A87-A86)*24 -> 42.666667 | AK87: =+AB87-AB86 -> 35 | AL87: =+AK87/AJ87*100 -> 82.03125 | AN87: =+AK87/AJ87*24 -> 19.6875 | AO87: =+AC87-AC86 -> 0 | AP87: =+AO87/AJ87*24 -> 0 | AQ87: =+AA87-AA86 -> 35 | AR87: =+AQ87/AJ87 -> 0.8203125 | AS87: =+AR87*24 -> 19.6875 | AT87: =+AJ87/AQ87*60 -> 73.142857 | AU87: =+AK87/AQ87*60 -> 60
A88: 39855.615 | B88: 13095.59 | G88: -6 | H88: 18 | K88: 20.3 | P88: 11 | Q88: 0 | S88: till | U88: 52 | V88: 52 | W88: 46 | X88: 2 | Y88: -2 | Z88: 46 | AA88: 1140 | AB88: 999 | AC88: 98 | AD88: =+(B88-B87)/(A88-A87) -> 71.562087 | AE88: =+AD88-AF88 -> 56.562087 | AF88: 15 | AH88: =(G88+G87)/2 -> -5 | AJ88: =(+A88-A87)*24 -> 75.083333 | AK88: =+AB88-AB87 -> 69 | AL88: =+AK88/AJ88*100 -> 91.897891 | AN88: =+AK88/AJ88*24 -> 22.055494 | AO88: =+AC88-AC87 -> 2 | AP88: =+AO88/AJ88*24 -> 0.63928968 | AQ88: =+AA88-AA87 -> 33 | AR88: =+AQ88/AJ88 -> 0.43951165 | AS88: =+AR88*24 -> 10.54828 | AT88: =+AJ88/AQ88*60 -> 136.51515 | AU88: =+AK88/AQ88*60 -> 125.45455 | AV88: slog av barnkammarrad 9feb. Satte på igen 11 feb.
A89: 39857.604 | B89: 13340.52 | G89: -5 | H89: 18.3 | K89: 20.2 | P89: 11 | Q89: 0 | S89: till | U89: 46 | V89: 52 | W89: 39 | X89: 1 | Y89: -3 | Z89: 53 | AA89: 1142 | AB89: 1046 | AC89: 110 | AD89: =+(B89-B88)/(A89-A88) -> 123.10618 | AE89: =+AD89-AF89 -> 108.10618 | AF89: 15 | AH89: =(G89+G88)/2 -> -5.5 | AJ89: =(+A89-A88)*24 -> 47.75 | AK89: =+AB89-AB88 -> 47 | AL89: =+AK89/AJ89*100 -> 98.429319 | AN89: =+AK89/AJ89*24 -> 23.623037 | AO89: =+AC89-AC88 -> 12 | AP89: =+AO89/AJ89*24 -> 6.0314136 | AQ89: =+AA89-AA88 -> 2 | AR89: =+AQ89/AJ89 -> 0.041884817 | AS89: =+AR89*24 -> 1.0052356 | AT89: =+AJ89/AQ89*60 -> 1432.5 | AU89: =+AK89/AQ89*60 -> 1410 | AV89: har varit -10° två nätter. Ebola?
A90: 39858.833 | B90: 13485.96 | G90: -9 | H90: 19.9 | K90: 21 | P90: 11 | Q90: 0 | S90: till | U90: 52 | V90: 55 | W90: 45 | X90: 2 | Y90: -3 | Z90: 47 | AA90: 1143 | AB90: 1076 | AC90: 114 | AD90: =+(B90-B89)/(A90-A89) -> 118.32407 | AE90: =+AD90-AF90 -> 103.32407 | AF90: 15 | AH90: =(G90+G89)/2 -> -7 | AJ90: =(+A90-A89)*24 -> 29.5 | AK90: =+AB90-AB89 -> 30 | AL90: =+AK90/AJ90*100 -> 101.69492 | AN90: =+AK90/AJ90*24 -> 24.40678 | AO90: =+AC90-AC89 -> 4 | AP90: =+AO90/AJ90*24 -> 3.2542373 | AQ90: =+AA90-AA89 -> 1 | AR90: =+AQ90/AJ90 -> 0.033898305 | AS90: =+AR90*24 -> 0.81355932 | AT90: =+AJ90/AQ90*60 -> 1770 | AU90: =+AK90/AQ90*60 -> 1800 | AV90: stängde barnkammarradiator kl20
A91: 39859.861 | B91: 13584.48 | G91: -4 | H91: 19.3 | K91: 20.3 | P91: 11 | Q91: 0 | S91: till | U91: 50 | V91: 50 | W91: 43 | X91: 1 | Y91: -3 | Z91: 46 | AA91: 1144 | AB91: 1100 | AC91: 118 | AD91: =+(B91-B90)/(A91-A90) -> 95.857297 | AE91: =+AD91-AF91 -> 80.857297 | AF91: 15 | AH91: =(G91+G90)/2 -> -6.5 | AJ91: =(+A91-A90)*24 -> 24.666667 | AK91: =+AB91-AB90 -> 24 | AL91: =+AK91/AJ91*100 -> 97.297297 | AN91: =+AK91/AJ91*24 -> 23.351351 | AO91: =+AC91-AC90 -> 4 | AP91: =+AO91/AJ91*24 -> 3.8918919 | AQ91: =+AA91-AA90 -> 1 | AR91: =+AQ91/AJ91 -> 0.040540541 | AS91: =+AR91*24 -> 0.97297297 | AT91: =+AJ91/AQ91*60 -> 1480 | AU91: =+AK91/AQ91*60 -> 1440 | AV91: -10 ° på natten Mildare väder på dagen
A92: 39862.708 | B92: 13828.74 | G92: -3 | H92: 19.6 | K92: 17.8 | P92: 11 | Q92: 0 | S92: till | U92: 52 | V92: 50 | W92: 45 | X92: 1 | Y92: -3 | Z92: 45 | AA92: 1154 | AB92: 1166 | AC92: 123 | AD92: =+(B92-B91)/(A92-A91) -> 85.788878 | AE92: =+AD92-AF92 -> 70.788878 | AF92: 15 | AH92: =(G92+G91)/2 -> -3.5 | AJ92: =(+A92-A91)*24 -> 68.333333 | AK92: =+AB92-AB91 -> 66 | AL92: =+AK92/AJ92*100 -> 96.585366 | AN92: =+AK92/AJ92*24 -> 23.180488 | AO92: =+AC92-AC91 -> 5 | AP92: =+AO92/AJ92*24 -> 1.7560976 | AQ92: =+AA92-AA91 -> 10 | AR92: =+AQ92/AJ92 -> 0.14634146 | AS92: =+AR92*24 -> 3.5121951 | AT92: =+AJ92/AQ92*60 -> 410 | AU92: =+AK92/AQ92*60 -> 396
A93: 39863.722 | B93: 13912.26 | G93: -5 | H93: 19.4 | K93: 19.2 | P93: 11 | Q93: 0 | S93: till | U93: 51 | V93: 51 | W93: 44 | X93: 1 | Y93: -3 | Z93: 46 | AA93: 1160 | AB93: 1190 | AC93: 124 | AD93: =+(B93-B92)/(A93-A92) -> 82.37589 | AE93: =+AD93-AF93 -> 67.37589 | AF93: 15 | AH93: =(G93+G92)/2 -> -4 | AJ93: =(+A93-A92)*24 -> 24.333333 | AK93: =+AB93-AB92 -> 24 | AL93: =+AK93/AJ93*100 -> 98.630137 | AN93: =+AK93/AJ93*24 -> 23.671233 | AO93: =+AC93-AC92 -> 1 | AP93: =+AO93/AJ93*24 -> 0.98630137 | AQ93: =+AA93-AA92 -> 6 | AR93: =+AQ93/AJ93 -> 0.24657534 | AS93: =+AR93*24 -> 5.9178082 | AT93: =+AJ93/AQ93*60 -> 243.33333 | AU93: =+AK93/AQ93*60 -> 240
A94: 39870.896 | B94: 14454.5 | G94: -3 | H94: 20.4 | K94: 21 | P94: 11 | Q94: 0 | S94: till | U94: 52 | V94: 49 | W94: 45 | X94: 2 | Y94: -3 | Z94: 48 | AA94: 1263 | AB94: 1340 | AC94: 127 | AD94: =+(B94-B93)/(A94-A93) -> 75.588151 | AE94: =+AD94-AF94 -> 60.588151 | AF94: 15 | AH94: =(G94+G93)/2 -> -4 | AJ94: =(+A94-A93)*24 -> 172.16667 | AK94: =+AB94-AB93 -> 150 | AL94: =+AK94/AJ94*100 -> 87.124879 | AN94: =+AK94/AJ94*24 -> 20.909971 | AO94: =+AC94-AC93 -> 3 | AP94: =+AO94/AJ94*24 -> 0.41819942 | AQ94: =+AA94-AA93 -> 103 | AR94: =+AQ94/AJ94 -> 0.5982575 | AS94: =+AR94*24 -> 14.35818 | AT94: =+AJ94/AQ94*60 -> 100.29126 | AU94: =+AK94/AQ94*60 -> 87.378641
A95: 39872.632 | B95: 14582.39 | G95: -2 | H95: 18.5 | K95: 21 | P95: 11 | Q95: 0 | S95: till | U95: 49 | V95: 48 | W95: 42 | X95: 1 | Y95: -3 | Z95: 48 | AA95: 1280 | AB95: 1378 | AC95: 128 | AD95: =+(B95-B94)/(A95-A94) -> 73.66464 | AE95: =+AD95-AF95 -> 58.66464 | AF95: 15 | AH95: =(G95+G94)/2 -> -2.5 | AJ95: =(+A95-A94)*24 -> 41.666667 | AK95: =+AB95-AB94 -> 38 | AL95: =+AK95/AJ95*100 -> 91.2 | AN95: =+AK95/AJ95*24 -> 21.888 | AO95: =+AC95-AC94 -> 1 | AP95: =+AO95/AJ95*24 -> 0.576 | AQ95: =+AA95-AA94 -> 17 | AR95: =+AQ95/AJ95 -> 0.408 | AS95: =+AR95*24 -> 9.792 | AT95: =+AJ95/AQ95*60 -> 147.05882 | AU95: =+AK95/AQ95*60 -> 134.11765 | AV95: Såg när EP gick, berodde på VV 2 duschande personer samma dag
A96: 39876.729 | B96: 14878.94 | G96: 2 | H96: 18.8 | K96: 20.7 | P96: 11 | Q96: 0 | S96: till | U96: 45 | V96: 45 | W96: 37 | X96: 3 | Y96: -2 | Z96: 46 | AA96: 1368 | AB96: 1456 | AC96: 128 | AD96: =+(B96-B95)/(A96-A95) -> 72.378305 | AE96: =+AD96-AF96 -> 57.378305 | AF96: 15 | AH96: =(G96+G95)/2 -> 0 | AJ96: =(+A96-A95)*24 -> 98.333333 | AK96: =+AB96-AB95 -> 78 | AL96: =+AK96/AJ96*100 -> 79.322034 | AN96: =+AK96/AJ96*24 -> 19.037288 | AO96: =+AC96-AC95 -> 0 | AP96: =+AO96/AJ96*24 -> 0 | AQ96: =+AA96-AA95 -> 88 | AR96: =+AQ96/AJ96 -> 0.89491525 | AS96: =+AR96*24 -> 21.477966 | AT96: =+AJ96/AQ96*60 -> 67.045455 | AU96: =+AK96/AQ96*60 -> 53.181818
A97: 39882.615 | B97: 15279.52 | G97: 1 | H97: 19.1 | K97: 17.8 | P97: 11 | Q97: 0 | S97: till | U97: 45 | V97: 45 | W97: 38 | X97: 3 | Y97: -2 | Z97: 49 | AA97: 1514 | AB97: 1560 | AC97: 128 | AD97: =+(B97-B96)/(A97-A96) -> 68.06315 | AE97: =+AD97-AF97 -> 53.06315 | AF97: 15 | AH97: =(G97+G96)/2 -> 1.5 | AJ97: =(+A97-A96)*24 -> 141.25 | AK97: =+AB97-AB96 -> 104 | AL97: =+AK97/AJ97*100 -> 73.628319 | AN97: =+AK97/AJ97*24 -> 17.670796 | AO97: =+AC97-AC96 -> 0 | AP97: =+AO97/AJ97*24 -> 0 | AQ97: =+AA97-AA96 -> 146 | AR97: =+AQ97/AJ97 -> 1.0336283 | AS97: =+AR97*24 -> 24.80708 | AT97: =+AJ97/AQ97*60 -> 58.047945 | AU97: =+AK97/AQ97*60 -> 42.739726
A98: 39887.729 | B98: 15642.5 | G98: 1 | H98: 20.1 | K98: 20.5 | P98: 11 | Q98: 0 | S98: till | U98: 48 | V98: 45 | W98: 41 | X98: 2 | Y98: -2 | Z98: 48 | AA98: 1627 | AB98: 1635 | AC98: 129 | AD98: =+(B98-B97)/(A98-A97) -> 70.969613 | AE98: =+AD98-AF98 -> 55.969613 | AF98: 15 | AH98: =(G98+G97)/2 -> 1 | AJ98: =(+A98-A97)*24 -> 122.75 | AK98: =+AB98-AB97 -> 75 | AL98: =+AK98/AJ98*100 -> 61.099796 | AN98: =+AK98/AJ98*24 -> 14.663951 | AO98: =+AC98-AC97 -> 1 | AP98: =+AO98/AJ98*24 -> 0.19551935 | AQ98: =+AA98-AA97 -> 113 | AR98: =+AQ98/AJ98 -> 0.92057026 | AS98: =+AR98*24 -> 22.093686 | AT98: =+AJ98/AQ98*60 -> 65.176991 | AU98: =+AK98/AQ98*60 -> 39.823009
A99: 39892.625 | B99: 15928.49 | G99: 3 | H99: 17.8 | K99: 21 | P99: 11 | Q99: 0 | S99: till | U99: 54 | V99: VV | X99: 3 | Y99: 0 | Z99: 49 | AA99: 1765 | AB99: 1730 | AC99: 129 | AD99: =+(B99-B98)/(A99-A98) -> 58.414979 | AE99: =+AD99-AF99 -> 43.414979 | AF99: 15 | AH99: =(G99+G98)/2 -> 2 | AJ99: =(+A99-A98)*24 -> 117.5 | AK99: =+AB99-AB98 -> 95 | AL99: =+AK99/AJ99*100 -> 80.851064 | AN99: =+AK99/AJ99*24 -> 19.404255 | AO99: =+AC99-AC98 -> 0 | AP99: =+AO99/AJ99*24 -> 0 | AQ99: =+AA99-AA98 -> 138 | AR99: =+AQ99/AJ99 -> 1.1744681 | AS99: =+AR99*24 -> 28.187234 | AT99: =+AJ99/AQ99*60 -> 51.086957 | AU99: =+AK99/AQ99*60 -> 41.304348
A100: 39893.75 | B100: 15995.11 | G100: 2 | H100: 19 | K100: 21 | P100: 11 | Q100: 0 | S100: till | U100: 49 | V100: 44 | W100: 42 | X100: 2 | Y100: -2 | Z100: 47 | AA100: 1796 | AB100: 1748 | AC100: 129 | AD100: =+(B100-B99)/(A100-A99) -> 59.217778 | AE100: =+AD100-AF100 -> 44.217778 | AF100: 15 | AH100: =(G100+G99)/2 -> 2.5 | AJ100: =(+A100-A99)*24 -> 27 | AK100: =+AB100-AB99 -> 18 | AL100: =+AK100/AJ100*100 -> 66.666667 | AN100: =+AK100/AJ100*24 -> 16 | AO100: =+AC100-AC99 -> 0 | AP100: =+AO100/AJ100*24 -> 0 | AQ100: =+AA100-AA99 -> 31 | AR100: =+AQ100/AJ100 -> 1.1481481 | AS100: =+AR100*24 -> 27.555556 | AT100: =+AJ100/AQ100*60 -> 52.258065 | AU100: =+AK100/AQ100*60 -> 34.83871 | AV100: högsta dagstemp 8,8°
A101: 39894.75 | B101: 16051.06 | G101: 4 | H101: 19.4 | K101: 22 | P101: 11 | Q101: 0 | S101: till | U101: 45 | V101: 43 | W101: 33 | X101: 3 | Y101: -1 | Z101: 54 | AA101: 1825 | AB101: 1763 | AC101: 129 | AD101: =+(B101-B100)/(A101-A100) -> 55.95 | AE101: =+AD101-AF101 -> 40.95 | AF101: 15 | AH101: =(G101+G100)/2 -> 3 | AJ101: =(+A101-A100)*24 -> 24 | AK101: =+AB101-AB100 -> 15 | AL101: =+AK101/AJ101*100 -> 62.5 | AN101: =+AK101/AJ101*24 -> 15 | AO101: =+AC101-AC100 -> 0 | AP101: =+AO101/AJ101*24 -> 0 | AQ101: =+AA101-AA100 -> 29 | AR101: =+AQ101/AJ101 -> 1.2083333 | AS101: =+AR101*24 -> 29 | AT101: =+AJ101/AQ101*60 -> 49.655172 | AU101: =+AK101/AQ101*60 -> 31.034483 | AV101: högsta dagstemp 8,9°
A102: 39899.75 | B102: 16377 | G102: 0 | H102: 19.3 | K102: 19.5 | P102: 11 | Q102: 0 | S102: till | U102: 57 | V102: VV | W102: 38 | X102: 2 | Y102: -1 | Z102: 55 | AA102: 1935 | AB102: 1856 | AC102: 129 | AD102: =+(B102-B101)/(A102-A101) -> 65.188 | AE102: =+AD102-AF102 -> 50.188 | AF102: 15 | AH102: =(G102+G101)/2 -> 2 | AJ102: =(+A102-A101)*24 -> 120 | AK102: =+AB102-AB101 -> 93 | AL102: =+AK102/AJ102*100 -> 77.5 | AN102: =+AK102/AJ102*24 -> 18.6 | AO102: =+AC102-AC101 -> 0 | AP102: =+AO102/AJ102*24 -> 0 | AQ102: =+AA102-AA101 -> 110 | AR102: =+AQ102/AJ102 -> 0.91666667 | AS102: =+AR102*24 -> 22 | AT102: =+AJ102/AQ102*60 -> 65.454545 | AU102: =+AK102/AQ102*60 -> 50.727273 | AV102: Barnkammare elelement 1dygn. Luftade radiatorer 23/3
A103: 39907.792 | B103: 16838.38 | G103: 2 | H103: 19.6 | K103: 22 | P103: 11 | Q103: 0 | S103: till | U103: 50 | V103: 45 | W103: 43 | X103: 2 | Y103: -3 | Z103: 46 | AA103: 2162 | AB103: 1980 | AC103: 130 | AD103: =+(B103-B102)/(A103-A102) -> 57.373679 | AE103: =+AD103-AF103 -> 42.373679 | AF103: 15 | AH103: =(G103+G102)/2 -> 1 | AJ103: =(+A103-A102)*24 -> 193 | AK103: =+AB103-AB102 -> 124 | AL103: =+AK103/AJ103*100 -> 64.248705 | AN103: =+AK103/AJ103*24 -> 15.419689 | AO103: =+AC103-AC102 -> 1 | AP103: =+AO103/AJ103*24 -> 0.12435233 | AQ103: =+AA103-AA102 -> 227 | AR103: =+AQ103/AJ103 -> 1.1761658 | AS103: =+AR103*24 -> 28.227979 | AT103: =+AJ103/AQ103*60 -> 51.013216 | AU103: =+AK103/AQ103*60 -> 32.77533
A104: 39909.708 | B104: 16928.92 | G104: 6 | H104: 21.1 | K104: 24 | P104: 11 | Q104: 0 | S104: av | U104: 40 | V104: 41 | W104: 40 | X104: 3 | Y104: 4 | Z104: 47 | AA104: 2222 | AB104: 2006 | AC104: 130 | AD104: =+(B104-B103)/(A104-A103) -> 47.238261 | AE104: =+AD104-AF104 -> 32.238261 | AF104: 15 | AH104: =(G104+G103)/2 -> 4 | AJ104: =(+A104-A103)*24 -> 46 | AK104: =+AB104-AB103 -> 26 | AL104: =+AK104/AJ104*100 -> 56.521739 | AN104: =+AK104/AJ104*24 -> 13.565217 | AO104: =+AC104-AC103 -> 0 | AP104: =+AO104/AJ104*24 -> 0 | AQ104: =+AA104-AA103 -> 60 | AR104: =+AQ104/AJ104 -> 1.3043478 | AS104: =+AR104*24 -> 31.304348 | AT104: =+AJ104/AQ104*60 -> 46 | AU104: =+AK104/AQ104*60 -> 26
A105: 39915.667 | B105: 17272.33 | G105: 7 | H105: 22 | K105: 25 | P105: 11 | Q105: 0 | S105: av | U105: 37 | V105: 40 | W105: 36 | X105: 3 | Y105: 6 | Z105: 51 | AA105: 2404 | AB105: 2089 | AC105: 130 | AD105: =+(B105-B104)/(A105-A104) -> 57.635245 | AE105: =+AD105-AF105 -> 42.635245 | AF105: 15 | AH105: =(G105+G104)/2 -> 6.5 | AJ105: =(+A105-A104)*24 -> 143 | AK105: =+AB105-AB104 -> 83 | AL105: =+AK105/AJ105*100 -> 58.041958 | AN105: =+AK105/AJ105*24 -> 13.93007 | AO105: =+AC105-AC104 -> 0 | AP105: =+AO105/AJ105*24 -> 0 | AQ105: =+AA105-AA104 -> 182 | AR105: =+AQ105/AJ105 -> 1.2727273 | AS105: =+AR105*24 -> 30.545455 | AT105: =+AJ105/AQ105*60 -> 47.142857 | AU105: =+AK105/AQ105*60 -> 27.362637 | AV105: 12 pers. varmt ute och inne
A106: 39919.521 | B106: 17408.33 | G106: 7 | H106: 21.1 | K106: 23.6 | P106: 11 | Q106: -2 | S106: av | U106: 47 | V106: 35 | W106: 33 | X106: 4 | Y106: 2 | Z106: 54 | AA106: 2524 | AB106: 2123 | AC106: 130 | AD106: =+(B106-B105)/(A106-A105) -> 35.286486 | AE106: =+AD106-AF106 -> 20.286486 | AF106: 15 | AH106: =(G106+G105)/2 -> 7 | AJ106: =(+A106-A105)*24 -> 92.5 | AK106: =+AB106-AB105 -> 34 | AL106: =+AK106/AJ106*100 -> 36.756757 | AN106: =+AK106/AJ106*24 -> 8.8216216 | AO106: =+AC106-AC105 -> 0 | AP106: =+AO106/AJ106*24 -> 0 | AQ106: =+AA106-AA105 -> 120 | AR106: =+AQ106/AJ106 -> 1.2972973 | AS106: =+AR106*24 -> 31.135135 | AT106: =+AJ106/AQ106*60 -> 46.25 | AU106: =+AK106/AQ106*60 -> 17 | AV106: Ställde ner till -2 13/4
A107: 39920.792 | B107: 17447.32 | G107: 10 | H107: 20.6 | K107: 23 | P107: 11 | Q107: -2 | S107: av | U107: 29 | V107: 32 | W107: 29 | X107: 6 | Y107: 7 | Z107: 49 | AA107: 2560 | AB107: 2133 | AC107: 130 | AD107: =+(B107-B106)/(A107-A106) -> 30.680656 | AE107: =+AD107-AF107 -> 15.680656 | AF107: 15 | AH107: =(G107+G106)/2 -> 8.5 | AJ107: =(+A107-A106)*24 -> 30.5 | AK107: =+AB107-AB106 -> 10 | AL107: =+AK107/AJ107*100 -> 32.786885 | AN107: =+AK107/AJ107*24 -> 7.8688525 | AO107: =+AC107-AC106 -> 0 | AP107: =+AO107/AJ107*24 -> 0 | AQ107: =+AA107-AA106 -> 36 | AR107: =+AQ107/AJ107 -> 1.1803279 | AS107: =+AR107*24 -> 28.327869 | AT107: =+AJ107/AQ107*60 -> 50.833333 | AU107: =+AK107/AQ107*60 -> 16.666667
A108: 39923.819 | B108: 17557.89 | G108: 7 | H108: 19.6 | K108: 22 | P108: 11 | Q108: -2 | S108: av | U108: 35 | V108: 35 | W108: 34 | X108: 5 | Y108: 7 | Z108: 45 | AA108: 2662 | AB108: 2162 | AC108: 130 | AD108: =+(B108-B107)/(A108-A107) -> 36.518532 | AE108: =+AD108-AF108 -> 21.518532 | AF108: 15 | AH108: =(G108+G107)/2 -> 8.5 | AJ108: =(+A108-A107)*24 -> 72.666667 | AK108: =+AB108-AB107 -> 29 | AL108: =+AK108/AJ108*100 -> 39.908257 | AN108: =+AK108/AJ108*24 -> 9.5779817 | AO108: =+AC108-AC107 -> 0 | AP108: =+AO108/AJ108*24 -> 0 | AQ108: =+AA108-AA107 -> 102 | AR108: =+AQ108/AJ108 -> 1.4036697 | AS108: =+AR108*24 -> 33.688073 | AT108: =+AJ108/AQ108*60 -> 42.745098 | AU108: =+AK108/AQ108*60 -> 17.058824
A109: 39929.792 | B109: 17718.5 | G109: 9 | H109: 20.1 | K109: 22 | P109: 11 | Q109: -2 | S109: av | U109: 29 | V109: 33 | W109: 29 | X109: 7 | Y109: 8 | Z109: 48 | AA109: 2836 | AB109: 2210 | AC109: 130 | AD109: =+(B109-B108)/(A109-A108) -> 26.892837 | AE109: =+AD109-AF109 -> 11.892837 | AF109: 15 | AH109: =(G109+G108)/2 -> 8 | AJ109: =(+A109-A108)*24 -> 143.33333 | AK109: =+AB109-AB108 -> 48 | AL109: =+AK109/AJ109*100 -> 33.488372 | AN109: =+AK109/AJ109*24 -> 8.0372093 | AO109: =+AC109-AC108 -> 0 | AP109: =+AO109/AJ109*24 -> 0 | AQ109: =+AA109-AA108 -> 174 | AR109: =+AQ109/AJ109 -> 1.2139535 | AS109: =+AR109*24 -> 29.134884 | AT109: =+AJ109/AQ109*60 -> 49.425287 | AU109: =+AK109/AQ109*60 -> 16.551724 | AV109: Bortrest to-sönd
A110: 39931.792 | B110: 17776.9 | G110: 10 | H110: 20.6 | K110: 22.8 | P110: 11 | Q110: -2 | S110: till | U110: 36 | V110: 32 | W110: 28 | X110: 6 | Y110: 1 | Z110: 55 | AA110: 2890 | AB110: 2223 | AC110: 130 | AD110: =+(B110-B109)/(A110-A109) -> 29.2 | AE110: =+AD110-AF110 -> 14.2 | AF110: 15 | AH110: =(G110+G109)/2 -> 9.5 | AJ110: =(+A110-A109)*24 -> 48 | AK110: =+AB110-AB109 -> 13 | AL110: =+AK110/AJ110*100 -> 27.083333 | AN110: =+AK110/AJ110*24 -> 6.5 | AO110: =+AC110-AC109 -> 0 | AP110: =+AO110/AJ110*24 -> 0 | AQ110: =+AA110-AA109 -> 54 | AR110: =+AQ110/AJ110 -> 1.125 | AS110: =+AR110*24 -> 27 | AT110: =+AJ110/AQ110*60 -> 53.333333 | AU110: =+AK110/AQ110*60 -> 14.444444
...

Sheet diagr månader
A1: År | B1: Månad | C1: Medeltemp Hunnebo-strand | D1: Medel-temp hemma | E1: Medel-temp nordkoster | F1: Total kWh | G1: Värme+VV kWh | H1: Hushållsel kWh | I1: VP timmar | J1: VP % av tid | K1: VP tillförd medeleffekt kW | L1: TS timmar | M1: 12mån rullande total kWh | N1: Ändring
A2: 2003 | B2: januari
B3: februari
B4: mars
B5: april
B6: maj | P6: Isolerat Var | Q6: När
B7: juni | P7: väggar badrum | Q7: 39148
B8: juli | N8: Köpte Lindås2 | P8: väggar v-rum | Q8: 39222
B9: augusti | N9: Fritidshus | P9: väggar matsal | Q9: 39231 | R9: ??
B10: september | P10: sovrum | Q10: 39288
B11: oktober | P11: mellanrum | Q11: 39836
B12: november | P12: barnkammare | Q12: 40126 | S12: Tapet 2006-11-26
B13: december | P13: ½ vind | Q13: 40204
A14: 2004 | B14: januari | P14: arbetsrum | Q14: 40238 | R14: före radiatorindragning
B15: februari | P15: Cainas rum | Q15: 40289 | R15: ?? | S15: tapet köp 2010-10-04
B16: mars | P16: Kök 1 vägg | Q16: 40345
B17: april | P17: ½ vind | Q17: 40422 | R17: ??
B18: maj | P18: Ö-hall | Q18: 40557
B19: juni | P19: Farstu | Q19: 40848
B20: juli
B21: augusti
B22: september
B23: oktober
B24: november
B25: december
A26: 2005 | B26: januari | E26: 3.6
B27: februari | E27: 0.2
B28: mars | E28: 0
B29: april | E29: 6.4
B30: maj | E30: 9.8
B31: juni | E31: 13.9
B32: juli | E32: 18.1
B33: augusti | E33: 16.2
B34: september | E34: 14.3
B35: oktober | E35: 10
B36: november | E36: 6.8
B37: december | E37: 2.2
A38: 2006 | B38: januari | E38: -0.6 | F38: 2173
B39: februari | E39: -1.8 | F39: 2342
B40: mars | E40: -2.2 | F40: 2592
B41: april | E41: 4.9 | F41: 1983
B42: maj | E42: 11.7 | F42: 558
B43: juni | E43: 14.6 | F43: 540
B44: juli | E44: 19.6 | F44: 713
B45: augusti | E45: 18.3 | F45: 752
B46: september | E46: 16.2 | F46: 944
B47: oktober | E47: 11 | F47: 1423
B48: november | E48: 8 | F48: 2251
B49: december | E49: 6.9 | F49: 2995
A50: 2007 | B50: januari | C50: 2.2 | E50: 3.4 | F50: 4223 | M50: =SUM(F39:F50) -> 21316 | N50: Året runtboende till80%
B51: februari | C51: 0.8 | E51: -0.7 | F51: 4279 | M51: =SUM(F40:F51) -> 23253
B52: mars | C52: 4.5 | E52: 4.7 | F52: 4430 | M52: =SUM(F41:F52) -> 25091 | N52: badrum isolerat
B53: april | C53: 7.5 | E53: 7.5 | F53: 3077 | M53: =SUM(F42:F53) -> 26185
B54: maj | C54: 10.2 | E54: 10.4 | F54: 1439 | M54: =SUM(F43:F54) -> 27066 | N54: V-rum o matsal isolerat
B55: juni | C55: 16.6 | E55: 16.3 | F55: 1392 | M55: =SUM(F44:F55) -> 27918
B56: juli | C56: 15.9 | E56: 15.9 | F56: 1260 | M56: =SUM(F45:F56) -> 28465 | N56: sovrum isolerat
B57: augusti | C57: 17 | E57: 17.1 | F57: 1020 | G57: =+F57-H57 -> 560 | H57: 460 | M57: =SUM(F46:F57) -> 28733 | N57: Flyttade in heltid
B58: september | C58: 13 | E58: 12.9 | F58: 1889 | G58: =+F58-H58 -> 1429 | H58: 460 | M58: =SUM(F47:F58) -> 29678
B59: oktober | C59: 8.8 | E59: 9.3 | F59: 3241 | G59: =+F59-H59 -> 2781 | H59: 460 | M59: =SUM(F48:F59) -> 31496
B60: november | C60: 4.8 | E60: 4.8 | F60: 4420 | G60: =+F60-H60 -> 3960 | H60: 460 | M60: =SUM(F49:F60) -> 33665
B61: december | C61: 3.6 | E61: 2.5 | F61: 5534 | G61: =+F61-H61 -> 5074 | H61: 460 | M61: =SUM(F50:F61) -> 36204
A62: 2008 | B62: januari | C62: 3 | E62: 3.1 | F62: 5750 | G62: =+F62-H62 -> 5290 | H62: 460 | M62: =SUM(F51:F62) -> 37731
B63: februari | C63: 4 | E63: 3.7 | F63: 5234 | G63: =+F63-H63 -> 4774 | H63: 460 | M63: =SUM(F52:F63) -> 38686
B64: mars | C64: 2.6 | E64: 2.3 | F64: 5133 | G64: =+F64-H64 -> 4673 | H64: 460 | M64: =SUM(F53:F64) -> 39389
B65: april | C65: 7.8 | E65: 6.9 | F65: 3578 | G65: =+F65-H65 -> 3118 | H65: 460 | M65: =SUM(F54:F65) -> 39890
B66: maj | C66: 11.8 | E66: 11.9 | F66: 1927 | G66: =+F66-H66 -> 1467 | H66: 460 | M66: =SUM(F55:F66) -> 40378
B67: juni | C67: 15.7 | E67: 15.3 | F67: 1859 | G67: =+F67-H67 -> 1399 | H67: 460 | M67: =SUM(F56:F67) -> 40845
B68: juli | C68: 18.6 | E68: 18.1 | F68: 1755 | G68: =+F68-H68 -> 1295 | H68: 460 | M68: =SUM(F57:F68) -> 41340 | O68: Före VP
B69: augusti | C69: 16.5 | E69: 16.5 | F69: 1755 | G69: =+F69-H69 -> 1295 | H69: 460 | M69: =SUM(F58:F69) -> 42075 | O69: 2010
B70: september | C70: 12.6 | E70: 12.4 | F70: 1698 | G70: =+F70-H70 -> 1238 | H70: 460 | M70: =SUM(F59:F70) -> 41884 | O70: 2011 | Q70: Borde vara linjärt ty värmeförlusten är f av dTxYta
B71: oktober | C71: 10.9 | E71: 9.9 | F71: 3143 | G71: =+F71-H71 -> 2683 | H71: 460 | M71: =SUM(F60:F71) -> 41786 | O71: 2009 | Q71: Varmvatten o hushållsel är jokrar....
B72: november | C72: 5.1 | E72: 5.6 | F72: 3509 | G72: =+F72-H72 -> 3049 | H72: 460 | M72: =SUM(F61:F72) -> 40875 | N72: Isolering , var , när?
B73: december | C73: 1.7 | E73: 1.7 | F73: 3852 | G73: =+F73-H73 -> 3392 | H73: 460 | M73: =SUM(F62:F73) -> 39193 | N73: VP startar 24/12-08
A74: 2009 | B74: jan | C74: 0.9 | D74: 1 | E74: 0.6 | F74: 2210 | G74: =+F74-H74 -> 1750 | H74: 460 | M74: =SUM(F63:F74) -> 35653 | N74: Mellanrum isolerat | O74: =+D74-C74 -> 0.1
B75: feb | C75: -1.3 | D75: -2 | E75: -2.2 | F75: 2356 | G75: =+F75-H75 -> 1896 | H75: 460 | M75: =SUM(F64:F75) -> 32775 | O75: =+D75-C75 -> -0.7
B76: mar | C76: 2.4 | D76: 2 | E76: 2.1 | F76: 2021 | G76: =+F76-H76 -> 1561 | H76: 460 | M76: =SUM(F65:F76) -> 29663 | O76: =+D76-C76 -> -0.4
B77: apr | C77: 7.2 | D77: 8 | E77: 8.1 | F77: 1211 | G77: =+F77-H77 -> 751 | H77: 460 | M77: =SUM(F66:F77) -> 27296 | O77: =+D77-C77 -> 0.8
B78: maj | C78: 10.5 | D78: 11 | E78: 11.6 | F78: 838 | G78: =+F78-H78 -> 378 | H78: 460 | M78: =SUM(F67:F78) -> 26207 | O78: =+D78-C78 -> 0.5
B79: jun | C79: 15.2 | D79: 15 | E79: 15.1 | F79: 636 | G79: =+F79-H79 -> 176 | H79: 460 | M79: =SUM(F68:F79) -> 24984 | O79: =+D79-C79 -> -0.2
B80: jul | C80: 17.7 | D80: 17 | E80: 17.2 | F80: 746 | G80: =+F80-H80 -> 286 | H80: 460 | M80: =SUM(F69:F80) -> 23975 | O80: =+D80-C80 -> -0.7
B81: aug | C81: 17.2 | D81: 16 | E81: 16.8 | F81: 507 | G81: =+F81-H81 -> 47 | H81: 460 | M81: =SUM(F70:F81) -> 22727 | O81: =+D81-C81 -> -1.2
B82: sep | C82: 14.5 | D82: 14 | E82: 14.5 | F82: 744 | G82: =+F82-H82 -> 284 | H82: 460 | M82: =SUM(F71:F82) -> 21773 | O82: =+D82-C82 -> -0.5
B83: okt | C83: 6.9 | D83: 6 | E83: 6.9 | F83: 1588 | G83: =+F83-H83 -> 1128 | H83: 460 | M83: =SUM(F72:F83) -> 20218 | O83: =+D83-C83 -> -0.9
B84: nov | C84: 6.3 | D84: 5 | E84: 5.7 | F84: 1690 | G84: =+F84-H84 -> 1230 | H84: 460 | M84: =SUM(F73:F84) -> 18399 | N84: Barnkammare isolerat | O84: =+D84-C84 -> -1.3
B85: dec | C85: -0.8 | D85: -1 | E85: -1.5 | F85: 3129 | G85: =+F85-H85 -> 2669 | H85: 460 | M85: =SUM(F74:F85) -> 17676 | O85: =+D85-C85 -> -0.2
A86: 2010 | B86: jan | C86: -5.9 | D86: -7 | E86: -6 | F86: 3643 | G86: =+F86-H86 -> 3183 | H86: 460 | M86: =SUM(F75:F86) -> 19109 | N86: ½ vindsisolering? | O86: =+D86-C86 -> -1.1
B87: feb | C87: -5 | D87: -5 | E87: -5.5 | F87: 2778 | G87: =+F87-H87 -> 2318 | H87: 460 | M87: =SUM(F76:F87) -> 19531 | O87: =+D87-C87 -> 0
B88: mar | C88: 1.4 | D88: 1 | E88: 1.1 | F88: 1947 | G88: =+F88-H88 -> 1487 | H88: 460 | M88: =SUM(F77:F88) -> 19457 | N88: Ett rum isolerat | O88: =+D88-C88 -> -0.4
B89: apr | C89: 6.4 | D89: 6 | E89: 6.1 | F89: 1296 | G89: =+F89-H89 -> 836 | H89: 460 | M89: =SUM(F78:F89) -> 19542 | N89: Ett till rum isolerat | O89: =+D89-C89 -> -0.4
B90: maj | C90: 10.4 | D90: 10 | E90: 10.3 | F90: 733 | G90: =+F90-H90 -> 273 | H90: 460 | M90: =SUM(F79:F90) -> 19437 | N90: V-raddar i ö-vån istf el-raddar | O90: =+D90-C90 -> -0.4
B91: jun | C91: 14.4 | D91: 14 | E91: 14.3 | F91: 631 | G91: =+F91-H91 -> 171 | H91: 460 | M91: =SUM(F80:F91) -> 19432 | N91: kök isolerat en vägg | O91: =+D91-C91 -> -0.4
B92: jul | C92: 18.1 | D92: 18 | E92: 17.5 | F92: 851 | G92: =+F92-H92 -> 391 | H92: 460 | M92: =SUM(F81:F92) -> 19537 | O92: =+D92-C92 -> -0.1
B93: aug | C93: 16.9 | D93: 16 | E93: 16.5 | F93: 637 | G93: =+F93-H93 -> 177 | H93: 460 | M93: =SUM(F82:F93) -> 19667 | O93: =+D93-C93 -> -0.9
B94: sep | C94: 12.6 | D94: 12 | E94: 12.4 | F94: 735 | G94: =+F94-H94 -> 275 | H94: 460 | M94: =SUM(F83:F94) -> 19658 | O94: =+D94-C94 -> -0.6
B95: okt | C95: 7.9 | D95: 7 | E95: 7.9 | F95: 1348 | G95: =+F95-H95 -> 888 | H95: 460 | M95: =SUM(F84:F95) -> 19418 | N95: 11/9 isolerat vinden färdigt. | O95: =+D95-C95 -> -0.9
B96: nov | C96: 0.6 | D96: 0 | E96: 0.7 | F96: 1807 | G96: =+F96-H96 -> 1347 | H96: 460 | L96: 0 | M96: =SUM(F85:F96) -> 19535 | O96: =+D96-C96 -> -0.6
B97: dec | C97: -6.1 | D97: -6.5 | E97: -6 | F97: 2664 | G97: =+F97-H97 -> 2204 | H97: 460 | I97: 662 | J97: =+I97/24/31 -> 0.88978495 | L97: 121 | M97: =SUM(F86:F97) -> 19070 | O97: =+D97-C97 -> -0.4
A98: 2011 | B98: jan | C98: -0.4 | D98: -1 | E98: -0.7 | F98: 1954 | G98: =+F98-H98 -> 1494 | H98: 460 | I98: 639 | J98: =+I98/24/31 -> 0.85887097 | L98: 7 | M98: =SUM(F87:F98) -> 17381 | N98: Ö-hall isolerad | O98: =+D98-C98 -> -0.6
B99: feb | C99: -2.3 | D99: -1.6 | E99: -2.8 | F99: 1835 | G99: 1425 | H99: =+F99-G99 -> 410 | I99: 559 | J99: =+I99/24/28 -> 0.83184524 | K99: =+G99/I99 -> 2.549195 | L99: 56 | M99: =SUM(F88:F99) -> 16438 | O99: =+D99-C99 -> 0.7
B100: mars | C100: 1.8 | D100: 1.8 | E100: 1.4 | F100: 1475 | G100: 968 | H100: =+F100-G100 -> 507 | I100: 478 | J100: =+I100/24/31 -> 0.64247312 | K100: =+G100/I100 -> 2.0251046 | L100: 0 | M100: =SUM(F89:F100) -> 15966 | O100: =+D100-C100 -> 0
...

Sheet Graddagsnormerat
A1: År | B1: Månad | C1: temp medel | D1: kWh totalt | E1: kWh värme och varm vatten | F1: Netto värme kWh (VV=100) | G1: tröskeltemp | H1: dagar | I1: Grad dagar | J1: Graddags-norm 1961-1990 | K1: Värme Kwh Normerat mot 3228 graddagar | L1: värme kWh/ graddag | M1: Åtgärd | N1: % av energi åtgång före åtgärder
A2: 2007 | B2: januari | C2: 3.4 | D2: 4223 | F2: =+D2-475-300 -> 3448 | G2: 17 | H2: 31 | I2: =IF(C2<G2,(17-C2)*H2,0) -> 421.6 | J2: 592.1 | K2: =+F2/I2*J2 -> 4842.4118 | L2: =+F2/I2 -> 8.1783681 | M2: Börjar badrumsbygge
B3: februari | C3: -0.7 | D3: 4279 | F3: =+D3-475-300 -> 3504 | G3: 17 | H3: 28 | I3: =IF(C3<G3,(17-C3)*H3,0) -> 495.6 | J3: 542.3 | K3: =+F3/I3*J3 -> 3834.1792 | L3: =+F3/I3 -> 7.0702179
B4: mars | C4: 4.7 | D4: 4430 | F4: =+D4-475-300 -> 3655 | G4: 17 | H4: 31 | I4: =IF(C4<G4,(17-C4)*H4,0) -> 381.3 | J4: 514.6 | K4: =+F4/I4*J4 -> 4932.7642 | L4: =+F4/I4 -> 9.5856281
B5: april | C5: 7.5 | D5: 3077 | F5: =+D5-475-300 -> 2302 | G5: 12 | H5: 30 | I5: =IF(C5<G5,(17-C5)*H5,0) -> 285 | J5: 372 | K5: =+F5/I5*J5 -> 3004.7158 | L5: =+F5/I5 -> 8.077193 | M5: Nytt badrum klart, med golvvärme
B6: maj | C6: 10.4 | D6: 1439 | F6: =+D6-475-300 -> 664 | G6: 10 | H6: 31 | I6: =IF(C6<G6,(17-C6)*H6,0) -> 0 | J6: 0 | M6: Isolerat Vardagsrum
B7: juni | C7: 16.3 | D7: 1392 | F7: =+D7-475-300 -> 617 | G7: 10 | H7: 30 | I7: =IF(C7<G7,(17-C7)*H7,0) -> 0 | J7: 0 | M7: Isolerat matsal
B8: juli | C8: 15.9 | D8: 1260 | F8: =+D8-475-300 -> 485 | G8: 10 | H8: 31 | I8: =IF(C8<G8,(17-C8)*H8,0) -> 0 | J8: 0
B9: augusti | C9: 17.1 | D9: 1020 | F9: =+D9-475-300 -> 245 | G9: 11 | H9: 31 | I9: =IF(C9<G9,(17-C9)*H9,0) -> 0 | J9: 0 | M9: Flyttat in 100%
B10: september | C10: 12.9 | D10: 1889 | F10: =+D10-475-300 -> 1114 | G10: 12 | H10: 30 | I10: =IF(C10<G10,(17-C10)*H10,0) -> 0 | J10: 0
B11: oktober | C11: 9.3 | D11: 3241 | F11: =+D11-475-300 -> 2466 | G11: 13 | H11: 31 | I11: =IF(C11<G11,(17-C11)*H11,0) -> 238.7 | J11: 275.9 | K11: =+F11/I11*J11 -> 2850.3117 | L11: =+F11/I11 -> 10.330959
B12: november | C12: 4.8 | D12: 4420 | F12: =+D12-475-300 -> 3645 | G12: 17 | H12: 30 | I12: =IF(C12<G12,(17-C12)*H12,0) -> 366 | J12: 411 | K12: =+F12/I12*J12 -> 4093.1557 | L12: =+F12/I12 -> 9.9590164
B13: december | C13: 2.5 | D13: 5534 | F13: =+D13-475-300 -> 4759 | G13: 17 | H13: 31 | I13: =IF(C13<G13,(17-C13)*H13,0) -> 449.5 | J13: 530.1 | K13: =+F13/I13*J13 -> 5612.3379 | L13: =+F13/I13 -> 10.587319 | M13: Nytt Kyl o frysskåp 06/12
A14: 2007 | C14: =+AVERAGE(C2:C13) -> 8.675 | D14: 41314 | F14: =+D14-9300 -> 32014 | I14: =SUM(I2:I13) -> 2637.7 | J14: 3238 | K14: =+F14/I14*J14 -> 39299.895 | L14: =+F14/I14 -> 12.137089 | N14: =+L14/L$14 -> 1 | P14: 475 | Q14: =+P14*12 -> 5700
A15: 2008 | B15: januari | C15: 3.1 | D15: 5750 | F15: =+D15-475-300 -> 4975 | G15: 17 | H15: 31 | I15: =IF(C15<G15,(17-C15)*H15,0) -> 430.9 | J15: 592.1 | K15: =+F15/I15*J15 -> 6836.1511 | L15: =+F15/I15 -> 11.545602 | P15: 575 | Q15: =+P15*12 -> 6900
B16: februari | C16: 3.7 | D16: 5234 | F16: =+D16-475-300 -> 4459 | G16: 17 | H16: 29 | I16: =IF(C16<G16,(17-C16)*H16,0) -> 385.7 | J16: 542.3 | K16: =+F16/I16*J16 -> 6269.4211 | L16: =+F16/I16 -> 11.560799 | P16: 775 | Q16: =+P16*12 -> 9300
B17: mars | C17: 2.3 | D17: 5133 | F17: =+D17-475-300 -> 4358 | G17: 17 | H17: 31 | I17: =IF(C17<G17,(17-C17)*H17,0) -> 455.7 | J17: 514.6 | K17: =+F17/I17*J17 -> 4921.2789 | L17: =+F17/I17 -> 9.5633092
B18: april | C18: 6.9 | D18: 3578 | F18: =+D18-475-300 -> 2803 | G18: 12 | H18: 30 | I18: =IF(C18<G18,(17-C18)*H18,0) -> 303 | J18: 372 | K18: =+F18/I18*J18 -> 3441.3069 | L18: =+F18/I18 -> 9.2508251
B19: maj | C19: 11.9 | D19: 1927 | F19: =+D19-475-300 -> 1152 | G19: 10 | H19: 31 | I19: =IF(C19<G19,(17-C19)*H19,0) -> 0 | J19: 0 | M19: Nytt avlopp.
B20: juni | C20: 15.3 | D20: 1859 | F20: =+D20-475-300 -> 1084 | G20: 10 | H20: 30 | I20: =IF(C20<G20,(17-C20)*H20,0) -> 0 | J20: 0
B21: juli | C21: 18.1 | D21: 1755 | F21: =+D21-475-300 -> 980 | G21: 10 | H21: 31 | I21: =IF(C21<G21,(17-C21)*H21,0) -> 0 | J21: 0
B22: augusti | C22: 16.5 | D22: 1755 | F22: =+D22-475-300 -> 980 | G22: 11 | H22: 31 | I22: =IF(C22<G22,(17-C22)*H22,0) -> 0 | J22: 0
B23: september | C23: 12.4 | D23: 1698 | F23: =+D23-475-300 -> 923 | G23: 12 | H23: 30 | I23: =IF(C23<G23,(17-C23)*H23,0) -> 0 | J23: 0
B24: oktober | C24: 9.9 | D24: 3143 | F24: =+D24-475-300 -> 2368 | G24: 13 | H24: 31 | I24: =IF(C24<G24,(17-C24)*H24,0) -> 220.1 | J24: 275.9 | K24: =+F24/I24*J24 -> 2968.338 | L24: =+F24/I24 -> 10.758746
B25: november | C25: 5.6 | D25: 3509 | F25: =+D25-475-300 -> 2734 | G25: 17 | H25: 30 | I25: =IF(C25<G25,(17-C25)*H25,0) -> 342 | J25: 411 | K25: =+F25/I25*J25 -> 3285.5965 | L25: =+F25/I25 -> 7.994152
B26: december | C26: 1.7 | D26: 3852 | F26: =+D26-475-300 -> 3077 | G26: 17 | H26: 31 | I26: =IF(C26<G26,(17-C26)*H26,0) -> 474.3 | J26: 530.1 | K26: =+F26/I26*J26 -> 3439 | L26: =+F26/I26 -> 6.4874552 | M26: VP 22/12
A27: 2008 | C27: =+AVERAGE(C15:C26) -> 8.95 | D27: =SUM(D15:D26) -> 39193 | F27: =+D27-9300 -> 29893 | I27: =SUM(I15:I26) -> 2611.7 | J27: 3238 | K27: =+F27/I27*J27 -> 37061.506 | L27: =+F27/I27 -> 11.445802 | M27: börjat isolera vind och någon vägg | N27: =+L27/L$14 -> 0.94304338
A28: 2009 | B28: jan | C28: 0.6 | D28: 2210 | F28: =+D28-575 -> 1635 | G28: 17 | H28: 31 | I28: =IF(C28<G28,(17-C28)*H28,0) -> 508.4 | J28: 592.1 | K28: =+F28/I28*J28 -> 1904.1768 | L28: =+F28/I28 -> 3.2159717
B29: feb | C29: -2.2 | D29: 2356 | F29: =+D29-575 -> 1781 | G29: 17 | H29: 28 | I29: =IF(C29<G29,(17-C29)*H29,0) -> 537.6 | J29: 542.3 | K29: =+F29/I29*J29 -> 1796.5705 | L29: =+F29/I29 -> 3.312872 | M29: Isolerat mellanrummet
B30: mar | C30: 2.1 | D30: 2021 | F30: =+D30-575 -> 1446 | G30: 17 | H30: 31 | I30: =IF(C30<G30,(17-C30)*H30,0) -> 461.9 | J30: 514.6 | K30: =+F30/I30*J30 -> 1610.9799 | L30: =+F30/I30 -> 3.1305477
B31: apr | C31: 8.1 | D31: 1211 | F31: =+D31-575 -> 636 | G31: 12 | H31: 30 | I31: =IF(C31<G31,(17-C31)*H31,0) -> 267 | J31: 372 | K31: =+F31/I31*J31 -> 886.11236 | L31: =+F31/I31 -> 2.3820225
B32: maj | C32: 11.6 | D32: 838 | F32: =+D32-575 -> 263 | G32: 10 | H32: 31 | I32: =IF(C32<G32,(17-C32)*H32,0) -> 0 | J32: 0 | M32: Isolerat barnkammaren
B33: jun | C33: 15.1 | D33: 636 | F33: 0 | G33: 10 | H33: 30 | I33: =IF(C33<G33,(17-C33)*H33,0) -> 0 | J33: 0
B34: jul | C34: 17.2 | D34: 746 | F34: 0 | G34: 10 | H34: 31 | I34: =IF(C34<G34,(17-C34)*H34,0) -> 0 | J34: 0
B35: aug | C35: 16.8 | D35: 507 | F35: 0 | G35: 11 | H35: 31 | I35: =IF(C35<G35,(17-C35)*H35,0) -> 0 | J35: 0
B36: sep | C36: 14.5 | D36: 744 | F36: =+D36-575 -> 169 | G36: 12 | H36: 30 | I36: =IF(C36<G36,(17-C36)*H36,0) -> 0 | J36: 0
B37: okt | C37: 6.9 | D37: 1588 | F37: =+D37-575 -> 1013 | G37: 13 | H37: 31 | I37: =IF(C37<G37,(17-C37)*H37,0) -> 313.1 | J37: 275.9 | K37: =+F37/I37*J37 -> 892.64356 | L37: =+F37/I37 -> 3.2353881
B38: nov | C38: 5.7 | D38: 1690 | F38: =+D38-575 -> 1115 | G38: 17 | H38: 30 | I38: =IF(C38<G38,(17-C38)*H38,0) -> 339 | J38: 411 | K38: =+F38/I38*J38 -> 1351.8142 | L38: =+F38/I38 -> 3.2890855
B39: dec | C39: -1.5 | D39: 3129 | F39: =+D39-575 -> 2554 | G39: 17 | H39: 31 | I39: =IF(C39<G39,(17-C39)*H39,0) -> 573.5 | J39: 530.1 | K39: =+F39/I39*J39 -> 2360.7243 | L39: =+F39/I39 -> 4.4533566
A40: 2009 | C40: =+AVERAGE(C28:C39) -> 7.9083333 | D40: =SUM(D28:D39) -> 17676 | F40: =SUM(F28:F39) -> 10612 | I40: =SUM(I28:I39) -> 3000.5 | J40: 3238 | K40: =+F40/I40*J40 -> 11451.977 | L40: =+F40/I40 -> 3.5367439 | M40: Hela året med Installerad VP | N40: =+L40/L$14 -> 0.29139968
A41: 2010 | B41: jan | C41: -6 | D41: 3643 | F41: =+D41-575 -> 3068 | G41: 17 | H41: 31 | I41: =IF(C41<G41,(17-C41)*H41,0) -> 713 | J41: 592.1 | K41: =+F41/I41*J41 -> 2547.7739 | L41: =+F41/I41 -> 4.3029453
B42: feb | C42: -5.5 | D42: 2778 | F42: =+D42-575 -> 2203 | G42: 17 | H42: 28 | I42: =IF(C42<G42,(17-C42)*H42,0) -> 630 | J42: 542.3 | K42: =+F42/I42*J42 -> 1896.3284 | L42: =+F42/I42 -> 3.4968254 | M42: Isolerat Bos arbetsrum
B43: mar | C43: 1.1 | D43: 1947 | F43: =+D43-575 -> 1372 | G43: 17 | H43: 31 | I43: =IF(C43<G43,(17-C43)*H43,0) -> 492.9 | J43: 514.6 | K43: =+F43/I43*J43 -> 1432.4025 | L43: =+F43/I43 -> 2.7835261
B44: apr | C44: 6.1 | D44: 1296 | F44: =+D44-575 -> 721 | G44: 12 | H44: 30 | I44: =IF(C44<G44,(17-C44)*H44,0) -> 327 | J44: 372 | K44: =+F44/I44*J44 -> 820.22018 | L44: =+F44/I44 -> 2.204893
B45: maj | C45: 10.3 | D45: 733 | F45: =+D45-575 -> 158 | G45: 10 | H45: 31 | I45: =IF(C45<G45,(17-C45)*H45,0) -> 0 | J45: 0
B46: jun | C46: 14.3 | D46: 631 | F46: 0 | G46: 10 | H46: 30 | I46: =IF(C46<G46,(17-C46)*H46,0) -> 0 | J46: 0 | M46: Köket klart en vägg isolerad
B47: jul | C47: 17.5 | D47: 851 | F47: 0 | G47: 10 | H47: 31 | I47: =IF(C47<G47,(17-C47)*H47,0) -> 0 | J47: 0
B48: aug | C48: 16.5 | D48: 637 | F48: 0 | G48: 11 | H48: 31 | I48: =IF(C48<G48,(17-C48)*H48,0) -> 0 | J48: 0 | M48: Vattenburet istf 4 elradar 2010-08-07
B49: sep | C49: 12.4 | D49: 735 | F49: =+D49-575 -> 160 | G49: 12 | H49: 30 | I49: =IF(C49<G49,(17-C49)*H49,0) -> 0 | J49: 0
B50: okt | C50: 7.9 | D50: 1348 | F50: =+D50-575 -> 773 | G50: 13 | H50: 31 | I50: =IF(C50<G50,(17-C50)*H50,0) -> 282.1 | J50: 275.9 | K50: =+F50/I50*J50 -> 756.01099 | L50: =+F50/I50 -> 2.7401631
B51: nov | C51: 0.7 | D51: 1807 | F51: =+D51-575 -> 1232 | G51: 17 | H51: 30 | I51: =IF(C51<G51,(17-C51)*H51,0) -> 489 | J51: 411 | K51: =+F51/I51*J51 -> 1035.4847 | L51: =+F51/I51 -> 2.5194274
B52: dec | C52: -6 | D52: 2664 | F52: =+D52-575 -> 2089 | G52: 17 | H52: 31 | I52: =IF(C52<G52,(17-C52)*H52,0) -> 713 | J52: 530.1 | K52: =+F52/I52*J52 -> 1553.1261 | L52: =+F52/I52 -> 2.9298738
A53: 2010 | C53: =+AVERAGE(C41:C52) -> 5.775 | D53: =SUM(D41:D52) -> 19070 | F53: =SUM(F41:F52) -> 11776 | I53: =SUM(I41:I52) -> 3647 | J53: 3238 | K53: =+F53/I53*J53 -> 10455.357 | L53: =+F53/I53 -> 3.2289553 | M53: Isolerat några väggar till | N53: =+L53/L$14 -> 0.26604034
A54: 2011 | B54: jan | C54: -0.7 | D54: 1954 | E54: =+F54-100 -> 1279 | F54: =+D54-575 -> 1379 | G54: 17 | H54: 31 | I54: =IF(C54<G54,(17-C54)*H54,0) -> 548.7 | J54: 592.1 | K54: =+F54/I54*J54 -> 1488.0734 | L54: =+F54/I54 -> 2.513213 | M54: färdig vindsisolering 28/1?
B55: feb | C55: -2.8 | D55: 1835 | E55: 1425 | F55: =+E55-100 -> 1325 | G55: 17 | H55: 28 | I55: =IF(C55<G55,(17-C55)*H55,0) -> 554.4 | J55: 542.3 | K55: =+F55/I55*J55 -> 1296.0813 | L55: =+F55/I55 -> 2.3899711 | M55: Isolerat norra hallvägg
B56: mars | C56: 1.4 | D56: 1475 | E56: 968 | F56: =+E56-100 -> 868 | G56: 17 | H56: 31 | I56: =IF(C56<G56,(17-C56)*H56,0) -> 483.6 | J56: 514.6 | K56: =+F56/I56*J56 -> 923.64103 | L56: =+F56/I56 -> 1.7948718
B57: april | C57: 8.1 | D57: 857 | E57: 444 | F57: =+E57-100 -> 344 | G57: 12 | H57: 30 | I57: =IF(C57<G57,(17-C57)*H57,0) -> 267 | J57: 372 | K57: =+F57/I57*J57 -> 479.2809 | L57: =+F57/I57 -> 1.2883895
B58: maj | C58: 11 | D58: 588 | E58: 232 | F58: =+E58-100 -> 132 | G58: 10 | H58: 31 | I58: =IF(C58<G58,(17-C58)*H58,0) -> 0 | J58: 0
B59: juni | C59: 15.1 | D59: 473 | E59: 97 | F59: 0 | G59: 10 | H59: 30 | I59: =IF(C59<G59,(17-C59)*H59,0) -> 0 | J59: 0
B60: juli | C60: 17.7 | D60: 718 | E60: 117 | F60: 0 | G60: 10 | H60: 31 | I60: =IF(C60<G60,(17-C60)*H60,0) -> 0 | J60: 0
B61: Aug | C61: 17.2 | D61: 518 | E61: 87 | F61: 0 | G61: 11 | H61: 31 | I61: =IF(C61<G61,(17-C61)*H61,0) -> 0 | J61: 0
B62: Sept | C62: 14.1 | D62: 549 | E62: 156 | F62: =+E62-100 -> 56 | G62: 12 | H62: 30 | I62: =IF(C62<G62,(17-C62)*H62,0) -> 0 | J62: 0
B63: Okt | C63: 10.2 | D63: 883 | E63: 320 | F63: =+E63-100 -> 220 | G63: 13 | H63: 31 | I63: =IF(C63<G63,(17-C63)*H63,0) -> 210.8 | J63: 275.9 | K63: =+F63/I63*J63 -> 287.94118 | L63: =+F63/I63 -> 1.0436433 | M63: Isolerat Farstun 31/10
B64: Nov | C64: 6.6 | D64: 1057 | E64: 515 | F64: =+E64-100 -> 415 | G64: 17 | H64: 30 | I64: =IF(C64<G64,(17-C64)*H64,0) -> 312 | J64: 411 | K64: =+F64/I64*J64 -> 546.68269 | L64: =+F64/I64 -> 1.3301282
B65: Dec | C65: 4.3 | D65: 2007 | E65: 718 | F65: =+E65-100 -> 618 | G65: 17 | H65: 31 | I65: =IF(C65<G65,(17-C65)*H65,0) -> 393.7 | J65: 530.1 | K65: =+F65/I65*J65 -> 832.11024 | L65: =+F65/I65 -> 1.5697231 | M65: Gårdhus elvärmt | P65: 1961-1990
A66: 2011 | C66: =+AVERAGE(C54:C65) -> 8.5166667 | D66: =SUM(D54:D65) -> 12914 | E66: =SUM(E54:E65) -> 6358 | F66: =SUM(F54:F65) -> 5357 | I66: =SUM(I54:I65) -> 2770.2 | J66: 3238 | K66: =+F66/I66*J66 -> 6261.6295 | L66: =+F66/I66 -> 1.9337954 | M66: Vind o ö-hall isolerade | N66: =+L66/L$14 -> 0.15932942 | P66: Nordkoster | S66: graddagar
A67: 2012 | B67: jan | C67: 0.6 | D67: 1558 | E67: 920 | F67: =+E67-100 -> 820 | G67: 17 | H67: 31 | I67: =IF(C67<G67,(17-C67)*H67,0) -> 508.4 | J67: 592.1 | K67: =+F67/I67*J67 -> 955 | L67: =+F67/I67 -> 1.6129032 | M67: Tredje glasruta farstun 20/1 | P67: -2.1 | Q67: 17 | R67: 31 | S67: =IF(P67<Q67,(17-P67)*R67,0) -> 592.1 | T67: jan
B68: feb | C68: -0.6 | D68: 1346 | E68: 943 | F68: =+E68-100 -> 843 | G68: 17 | H68: 29 | I68: =IF(C68<G68,(17-C68)*H68,0) -> 510.4 | J68: 542.3 | K68: =+F68/I68*J68 -> 895.6875 | L68: =+F68/I68 -> 1.6516458 | P68: -1.7 | Q68: 17 | R68: 29 | S68: =IF(P68<Q68,(17-P68)*R68,0) -> 542.3 | T68: feb
B69: mar | C69: 4.9 | D69: 961 | E69: 574 | F69: =+E69-100 -> 474 | G69: 17 | H69: 31 | I69: =IF(C69<G69,(17-C69)*H69,0) -> 375.1 | J69: 514.6 | K69: =+F69/I69*J69 -> 650.28099 | L69: =+F69/I69 -> 1.263663 | P69: 0.4 | Q69: 17 | R69: 31 | S69: =IF(P69<Q69,(17-P69)*R69,0) -> 514.6 | T69: mars
B70: apr | C70: 6.4 | D70: ='diagr månader'!F113 -> 957 | E70: ='diagr månader'!G113 -> 519 | F70: =+E70-100 -> 419 | G70: 12 | H70: 30 | I70: =IF(C70<G70,(17-C70)*H70,0) -> 318 | J70: 372 | K70: =+F70/I70*J70 -> 490.15094 | L70: =+F70/I70 -> 1.3176101 | P70: 4.6 | Q70: 12 | R70: 30 | S70: =IF(P70<Q70,(17-P70)*R70,0) -> 372 | T70: april
B71: maj | C71: ='diagr månader'!E114 -> 11.9 | D71: ='diagr månader'!F114 -> 481 | E71: ='diagr månader'!G114 -> 197 | F71: =+E71-100 -> 97 | G71: 10 | H71: 31 | I71: =IF(C71<G71,(17-C71)*H71,0) -> 0 | J71: 0 | K71: =+F71/I71*J71 -> #DIV/0! | L71: =+F71/I71 -> #DIV/0! | P71: 10.4 | Q71: 10 | R71: 31 | S71: =IF(P71<Q71,(17-P71)*R71,0) -> 0 | T71: maj
B72: jun | C72: ='diagr månader'!E115 -> 13.2 | D72: ='diagr månader'!F115 -> 407 | E72: ='diagr månader'!G115 -> 86 | F72: 0 | G72: 10 | H72: 30 | I72: =IF(C72<G72,(17-C72)*H72,0) -> 0 | J72: 0 | K72: =+F72/I72*J72 -> #DIV/0! | L72: =+F72/I72 -> #DIV/0! | P72: 14.8 | Q72: 10 | R72: 30 | S72: =IF(P72<Q72,(17-P72)*R72,0) -> 0 | T72: juni
B73: jul | C73: ='diagr månader'!E116 -> 16.4 | D73: ='diagr månader'!F116 -> 675 | E73: ='diagr månader'!G116 -> 111 | F73: =+E73-100 -> 11 | G73: 10 | H73: 31 | I73: =IF(C73<G73,(17-C73)*H73,0) -> 0 | J73: 0 | K73: =+F73/I73*J73 -> #DIV/0! | L73: =+F73/I73 -> #DIV/0! | P73: 16.3 | Q73: 10 | R73: 31 | S73: =IF(P73<Q73,(17-P73)*R73,0) -> 0 | T73: juli
B74: aug | C74: ='diagr månader'!E117 -> 16.8 | D74: ='diagr månader'!F117 -> 370 | E74: ='diagr månader'!G117 -> 74 | F74: =+E74-100 -> -26 | G74: 11 | H74: 31 | I74: =IF(C74<G74,(17-C74)*H74,0) -> 0 | J74: 0 | K74: =+F74/I74*J74 -> #DIV/0! | L74: =+F74/I74 -> #DIV/0! | P74: 15.8 | Q74: 11 | R74: 31 | S74: =IF(P74<Q74,(17-P74)*R74,0) -> 0 | T74: Aug
B75: sep | C75: ='diagr månader'!E118 -> 13.95 | D75: ='diagr månader'!F118 -> 427.32612 | E75: ='diagr månader'!G118 -> 75.672334 | F75: =+E75-100 -> -24.327666 | G75: 12 | H75: 30 | I75: =IF(C75<G75,(17-C75)*H75,0) -> 0 | J75: 0 | K75: =+F75/I75*J75 -> #DIV/0! | L75: =+F75/I75 -> #DIV/0! | P75: 12.2 | Q75: 12 | R75: 30 | S75: =IF(P75<Q75,(17-P75)*R75,0) -> 0 | T75: Sept
B76: okt | C76: ='diagr månader'!E119 -> 0 | D76: ='diagr månader'!F119 -> 0 | E76: ='diagr månader'!G119 -> 0 | F76: =+E76-100 -> -100 | G76: 13 | H76: 31 | I76: =IF(C76<G76,(17-C76)*H76,0) -> 527 | J76: 275.9 | K76: =+F76/I76*J76 -> -52.352941 | L76: =+F76/I76 -> -0.18975332 | P76: 8.1 | Q76: 13 | R76: 31 | S76: =IF(P76<Q76,(17-P76)*R76,0) -> 275.9 | T76: Okt
B77: nov | C77: ='diagr månader'!E120 -> 0 | D77: ='diagr månader'!F120 -> 0 | E77: ='diagr månader'!G120 -> 0 | F77: =+E77-100 -> -100 | G77: 17 | H77: 30 | I77: =IF(C77<G77,(17-C77)*H77,0) -> 510 | J77: 411 | K77: =+F77/I77*J77 -> -80.588235 | L77: =+F77/I77 -> -0.19607843 | P77: 3.3 | Q77: 17 | R77: 30 | S77: =IF(P77<Q77,(17-P77)*R77,0) -> 411 | T77: Nov
B78: dec | C78: ='diagr månader'!E121 -> 0 | D78: ='diagr månader'!F121 -> 0 | E78: ='diagr månader'!G121 -> 0 | F78: =+E78-100 -> -100 | G78: 17 | H78: 31 | I78: =IF(C78<G78,(17-C78)*H78,0) -> 527 | J78: 530.1 | K78: =+F78/I78*J78 -> -100.58824 | L78: =+F78/I78 -> -0.18975332 | P78: -0.1 | Q78: 17 | R78: 31 | S78: =IF(P78<Q78,(17-P78)*R78,0) -> 530.1 | T78: Dec
I79: =SUM(I2:I14) -> 5275.4 | J79: 3238 | K79: =+F79/I79*J79 -> 0 | L79: =+F79/I79 -> 0 | P79: 6.8 | S79: =SUM(S67:S78) -> 3238 | T79: År

Sheet Hushållsel
A1: ='diagr månader'!B99 -> feb | B1: ='diagr månader'!H99 -> 410
A2: ='diagr månader'!B100 -> mars | B2: ='diagr månader'!H100 -> 507
A3: ='diagr månader'!B101 -> april | B3: ='diagr månader'!H101 -> 413
A4: ='diagr månader'!B102 -> maj | B4: ='diagr månader'!H102 -> 356
A5: ='diagr månader'!B103 -> juni | B5: ='diagr månader'!H103 -> 376
A6: ='diagr månader'!B104 -> juli | B6: ='diagr månader'!H104 -> 601
A7: ='diagr månader'!B105 -> Aug | B7: ='diagr månader'!H105 -> 431
A8: ='diagr månader'!B106 -> Sept | B8: ='diagr månader'!H106 -> 393
A9: ='diagr månader'!B107 -> Okt | B9: ='diagr månader'!H107 -> 563
A10: ='diagr månader'!B108 -> Nov | B10: ='diagr månader'!H108 -> 542
A11: ='diagr månader'!B109 -> Dec | B11: ='diagr månader'!H109 -> 1289
A12: ='diagr månader'!B110 -> jan | B12: ='diagr månader'!H110 -> 638
... A23: ='diagr månader'!B121 -> dec | B23: ='diagr månader'!H121 -> 0

Sheet Gångtid-temp ute

Sheet UCOP
B1: Formeln är Energi=U x yta x DeltaT x tid U= Energi(Wh)/(yta(m2) x DeltaT( ºC) x Tid(h)) W/m2/ ºC
A3: År | B3: Månad | C3: Kwh tot | D3: kWh VP | E3: Kwh HH | F3: Kwh VV uppskattat | G3: RT ºC | H3: Medel T ºC ute | I3: UCOP | J3: TS h
A4: 2011 | B4: feb | C4: 1835 | D4: 1425 | E4: =C4-D4 -> 410 | F4: 100 | G4: 21 | H4: -1.6 | I4: =(D4-F4)/384/31/24/(G4-H4)*1000 -> 0.20521225 | J4: 56
A5: 2011 | B5: mar | C5: 1475 | D5: 968 | E5: =C5-D5 -> 507 | F5: 100 | G5: 21 | H5: 1.8 | I5: =(D5-F5)/384/31/24/(G5-H5)*1000 -> 0.15823929
A6: 2011 | B6: apr | C6: 857 | D6: 444 | E6: =C6-D6 -> 413 | F6: 100 | G6: 21 | H6: 9.3 | I6: =(D6-F6)/384/31/24/(G6-H6)*1000 -> 0.10291257 | K6: Mycket solinstrålning....
A7: 2011 | B7: maj | C7: 588 | D7: 232 | E7: =C7-D7 -> 356 | F7: 100 | G7: 21 | H7: 12
A8: 2011 | B8: jun | C8: 473 | D8: 97 | E8: =C8-D8 -> 376 | F8: 100 | G8: 21 | H8: 14
A9: 2011 | B9: jul | C9: 718 | D9: 117 | E9: =C9-D9 -> 601 | F9: 100 | G9: 21 | H9: 15
A10: 2011 | B10: aug | C10: 523 | D10: 87 | E10: =C10-D10 -> 436 | F10: 100 | G10: 21 | H10: 17
A11: 2011 | B11: sep | E11: =C11-D11 -> 0 | F11: 100 | G11: 21
A12: 2011 | B12: okt | E12: =C12-D12 -> 0 | F12: 100 | G12: 21 | I12: =(D12-F12)/384/31/24/(G12-H12)*1000 -> -0.016667733
A13: 2011 | B13: nov | E13: =C13-D13 -> 0 | F13: 100 | G13: 21 | I13: =(D13-F13)/384/31/24/(G13-H13)*1000 -> -0.016667733
A14: 2011 | B14: dec | E14: =C14-D14 -> 0 | F14: 100 | G14: 21 | I14: =(D14-F14)/384/31/24/(G14-H14)*1000 -> -0.016667733
A15: 2012 | B15: jan | E15: =C15-D15 -> 0 | F15: 100 | G15: 21 | I15: =(D15-F15)/384/31/24/(G15-H15)*1000 -> -0.016667733
A16: 2012 | B16: feb | E16: =C16-D16 -> 0 | F16: 100 | G16: 21 | I16: =(D16-F16)/384/31/24/(G16-H16)*1000 -> -0.016667733
A17: 2012 | B17: mar | E17: =C17-D17 -> 0 | F17: 100 | G17: 21 | I17: =(D17-F17)/384/31/24/(G17-H17)*1000 -> -0.016667733
A18: 2012 | B18: apr | E18: =C18-D18 -> 0 | F18: 100 | G18: 21 | I18: =(D18-F18)/384/31/24/(G18-H18)*1000 -> -0.016667733
A19: 2012 | B19: maj | E19: =C19-D19 -> 0 | F19: 100 | G19: 21 | I19: =(D19-F19)/384/31/24/(G19-H19)*1000 -> -0.016667733
A20: 2012 | B20: jun | E20: =C20-D20 -> 0 | F20: 100 | G20: 21 | I20: =(D20-F20)/384/31/24/(G20-H20)*1000 -> -0.016667733
A21: 2012 | B21: jul | E21: =C21-D21 -> 0 | F21: 100 | G21: 21 | I21: =(D21-F21)/384/31/24/(G21-H21)*1000 -> -0.016667733
A22: 2012

Sheet kWh temp per mån
A1: 4.6 | B1: 3.2
A3: 35 | B3: 50
A5: 42000 | B5: 42000
A6: 30000 | B6: 30000 | K6: vad kostar golvvärmeinstallation? | N6: kr/kvm | O6: kvm | P6: summa | Q6: avbet.tid
A7: =+A5/$A$1 -> 9130.4348 | B7: =+B5/$B$1 -> 13125 | C7: =-A7+B7 -> 3994.5652 | E7: besparingspotential med golvvärme per år utan extra isolering | N7: 200 | O7: 160 | P7: =+N7*O7 -> 32000 | Q7: =+P7/C7/1.3 -> 6.1622187
A8: =+A6/$A$1 -> 6521.7391 | B8: =+B6/$B$1 -> 9375 | C8: =-A8+B8 -> 2853.2609 | E8: besparingspotential med golvvärme per år med extra isolering | N8: 200 | O8: 160 | P8: =+N8*O8 -> 32000 | Q8: =+P8/C8/1.3 -> 8.6271062
A12: Månad | B12: 2006 | C12: 2007 | E12: 2008 | F12: 2009 | G12: 2010 | H12: 2011
A13: januari | B13: 2157 | C13: 4180 | E13: 5756 | F13: 2210 | G13: 3643 | H13: 1954
A14: februari | B14: 2380 | C14: 4362 | E14: 5233 | F14: 2356 | G14: 2778 | H14: 1835
A15: mars | B15: 2563 | C15: 4368 | E15: 5132 | F15: 2021 | G15: 1947 | H15: 1475
A16: april | B16: 1951 | C16: 3056 | E16: 3575 | F16: 1211 | G16: 1296 | H16: 857
A17: maj | B17: 566 | C17: 1456 | E17: 1959 | F17: 838 | G17: 733 | H17: 588
A18: juni | B18: 548 | C18: 1409 | E18: 1827 | F18: 636 | G18: 631 | H18: 473
A19: juli | B19: 708 | C19: 1233 | E19: 1772 | F19: 746 | G19: 851 | H19: 718
A20: augusti | B20: 744 | C20: 1024 | E20: 1772 | F20: 507 | G20: 637 | H20: 518
A21: september | B21: 951 | C21: 1888 | E21: 1715 | F21: 744 | G21: 735 | H21: 549
A22: oktober | B22: 1453 | C22: 3254 | E22: 3142 | F22: 1588 | G22: 1348 | H22: 883
A23: november | B23: 2230 | C23: 4413 | E23: 3458 | F23: 1690 | G23: 1807 | H23: 1057
A24: december | B24: 3022 | C24: 5518 | E24: 3852 | F24: 3129 | G24: 2664
A25: januari | B25: 4223 | C25: =SUM(C13:C24) -> 36161 | E25: =SUM(E13:E24) -> 39193 | F25: =SUM(F13:F24) -> 17676 | G25: =SUM(G13:G24) -> 19070 | H25: =SUM(H13:H24,G24) -> 13571 | I25: 12mån rullande
A26: februari | B26: 4279
A27: mars | B27: 4430
A28: april | B28: 3077
A29: maj | B29: 1439
A30: juni | B30: 1392
A31: juli | B31: 1260
A32: augusti | B32: 1020
A33: september | B33: 1889
A34: oktober | B34: 3241
A35: november | B35: 4420
A36: december | B36: 5534
A37: januari | B37: 5750
... A48: december | B48: 3852
A49: januari | B49: 2210 | D49: 1
A50: februari | B50: 2356 | D50: -2
A51: mars | B51: 2021 | D51: 2
A52: april | B52: 1211 | D52: 8
A53: maj | B53: 838 | D53: 11
A54: juni | B54: 636 | D54: 15
A55: juli | B55: 746 | D55: 17
A56: augusti | B56: 507 | D56: 16
A57: september | B57: 744 | D57: 14
A58: oktober | B58: 1588 | D58: 6
A59: november | B59: 1690 | D59: 5 | E59: nov
A60: december | B60: 3129 | D60: -1 | E60: dec
A61: januari | B61: 3643 | C61: 2010 | D61: -7 | E61: jan
A62: februari | B62: 2778 | D62: -5 | E62: feb
A63: mars | B63: 1947 | D63: 1 | E63: mar
A64: april | B64: 1296 | D64: 6 | E64: apr
A65: maj | B65: 733 | D65: 10 | E65: maj
A66: juni | B66: 631 | D66: 14 | E66: jun
A67: juli | B67: 851 | D67: 18 | E67: jul
A68: augusti | B68: 637 | D68: 16 | E68: aug
A69: september | B69: 735 | D69: 12 | E69: sep
A70: oktober | B70: 1348 | D70: 7 | E70: okt
A71: november | B71: 1807 | D71: 0 | E71: nov
A72: december | B72: 2664 | D72: -6.5 | E72: dec
A73: januari | B73: 1954 | D73: -1
A74: februari | B74: 1874 | D74: -2.3
A75: mars
D82: Medeltemp

Sheet Fortum mätarställningar
A1: Datum | B1: Avläsning | C1: Räkneverk | D1: Mätarställning | E1: Förbrukning | F1: Årsförbrukn.* | G1: % av år
A2: 2012-07-01 | B2: Avläst | C2: Normallast Aktiv In: | D2: 65412 | E2: 407 kWh | F2: 11440 kWh | G2: 3,6%
A3: 2012-06-01 | B3: Avläst | C3: Normallast Aktiv In: | D3: 65005 | E3: 481 kWh | F3: 11507 kWh | G3: 4,2%
A4: 2012-05-01 | B4: Avläst | C4: Normallast Aktiv In: | D4: 64524 | E4: 955 kWh | F4: 11614 kWh | G4: 8,2%
A5: 2012-04-01 | B5: Avläst | C5: Normallast Aktiv In: | D5: 63569 | E5: 963 kWh | F5: 11516 kWh | G5: 8,4%
A6: 2012-03-01 | B6: Avläst | C6: Normallast Aktiv In: | D6: 62606 | E6: 1346 kWh | F6: 12028 kWh | G6: 11,2%
A7: 2012-02-01 | B7: Avläst | C7: Normallast Aktiv In: | D7: 61260 | E7: 1558 kWh | F7: 12517 kWh | G7: 12,4%
A8: 2012-01-01 | B8: Avläst | C8: Normallast Aktiv In: | D8: 59702 | E8: 2007 kWh | F8: 12913 kWh | G8: 15,5%
A9: 2011-12-01 | B9: Avläst | C9: Normallast Aktiv In: | D9: 57695 | E9: 1054 kWh | F9: 13561 kWh | G9: 7,8%
A10: 2011-11-01 | B10: Avläst | C10: Normallast Aktiv In: | D10: 56641 | E10: 884 kWh | F10: 14314 kWh | G10: 6,2%
A11: 2011-10-01 | B11: Avläst | C11: Normallast Aktiv In: | D11: 55757 | E11: 549 kWh | F11: 14778 kWh | G11: 3,7%
A12: 2011-09-01 | B12: Avläst | C12: Normallast Aktiv In: | D12: 55208 | E12: 521 kWh | F12: 14964 kWh | G12: 3,5%
A13: 2011-08-01 | B13: Avläst | C13: Normallast Aktiv In: | D13: 54687 | E13: 715 kWh | F13: 15080 kWh | G13: 4,7%
... A18: 2011-03-01 | B18: Avläst | C18: Normallast Aktiv In: | D18: 50578 | E18: 1835 kWh | F18: 16429 kWh | G18: 11,2%
A19: 40575 | B19: Avläst | C19: Normallast Aktiv In: | D19: 48743 | E19: 1954 kWh | F19: 17372 kWh | G19: 0.112
A20: 40544 | B20: Avläst | C20: Normallast Aktiv In: | D20: 46789 | E20: 2655 kWh | F20: 19061 kWh | G20: 0.139
A21: 40513 | B21: Avläst | C21: Normallast Aktiv In: | D21: 44134 | E21: 1807 kWh | F21: 19535 kWh | G21: 0.093
A22: 40483 | B22: Avläst | C22: Normallast Aktiv In: | D22: 42327 | E22: 1348 kWh | F22: 19418 kWh | G22: 0.069
A23: 40452 | B23: Avläst | C23: Normallast Aktiv In: | D23: 40979 | E23: 735 kWh | F23: 19658 kWh | G23: 0.037
A24: 40422 | B24: Avläst | C24: Normallast Aktiv In: | D24: 40244 | E24: 637 kWh | F24: 19667 kWh | G24: 0.032
A25: 40391 | B25: Avläst | C25: Normallast Aktiv In: | D25: 39607 | E25: 851 kWh | F25: 19537 kWh | G25: 0.044
A26: 40360 | B26: Avläst | C26: Normallast Aktiv In: | D26: 38756 | E26: 631 kWh | F26: 19432 kWh | G26: 0.032
A27: 40330 | B27: Avläst | C27: Normallast Aktiv In: | D27: 38125 | E27: 733 kWh | F27: 19437 kWh | G27: 0.038
A28: 40299 | B28: Avläst | C28: Normallast Aktiv In: | D28: 37392 | E28: 1296 kWh | F28: 19542 kWh | G28: 0.066
A29: 40269 | B29: Avläst | C29: Normallast Aktiv In: | D29: 36096 | E29: 1947 kWh | F29: 19457 kWh | G29: 0.1
A30: 40238 | B30: Avläst | C30: Normallast Aktiv In: | D30: 34149 | E30: 2778 kWh | F30: 19531 kWh | G30: 0.142
... A41: 39904 | B41: Avläst | C41: Normallast Aktiv In: | D41: 16639 | E41: 2021 kWh | F41: 21000 kWh | G41: 0.096
