Workbook

Sheet logg värden
A1: Divisors | C1: 10 | D1: 10 | E1: 10 | F1: 1 | G1: 10 | H1: 10 | I1: 10 | J1: 10 | K1: 10 | L1: 10 | M1: 10 | N1: 10 | O1: 10 | P1: 10 | Q1: 10 | R1: 10 | S1: 10 | T1: 10 | U1: 10 | V1: 10 | W1: 10 | X1: 10 | Y1: 100 | Z1: 10 | AA1: 10 | AB1: 1 | AC1: 1 | AD1: 10 | AE1: 10 | AF1: 10 | AG1: 1 | AH1: 1 | AI1: 1 | AJ1: 100 | AK1: 100 | AL1: 1
A2: Date | B2: Time | C2: Outdoor temp [°C] | D2: Outdoor. Average [°C] | E2: Room temp [°C] | F2: Prio | G2: Calc. Supply S1 [°C] | H2: Supply temp S1 [°C] | I2: Return temp S1 [°C] | J2: Calc. Supply S2 [°C] | K2: Supply temp S2 [°C] | L2: Return temp S2 [°C] | M2: Calc.Heat dT [°C] | N2: Actually Heat dT [°C] | O2: Hot water top [°C] | P2: Hot water Load [°C] | Q2: Condensor Out [°C] | R2: Hot Gas Temp [°C] | S2: Evaporator temp [°C] | T2: Suction temp [°C] | U2: Exhaust air temp [°C] | V2: Vented air temp [°C] | W2: BS1 Air flow | X2: Air flow reference | Y2: Addition power[kW] | Z2: Degree minutes [DGM] | AA2: Comp Freq. ACT [Hz] | AB2: Active defrosting time [s] | AC2: Passive defrosting time [s] | AD2: Current L1 [A] | AE2: Current L2 [A] | AF2: Current L3 [A] | AG2: Alarm number [NR:] | AH2: Comp starts [ST] | AI2: Comp time [h] | AJ2: Comp energy [kWh] | AK2: Compr. energy HW [kWh] | AL2: Chargepump speed [%]
A3: 44532 | B3: 0.32655093 | C3: -25 | D3: -27 | E3: 214 | F3: 30 | G3: 352 | H3: 364 | I3: 294 | J3: 327 | K3: 340 | L3: 296 | M3: 73 | N3: 73 | O3: 446 | P3: 418 | Q3: 367 | R3: 939 | S3: -169 | T3: -5 | U3: 222 | V3: -108 | W3: 2102 | X3: 2190 | Y3: 0 | Z3: -7602 | AA3: 1034 | AB3: 0 | AC3: 0 | AD3: 26 | AE3: 20 | AF3: 47 | AG3: 0 | AH3: 25368 | AI3: 36741 | AJ3: 2726712 | AK3: 588566 | AL3: 39
A4: 44532 | B4: 0.32724537 | C4: -25 | D4: -27 | E4: 215 | F4: 30 | G4: 352 | H4: 364 | I4: 295 | J4: 327 | K4: 340 | L4: 296 | M4: 73 | N4: 73 | O4: 446 | P4: 418 | Q4: 368 | R4: 939 | S4: -169 | T4: -5 | U4: 223 | V4: -108 | W4: 2063 | X4: 2190 | Y4: 0 | Z4: -7586 | AA4: 1034 | AB4: 0 | AC4: 0 | AD4: 30 | AE4: 23 | AF4: 38 | AG4: 0 | AH4: 25368 | AI4: 36741 | AJ4: 2726712 | AK4: 588566 | AL4: 39
A5: 44532 | B5: 0.32793981 | C5: -25 | D5: -27 | E5: 214 | F5: 30 | G5: 352 | H5: 365 | I5: 295 | J5: 327 | K5: 338 | L5: 296 | M5: 73 | N5: 76 | O5: 446 | P5: 418 | Q5: 371 | R5: 941 | S5: -169 | T5: -5 | U5: 223 | V5: -110 | W5: 2114 | X5: 2190 | Y5: 0 | Z5: -7569 | AA5: 1035 | AB5: 0 | AC5: 0 | AD5: 32 | AE5: 19 | AF5: 51 | AG5: 0 | AH5: 25368 | AI5: 36741 | AJ5: 2726712 | AK5: 588566 | AL5: 39
A6: 44532 | B6: 0.32863426 | C6: -25 | D6: -27 | E6: 214 | F6: 30 | G6: 352 | H6: 366 | I6: 296 | J6: 327 | K6: 336 | L6: 297 | M6: 73 | N6: 77 | O6: 446 | P6: 418 | Q6: 373 | R6: 941 | S6: -169 | T6: -4 | U6: 222 | V6: -110 | W6: 2116 | X6: 2190 | Y6: 0 | Z6: -7549 | AA6: 1034 | AB6: 0 | AC6: 0 | AD6: 30 | AE6: 20 | AF6: 53 | AG6: 0 | AH6: 25368 | AI6: 36741 | AJ6: 2726712 | AK6: 588566 | AL6: 40
A7: 44532 | B7: 0.3293287 | C7: -25 | D7: -27 | E7: 214 | F7: 30 | G7: 352 | H7: 368 | I7: 297 | J7: 327 | K7: 334 | L7: 297 | M7: 73 | N7: 78 | O7: 446 | P7: 418 | Q7: 376 | R7: 944 | S7: -168 | T7: -5 | U7: 222 | V7: -112 | W7: 2103 | X7: 2190 | Y7: 0 | Z7: -7526 | AA7: 1034 | AB7: 0 | AC7: 0 | AD7: 29 | AE7: 22 | AF7: 38 | AG7: 0 | AH7: 25368 | AI7: 36741 | AJ7: 2726712 | AK7: 588566 | AL7: 42
A8: 44532 | B8: 0.33002315 | C8: -25 | D8: -27 | E8: 214 | F8: 30 | G8: 352 | H8: 370 | I8: 298 | J8: 327 | K8: 334 | L8: 297 | M8: 73 | N8: 77 | O8: 446 | P8: 418 | Q8: 375 | R8: 944 | S8: -168 | T8: -5 | U8: 222 | V8: -113 | W8: 2123 | X8: 2190 | Y8: 0 | Z8: -7503 | AA8: 1034 | AB8: 0 | AC8: 0 | AD8: 34 | AE8: 20 | AF8: 40 | AG8: 0 | AH8: 25368 | AI8: 36741 | AJ8: 2726712 | AK8: 588566 | AL8: 43
A9: 44532 | B9: 0.33071759 | C9: -24 | D9: -27 | E9: 214 | F9: 30 | G9: 352 | H9: 371 | I9: 299 | J9: 327 | K9: 334 | L9: 296 | M9: 73 | N9: 76 | O9: 446 | P9: 418 | Q9: 375 | R9: 946 | S9: -169 | T9: -4 | U9: 223 | V9: -116 | W9: 2089 | X9: 2190 | Y9: 0 | Z9: -7480 | AA9: 1035 | AB9: 0 | AC9: 0 | AD9: 32 | AE9: 20 | AF9: 52 | AG9: 0 | AH9: 25368 | AI9: 36741 | AJ9: 2726712 | AK9: 588566 | AL9: 43
A10: 44532 | B10: 0.33141204 | C10: -25 | D10: -27 | E10: 214 | F10: 30 | G10: 352 | H10: 372 | I10: 299 | J10: 327 | K10: 335 | L10: 296 | M10: 73 | N10: 76 | O10: 446 | P10: 418 | Q10: 375 | R10: 946 | S10: -168 | T10: -5 | U10: 223 | V10: -115 | W10: 2102 | X10: 2190 | Y10: 0 | Z10: -7457 | AA10: 1034 | AB10: 0 | AC10: 0 | AD10: 26 | AE10: 25 | AF10: 35 | AG10: 0 | AH10: 25368 | AI10: 36741 | AJ10: 2726712 | AK10: 588566 | AL10: 43
A11: 44532 | B11: 0.33216435 | C11: -25 | D11: -27 | E11: 214 | F11: 30 | G11: 352 | H11: 372 | I11: 299 | J11: 327 | K11: 335 | L11: 296 | M11: 73 | N11: 77 | O11: 446 | P11: 418 | Q11: 376 | R11: 947 | S11: -167 | T11: -4 | U11: 222 | V11: -116 | W11: 2070 | X11: 2190 | Y11: 0 | Z11: -7433 | AA11: 1025 | AB11: 0 | AC11: 0 | AD11: 26 | AE11: 26 | AF11: 36 | AG11: 0 | AH11: 25368 | AI11: 36741 | AJ11: 2726712 | AK11: 588566 | AL11: 44
A12: 44532 | B12: 0.33284722 | C12: -25 | D12: -27 | E12: 215 | F12: 30 | G12: 352 | H12: 373 | I12: 300 | J12: 327 | K12: 335 | L12: 296 | M12: 73 | N12: 76 | O12: 446 | P12: 418 | Q12: 376 | R12: 946 | S12: -166 | T12: -3 | U12: 223 | V12: -116 | W12: 2130 | X12: 2190 | Y12: 0 | Z12: -7409 | AA12: 1025 | AB12: 0 | AC12: 0 | AD12: 34 | AE12: 23 | AF12: 36 | AG12: 0 | AH12: 25368 | AI12: 36741 | AJ12: 2726712 | AK12: 588566 | AL12: 44
A13: 44532 | B13: 0.33354167 | C13: -24 | D13: -27 | E13: 214 | F13: 30 | G13: 350 | H13: 373 | I13: 300 | J13: 325 | K13: 336 | L13: 296 | M13: 73 | N13: 77 | O13: 446 | P13: 418 | Q13: 377 | R13: 946 | S13: -166 | T13: -3 | U13: 223 | V13: -116 | W13: 2079 | X13: 2190 | Y13: 0 | Z13: -7385 | AA13: 1024 | AB13: 0 | AC13: 0 | AD13: 30 | AE13: 25 | AF13: 46 | AG13: 0 | AH13: 25368 | AI13: 36741 | AJ13: 2726712 | AK13: 588566 | AL13: 44
A14: 44532 | B14: 0.33423611 | C14: -24 | D14: -27 | E14: 215 | F14: 30 | G14: 343 | H14: 374 | I14: 302 | J14: 318 | K14: 334 | L14: 296 | M14: 73 | N14: 78 | O14: 447 | P14: 418 | Q14: 380 | R14: 947 | S14: -166 | T14: -5 | U14: 223 | V14: -116 | W14: 2078 | X14: 2190 | Y14: 0 | Z14: -7353 | AA14: 1025 | AB14: 0 | AC14: 0 | AD14: 20 | AE14: 17 | AF14: 43 | AG14: 0 | AH14: 25368 | AI14: 36741 | AJ14: 2726712 | AK14: 588566 | AL14: 45
... A1442: 44533 | B1442: 0.32600694 | C1442: -60 | D1442: -45 | E1442: 208 | F1442: 20 | G1442: 319 | H1442: 304 | I1442: 470 | J1442: 295 | K1442: 285 | L1442: 280 | M1442: -32768 | N1442: -32768 | O1442: 447 | P1442: 440 | Q1442: 498 | R1442: 985 | S1442: -98 | T1442: 44 | U1442: 219 | V1442: -34 | W1442: 2119 | X1442: 2224 | Y1442: 0 | Z1442: -8050 | AA1442: 775 | AB1442: 0 | AC1442: 0 | AD1442: 33 | AE1442: 18 | AF1442: 38 | AG1442: 0 | AH1442: 25380 | AI1442: 36761 | AJ1442: 2728518 | AK1442: 588783 | AL1442: 100

Sheet värden för tabell
A1: ='logg värden'!A1 -> Divisors | C1: ='logg värden'!C1 -> 10 | D1: ='logg värden'!D1 -> 10 | E1: ='logg värden'!E1 -> 10 | F1: ='logg värden'!F1 -> 1 | G1: ='logg värden'!G1 -> 10 | H1: ='logg värden'!H1 -> 10 | I1: ='logg värden'!I1 -> 10 | J1: ='logg värden'!J1 -> 10 | ... AL1: ='logg värden'!AL1 -> 1 | AM1: ='logg värden'!AL1 -> 1 | AO1: USED POWER HEAT PUMP
A2: ='logg värden'!A2 -> Date | B2: ='logg värden'!B2 -> Time | C2: ='logg värden'!C2 -> Outdoor temp [°C] | D2: ='logg värden'!D2 -> Outdoor. Average [°C] | E2: ='logg värden'!E2 -> Room temp [°C] | F2: ='logg värden'!F2 -> Prio | G2: ='logg värden'!G2 -> Calc. Supply S1 [°C] | H2: ='logg värden'!H2 -> Supply temp S1 [°C] | ... AK2: ='logg värden'!AK2 -> Compr. energy HW [kWh] | AL2: Comp energy heat [kWh] | AM2: ='logg värden'!AL2 -> Chargepump speed [%] | AO2: 7
A3: ='logg värden'!A3 -> 44532 | B3: ='logg värden'!B3 -> 0.32655093 | C3: =(('logg värden'!C3))/('logg värden'!$C$1) -> -2.5 | D3: =(('logg värden'!D3))/('logg värden'!$D$1) -> -2.7 | E3: =(('logg värden'!E3))/('logg värden'!$E$1) -> 21.4 | F3: =(('logg värden'!F3))/('logg värden'!$F$1) -> 30 | G3: =(('logg värden'!G3))/('logg värden'!$G$1) -> 35.2 | H3: =(('logg värden'!H3))/('logg värden'!$H$1) -> 36.4 | I3: =(('logg värden'!I3))/('logg värden'!$I$1) -> 29.4 | J3: =(('logg värden'!J3))/('logg värden'!$J$1) -> 32.7 | K3: =(('logg värden'!K3))/('logg värden'!$K$1) -> 34 | L3: =(('logg värden'!L3))/('logg värden'!$L$1) -> 29.6 | M3: =(('logg värden'!M3))/('logg värden'!$M$1) -> 7.3 | N3: =(('logg värden'!N3))/('logg värden'!$N$1) -> 7.3 | O3: =(('logg värden'!O3))/('logg värden'!$O$1) -> 44.6 | P3: =(('logg värden'!P3))/('logg värden'!$P$1) -> 41.8 | Q3: =(('logg värden'!Q3))/('logg värden'!$Q$1) -> 36.7 | R3: =(('logg värden'!R3))/('logg värden'!$R$1) -> 93.9 | S3: =(('logg värden'!S3))/('logg värden'!$S$1) -> -16.9 | T3: =(('logg värden'!T3))/('logg värden'!$T$1) -> -0.5 | U3: =(('logg värden'!U3))/('logg värden'!$U$1) -> 22.2 | V3: =(('logg värden'!V3))/('logg värden'!$V$1) -> -10.8 | W3: =(('logg värden'!W3))/('logg värden'!$W$1) -> 210.2 | X3: =(('logg värden'!X3))/('logg värden'!$X$1) -> 219 | Y3: =(('logg värden'!Y3))/('logg värden'!$Y$1) -> 0 | Z3: =(('logg värden'!Z3))/('logg värden'!$Z$1) -> -760.2 | AA3: =(('logg värden'!AA3))/('logg värden'!$AA$1) -> 103.4 | AB3: =(('logg värden'!AB3))/('logg värden'!$AB$1) -> 0 | AC3: =(('logg värden'!AC3))/('logg värden'!$AC$1) -> 0 | AD3: =(('logg värden'!AD3))/('logg värden'!$AD$1) -> 2.6 | AE3: =(('logg värden'!AE3))/('logg värden'!$AE$1) -> 2 | AF3: =(('logg värden'!AF3))/('logg värden'!$AF$1) -> 4.7 | AG3: =(('logg värden'!AG3))/('logg värden'!$AG$1) -> 0 | AH3: =(('logg värden'!AH3))/('logg värden'!$AH$1) -> 25368 | AI3: =(('logg värden'!AI3))/('logg värden'!$AI$1) -> 36741 | AJ3: =(('logg värden'!AJ3))/('logg värden'!$AJ$1) -> 27267.12 | AK3: =(('logg värden'!AK3))/('logg värden'!$AK$1) -> 5885.66 | AL3: =AJ3-AK3 -> 21381.46 | AM3: =(('logg värden'!AL3))/('logg värden'!$AL$1) -> 39 | AO3: Compr. Used energy today heat [kW] | AP3: =AP4-AP5 -> 17.48
A4: ='logg värden'!A4 -> 44532 | B4: ='logg värden'!B4 -> 0.32724537 | C4: =(('logg värden'!C4))/('logg värden'!$C$1) -> -2.5 | D4: =(('logg värden'!D4))/('logg värden'!$D$1) -> -2.7 | E4: =(('logg värden'!E4))/('logg värden'!$E$1) -> 21.5 | F4: =(('logg värden'!F4))/('logg värden'!$F$1) -> 30 | G4: =(('logg värden'!G4))/('logg värden'!$G$1) -> 35.2 | H4: =(('logg värden'!H4))/('logg värden'!$H$1) -> 36.4 | I4: =(('logg värden'!I4))/('logg värden'!$I$1) -> 29.5 | J4: =(('logg värden'!J4))/('logg värden'!$J$1) -> 32.7 | K4: =(('logg värden'!K4))/('logg värden'!$K$1) -> 34 | L4: =(('logg värden'!L4))/('logg värden'!$L$1) -> 29.6 | M4: =(('logg värden'!M4))/('logg värden'!$M$1) -> 7.3 | N4: =(('logg värden'!N4))/('logg värden'!$N$1) -> 7.3 | O4: =(('logg värden'!O4))/('logg värden'!$O$1) -> 44.6 | P4: =(('logg värden'!P4))/('logg värden'!$P$1) -> 41.8 | Q4: =(('logg värden'!Q4))/('logg värden'!$Q$1) -> 36.8 | R4: =(('logg värden'!R4))/('logg värden'!$R$1) -> 93.9 | S4: =(('logg värden'!S4))/('logg värden'!$S$1) -> -16.9 | T4: =(('logg värden'!T4))/('logg värden'!$T$1) -> -0.5 | U4: =(('logg värden'!U4))/('logg värden'!$U$1) -> 22.3 | V4: =(('logg värden'!V4))/('logg värden'!$V$1) -> -10.8 | W4: =(('logg värden'!W4))/('logg värden'!$W$1) -> 206.3 | X4: =(('logg värden'!X4))/('logg värden'!$X$1) -> 219 | Y4: =(('logg värden'!Y4))/('logg värden'!$Y$1) -> 0 | Z4: =(('logg värden'!Z4))/('logg värden'!$Z$1) -> -758.6 | AA4: =(('logg värden'!AA4))/('logg värden'!$AA$1) -> 103.4 | AB4: =(('logg värden'!AB4))/('logg värden'!$AB$1) -> 0 | AC4: =(('logg värden'!AC4))/('logg värden'!$AC$1) -> 0 | AD4: =(('logg värden'!AD4))/('logg värden'!$AD$1) -> 3 | AE4: =(('logg värden'!AE4))/('logg värden'!$AE$1) -> 2.3 | AF4: =(('logg värden'!AF4))/('logg värden'!$AF$1) -> 3.8 | AG4: =(('logg värden'!AG4))/('logg värden'!$AG$1) -> 0 | AH4: =(('logg värden'!AH4))/('logg värden'!$AH$1) -> 25368 | AI4: =(('logg värden'!AI4))/('logg värden'!$AI$1) -> 36741 | AJ4: =(('logg värden'!AJ4))/('logg värden'!$AJ$1) -> 27267.12 | AK4: =(('logg värden'!AK4))/('logg värden'!$AK$1) -> 5885.66 | AL4: =AJ4-AK4 -> 21381.46 | AM4: =(('logg värden'!AL4))/('logg värden'!$AL$1) -> 39 | AO4: MAX | AP4: =MAX(AL3:AL1442) -> 21398.94
A5: ='logg värden'!A5 -> 44532 | B5: ='logg värden'!B5 -> 0.32793981 | C5: =(('logg värden'!C5))/('logg värden'!$C$1) -> -2.5 | D5: =(('logg värden'!D5))/('logg värden'!$D$1) -> -2.7 | E5: =(('logg värden'!E5))/('logg värden'!$E$1) -> 21.4 | F5: =(('logg värden'!F5))/('logg värden'!$F$1) -> 30 | G5: =(('logg värden'!G5))/('logg värden'!$G$1) -> 35.2 | H5: =(('logg värden'!H5))/('logg värden'!$H$1) -> 36.5 | I5: =(('logg värden'!I5))/('logg värden'!$I$1) -> 29.5 | J5: =(('logg värden'!J5))/('logg värden'!$J$1) -> 32.7 | K5: =(('logg värden'!K5))/('logg värden'!$K$1) -> 33.8 | L5: =(('logg värden'!L5))/('logg värden'!$L$1) -> 29.6 | M5: =(('logg värden'!M5))/('logg värden'!$M$1) -> 7.3 | N5: =(('logg värden'!N5))/('logg värden'!$N$1) -> 7.6 | O5: =(('logg värden'!O5))/('logg värden'!$O$1) -> 44.6 | P5: =(('logg värden'!P5))/('logg värden'!$P$1) -> 41.8 | Q5: =(('logg värden'!Q5))/('logg värden'!$Q$1) -> 37.1 | R5: =(('logg värden'!R5))/('logg värden'!$R$1) -> 94.1 | S5: =(('logg värden'!S5))/('logg värden'!$S$1) -> -16.9 | T5: =(('logg värden'!T5))/('logg värden'!$T$1) -> -0.5 | U5: =(('logg värden'!U5))/('logg värden'!$U$1) -> 22.3 | V5: =(('logg värden'!V5))/('logg värden'!$V$1) -> -11 | W5: =(('logg värden'!W5))/('logg värden'!$W$1) -> 211.4 | X5: =(('logg värden'!X5))/('logg värden'!$X$1) -> 219 | Y5: =(('logg värden'!Y5))/('logg värden'!$Y$1) -> 0 | Z5: =(('logg värden'!Z5))/('logg värden'!$Z$1) -> -756.9 | AA5: =(('logg värden'!AA5))/('logg värden'!$AA$1) -> 103.5 | AB5: =(('logg värden'!AB5))/('logg värden'!$AB$1) -> 0 | AC5: =(('logg värden'!AC5))/('logg värden'!$AC$1) -> 0 | AD5: =(('logg värden'!AD5))/('logg värden'!$AD$1) -> 3.2 | AE5: =(('logg värden'!AE5))/('logg värden'!$AE$1) -> 1.9 | AF5: =(('logg värden'!AF5))/('logg värden'!$AF$1) -> 5.1 | AG5: =(('logg värden'!AG5))/('logg värden'!$AG$1) -> 0 | AH5: =(('logg värden'!AH5))/('logg värden'!$AH$1) -> 25368 | AI5: =(('logg värden'!AI5))/('logg värden'!$AI$1) -> 36741 | AJ5: =(('logg värden'!AJ5))/('logg värden'!$AJ$1) -> 27267.12 | AK5: =(('logg värden'!AK5))/('logg värden'!$AK$1) -> 5885.66 | AL5: =AJ5-AK5 -> 21381.46 | AM5: =(('logg värden'!AL5))/('logg värden'!$AL$1) -> 39 | AO5: MIN | AP5: =MIN(AL3:AL1442) -> 21381.46
A6: ='logg värden'!A6 -> 44532 | B6: ='logg värden'!B6 -> 0.32863426 | C6: =(('logg värden'!C6))/('logg värden'!$C$1) -> -2.5 | D6: =(('logg värden'!D6))/('logg värden'!$D$1) -> -2.7 | E6: =(('logg värden'!E6))/('logg värden'!$E$1) -> 21.4 | F6: =(('logg värden'!F6))/('logg värden'!$F$1) -> 30 | G6: =(('logg värden'!G6))/('logg värden'!$G$1) -> 35.2 | H6: =(('logg värden'!H6))/('logg värden'!$H$1) -> 36.6 | I6: =(('logg värden'!I6))/('logg värden'!$I$1) -> 29.6 | J6: =(('logg värden'!J6))/('logg värden'!$J$1) -> 32.7 | K6: =(('logg värden'!K6))/('logg värden'!$K$1) -> 33.6 | L6: =(('logg värden'!L6))/('logg värden'!$L$1) -> 29.7 | M6: =(('logg värden'!M6))/('logg värden'!$M$1) -> 7.3 | N6: =(('logg värden'!N6))/('logg värden'!$N$1) -> 7.7 | O6: =(('logg värden'!O6))/('logg värden'!$O$1) -> 44.6 | P6: =(('logg värden'!P6))/('logg värden'!$P$1) -> 41.8 | Q6: =(('logg värden'!Q6))/('logg värden'!$Q$1) -> 37.3 | R6: =(('logg värden'!R6))/('logg värden'!$R$1) -> 94.1 | S6: =(('logg värden'!S6))/('logg värden'!$S$1) -> -16.9 | T6: =(('logg värden'!T6))/('logg värden'!$T$1) -> -0.4 | U6: =(('logg värden'!U6))/('logg värden'!$U$1) -> 22.2 | V6: =(('logg värden'!V6))/('logg värden'!$V$1) -> -11 | W6: =(('logg värden'!W6))/('logg värden'!$W$1) -> 211.6 | X6: =(('logg värden'!X6))/('logg värden'!$X$1) -> 219 | Y6: =(('logg värden'!Y6))/('logg värden'!$Y$1) -> 0 | Z6: =(('logg värden'!Z6))/('logg värden'!$Z$1) -> -754.9 | AA6: =(('logg värden'!AA6))/('logg värden'!$AA$1) -> 103.4 | AB6: =(('logg värden'!AB6))/('logg värden'!$AB$1) -> 0 | AC6: =(('logg värden'!AC6))/('logg värden'!$AC$1) -> 0 | AD6: =(('logg värden'!AD6))/('logg värden'!$AD$1) -> 3 | AE6: =(('logg värden'!AE6))/('logg värden'!$AE$1) -> 2 | AF6: =(('logg värden'!AF6))/('logg värden'!$AF$1) -> 5.3 | AG6: =(('logg värden'!AG6))/('logg värden'!$AG$1) -> 0 | AH6: =(('logg värden'!AH6))/('logg värden'!$AH$1) -> 25368 | AI6: =(('logg värden'!AI6))/('logg värden'!$AI$1) -> 36741 | AJ6: =(('logg värden'!AJ6))/('logg värden'!$AJ$1) -> 27267.12 | AK6: =(('logg värden'!AK6))/('logg värden'!$AK$1) -> 5885.66 | AL6: =AJ6-AK6 -> 21381.46 | AM6: =(('logg värden'!AL6))/('logg värden'!$AL$1) -> 40
A7: ='logg värden'!A7 -> 44532 | B7: ='logg värden'!B7 -> 0.3293287 | C7: =(('logg värden'!C7))/('logg värden'!$C$1) -> -2.5 | D7: =(('logg värden'!D7))/('logg värden'!$D$1) -> -2.7 | E7: =(('logg värden'!E7))/('logg värden'!$E$1) -> 21.4 | F7: =(('logg värden'!F7))/('logg värden'!$F$1) -> 30 | G7: =(('logg värden'!G7))/('logg värden'!$G$1) -> 35.2 | H7: =(('logg värden'!H7))/('logg värden'!$H$1) -> 36.8 | I7: =(('logg värden'!I7))/('logg värden'!$I$1) -> 29.7 | J7: =(('logg värden'!J7))/('logg värden'!$J$1) -> 32.7 | K7: =(('logg värden'!K7))/('logg värden'!$K$1) -> 33.4 | L7: =(('logg värden'!L7))/('logg värden'!$L$1) -> 29.7 | M7: =(('logg värden'!M7))/('logg värden'!$M$1) -> 7.3 | N7: =(('logg värden'!N7))/('logg värden'!$N$1) -> 7.8 | O7: =(('logg värden'!O7))/('logg värden'!$O$1) -> 44.6 | P7: =(('logg värden'!P7))/('logg värden'!$P$1) -> 41.8 | Q7: =(('logg värden'!Q7))/('logg värden'!$Q$1) -> 37.6 | R7: =(('logg värden'!R7))/('logg värden'!$R$1) -> 94.4 | S7: =(('logg värden'!S7))/('logg värden'!$S$1) -> -16.8 | T7: =(('logg värden'!T7))/('logg värden'!$T$1) -> -0.5 | U7: =(('logg värden'!U7))/('logg värden'!$U$1) -> 22.2 | V7: =(('logg värden'!V7))/('logg värden'!$V$1) -> -11.2 | W7: =(('logg värden'!W7))/('logg värden'!$W$1) -> 210.3 | X7: =(('logg värden'!X7))/('logg värden'!$X$1) -> 219 | Y7: =(('logg värden'!Y7))/('logg värden'!$Y$1) -> 0 | Z7: =(('logg värden'!Z7))/('logg värden'!$Z$1) -> -752.6 | AA7: =(('logg värden'!AA7))/('logg värden'!$AA$1) -> 103.4 | AB7: =(('logg värden'!AB7))/('logg värden'!$AB$1) -> 0 | AC7: =(('logg värden'!AC7))/('logg värden'!$AC$1) -> 0 | AD7: =(('logg värden'!AD7))/('logg värden'!$AD$1) -> 2.9 | AE7: =(('logg värden'!AE7))/('logg värden'!$AE$1) -> 2.2 | AF7: =(('logg värden'!AF7))/('logg värden'!$AF$1) -> 3.8 | AG7: =(('logg värden'!AG7))/('logg värden'!$AG$1) -> 0 | AH7: =(('logg värden'!AH7))/('logg värden'!$AH$1) -> 25368 | AI7: =(('logg värden'!AI7))/('logg värden'!$AI$1) -> 36741 | AJ7: =(('logg värden'!AJ7))/('logg värden'!$AJ$1) -> 27267.12 | AK7: =(('logg värden'!AK7))/('logg värden'!$AK$1) -> 5885.66 | AL7: =AJ7-AK7 -> 21381.46 | AM7: =(('logg värden'!AL7))/('logg värden'!$AL$1) -> 42 | AO7: Compr. Used energy today Hot water [kW] | AP7: =AP8-AP9 -> 2.17
A8: ='logg värden'!A8 -> 44532 | B8: ='logg värden'!B8 -> 0.33002315 | C8: =(('logg värden'!C8))/('logg värden'!$C$1) -> -2.5 | D8: =(('logg värden'!D8))/('logg värden'!$D$1) -> -2.7 | E8: =(('logg värden'!E8))/('logg värden'!$E$1) -> 21.4 | F8: =(('logg värden'!F8))/('logg värden'!$F$1) -> 30 | G8: =(('logg värden'!G8))/('logg värden'!$G$1) -> 35.2 | H8: =(('logg värden'!H8))/('logg värden'!$H$1) -> 37 | I8: =(('logg värden'!I8))/('logg värden'!$I$1) -> 29.8 | J8: =(('logg värden'!J8))/('logg värden'!$J$1) -> 32.7 | K8: =(('logg värden'!K8))/('logg värden'!$K$1) -> 33.4 | L8: =(('logg värden'!L8))/('logg värden'!$L$1) -> 29.7 | M8: =(('logg värden'!M8))/('logg värden'!$M$1) -> 7.3 | N8: =(('logg värden'!N8))/('logg värden'!$N$1) -> 7.7 | O8: =(('logg värden'!O8))/('logg värden'!$O$1) -> 44.6 | P8: =(('logg värden'!P8))/('logg värden'!$P$1) -> 41.8 | Q8: =(('logg värden'!Q8))/('logg värden'!$Q$1) -> 37.5 | R8: =(('logg värden'!R8))/('logg värden'!$R$1) -> 94.4 | S8: =(('logg värden'!S8))/('logg värden'!$S$1) -> -16.8 | T8: =(('logg värden'!T8))/('logg värden'!$T$1) -> -0.5 | U8: =(('logg värden'!U8))/('logg värden'!$U$1) -> 22.2 | V8: =(('logg värden'!V8))/('logg värden'!$V$1) -> -11.3 | W8: =(('logg värden'!W8))/('logg värden'!$W$1) -> 212.3 | X8: =(('logg värden'!X8))/('logg värden'!$X$1) -> 219 | Y8: =(('logg värden'!Y8))/('logg värden'!$Y$1) -> 0 | Z8: =(('logg värden'!Z8))/('logg värden'!$Z$1) -> -750.3 | AA8: =(('logg värden'!AA8))/('logg värden'!$AA$1) -> 103.4 | AB8: =(('logg värden'!AB8))/('logg värden'!$AB$1) -> 0 | AC8: =(('logg värden'!AC8))/('logg värden'!$AC$1) -> 0 | AD8: =(('logg värden'!AD8))/('logg värden'!$AD$1) -> 3.4 | AE8: =(('logg värden'!AE8))/('logg värden'!$AE$1) -> 2 | AF8: =(('logg värden'!AF8))/('logg värden'!$AF$1) -> 4 | AG8: =(('logg värden'!AG8))/('logg värden'!$AG$1) -> 0 | AH8: =(('logg värden'!AH8))/('logg värden'!$AH$1) -> 25368 | AI8: =(('logg värden'!AI8))/('logg värden'!$AI$1) -> 36741 | AJ8: =(('logg värden'!AJ8))/('logg värden'!$AJ$1) -> 27267.12 | AK8: =(('logg värden'!AK8))/('logg värden'!$AK$1) -> 5885.66 | AL8: =AJ8-AK8 -> 21381.46 | AM8: =(('logg värden'!AL8))/('logg värden'!$AL$1) -> 43 | AO8: MAX | AP8: =MAX(AK8:AK1447) -> 5887.83
A9: ='logg värden'!A9 -> 44532 | B9: ='logg värden'!B9 -> 0.33071759 | C9: =(('logg värden'!C9))/('logg värden'!$C$1) -> -2.4 | D9: =(('logg värden'!D9))/('logg värden'!$D$1) -> -2.7 | E9: =(('logg värden'!E9))/('logg värden'!$E$1) -> 21.4 | F9: =(('logg värden'!F9))/('logg värden'!$F$1) -> 30 | G9: =(('logg värden'!G9))/('logg värden'!$G$1) -> 35.2 | H9: =(('logg värden'!H9))/('logg värden'!$H$1) -> 37.1 | I9: =(('logg värden'!I9))/('logg värden'!$I$1) -> 29.9 | J9: =(('logg värden'!J9))/('logg värden'!$J$1) -> 32.7 | K9: =(('logg värden'!K9))/('logg värden'!$K$1) -> 33.4 | L9: =(('logg värden'!L9))/('logg värden'!$L$1) -> 29.6 | M9: =(('logg värden'!M9))/('logg värden'!$M$1) -> 7.3 | N9: =(('logg värden'!N9))/('logg värden'!$N$1) -> 7.6 | O9: =(('logg värden'!O9))/('logg värden'!$O$1) -> 44.6 | P9: =(('logg värden'!P9))/('logg värden'!$P$1) -> 41.8 | Q9: =(('logg värden'!Q9))/('logg värden'!$Q$1) -> 37.5 | R9: =(('logg värden'!R9))/('logg värden'!$R$1) -> 94.6 | S9: =(('logg värden'!S9))/('logg värden'!$S$1) -> -16.9 | T9: =(('logg värden'!T9))/('logg värden'!$T$1) -> -0.4 | U9: =(('logg värden'!U9))/('logg värden'!$U$1) -> 22.3 | V9: =(('logg värden'!V9))/('logg värden'!$V$1) -> -11.6 | W9: =(('logg värden'!W9))/('logg värden'!$W$1) -> 208.9 | X9: =(('logg värden'!X9))/('logg värden'!$X$1) -> 219 | Y9: =(('logg värden'!Y9))/('logg värden'!$Y$1) -> 0 | Z9: =(('logg värden'!Z9))/('logg värden'!$Z$1) -> -748 | AA9: =(('logg värden'!AA9))/('logg värden'!$AA$1) -> 103.5 | AB9: =(('logg värden'!AB9))/('logg värden'!$AB$1) -> 0 | AC9: =(('logg värden'!AC9))/('logg värden'!$AC$1) -> 0 | AD9: =(('logg värden'!AD9))/('logg värden'!$AD$1) -> 3.2 | AE9: =(('logg värden'!AE9))/('logg värden'!$AE$1) -> 2 | AF9: =(('logg värden'!AF9))/('logg värden'!$AF$1) -> 5.2 | AG9: =(('logg värden'!AG9))/('logg värden'!$AG$1) -> 0 | AH9: =(('logg värden'!AH9))/('logg värden'!$AH$1) -> 25368 | AI9: =(('logg värden'!AI9))/('logg värden'!$AI$1) -> 36741 | AJ9: =(('logg värden'!AJ9))/('logg värden'!$AJ$1) -> 27267.12 | AK9: =(('logg värden'!AK9))/('logg värden'!$AK$1) -> 5885.66 | AL9: =AJ9-AK9 -> 21381.46 | AM9: =(('logg värden'!AL9))/('logg värden'!$AL$1) -> 43 | AO9: MIN | AP9: =MIN(AK8:AK1447) -> 5885.66
A10: ='logg värden'!A10 -> 44532 | B10: ='logg värden'!B10 -> 0.33141204 | C10: =(('logg värden'!C10))/('logg värden'!$C$1) -> -2.5 | D10: =(('logg värden'!D10))/('logg värden'!$D$1) -> -2.7 | E10: =(('logg värden'!E10))/('logg värden'!$E$1) -> 21.4 | F10: =(('logg värden'!F10))/('logg värden'!$F$1) -> 30 | G10: =(('logg värden'!G10))/('logg värden'!$G$1) -> 35.2 | H10: =(('logg värden'!H10))/('logg värden'!$H$1) -> 37.2 | I10: =(('logg värden'!I10))/('logg värden'!$I$1) -> 29.9 | J10: =(('logg värden'!J10))/('logg värden'!$J$1) -> 32.7 | K10: =(('logg värden'!K10))/('logg värden'!$K$1) -> 33.5 | L10: =(('logg värden'!L10))/('logg värden'!$L$1) -> 29.6 | M10: =(('logg värden'!M10))/('logg värden'!$M$1) -> 7.3 | N10: =(('logg värden'!N10))/('logg värden'!$N$1) -> 7.6 | O10: =(('logg värden'!O10))/('logg värden'!$O$1) -> 44.6 | P10: =(('logg värden'!P10))/('logg värden'!$P$1) -> 41.8 | Q10: =(('logg värden'!Q10))/('logg värden'!$Q$1) -> 37.5 | R10: =(('logg värden'!R10))/('logg värden'!$R$1) -> 94.6 | S10: =(('logg värden'!S10))/('logg värden'!$S$1) -> -16.8 | T10: =(('logg värden'!T10))/('logg värden'!$T$1) -> -0.5 | U10: =(('logg värden'!U10))/('logg värden'!$U$1) -> 22.3 | V10: =(('logg värden'!V10))/('logg värden'!$V$1) -> -11.5 | W10: =(('logg värden'!W10))/('logg värden'!$W$1) -> 210.2 | X10: =(('logg värden'!X10))/('logg värden'!$X$1) -> 219 | Y10: =(('logg värden'!Y10))/('logg värden'!$Y$1) -> 0 | Z10: =(('logg värden'!Z10))/('logg värden'!$Z$1) -> -745.7 | AA10: =(('logg värden'!AA10))/('logg värden'!$AA$1) -> 103.4 | AB10: =(('logg värden'!AB10))/('logg värden'!$AB$1) -> 0 | AC10: =(('logg värden'!AC10))/('logg värden'!$AC$1) -> 0 | AD10: =(('logg värden'!AD10))/('logg värden'!$AD$1) -> 2.6 | AE10: =(('logg värden'!AE10))/('logg värden'!$AE$1) -> 2.5 | AF10: =(('logg värden'!AF10))/('logg värden'!$AF$1) -> 3.5 | AG10: =(('logg värden'!AG10))/('logg värden'!$AG$1) -> 0 | AH10: =(('logg värden'!AH10))/('logg värden'!$AH$1) -> 25368 | AI10: =(('logg värden'!AI10))/('logg värden'!$AI$1) -> 36741 | AJ10: =(('logg värden'!AJ10))/('logg värden'!$AJ$1) -> 27267.12 | AK10: =(('logg värden'!AK10))/('logg värden'!$AK$1) -> 5885.66 | AL10: =AJ10-AK10 -> 21381.46 | AM10: =(('logg värden'!AL10))/('logg värden'!$AL$1) -> 43
A11: ='logg värden'!A11 -> 44532 | B11: ='logg värden'!B11 -> 0.33216435 | C11: =(('logg värden'!C11))/('logg värden'!$C$1) -> -2.5 | D11: =(('logg värden'!D11))/('logg värden'!$D$1) -> -2.7 | E11: =(('logg värden'!E11))/('logg värden'!$E$1) -> 21.4 | F11: =(('logg värden'!F11))/('logg värden'!$F$1) -> 30 | G11: =(('logg värden'!G11))/('logg värden'!$G$1) -> 35.2 | H11: =(('logg värden'!H11))/('logg värden'!$H$1) -> 37.2 | I11: =(('logg värden'!I11))/('logg värden'!$I$1) -> 29.9 | J11: =(('logg värden'!J11))/('logg värden'!$J$1) -> 32.7 | K11: =(('logg värden'!K11))/('logg värden'!$K$1) -> 33.5 | L11: =(('logg värden'!L11))/('logg värden'!$L$1) -> 29.6 | M11: =(('logg värden'!M11))/('logg värden'!$M$1) -> 7.3 | N11: =(('logg värden'!N11))/('logg värden'!$N$1) -> 7.7 | O11: =(('logg värden'!O11))/('logg värden'!$O$1) -> 44.6 | P11: =(('logg värden'!P11))/('logg värden'!$P$1) -> 41.8 | Q11: =(('logg värden'!Q11))/('logg värden'!$Q$1) -> 37.6 | R11: =(('logg värden'!R11))/('logg värden'!$R$1) -> 94.7 | S11: =(('logg värden'!S11))/('logg värden'!$S$1) -> -16.7 | T11: =(('logg värden'!T11))/('logg värden'!$T$1) -> -0.4 | U11: =(('logg värden'!U11))/('logg värden'!$U$1) -> 22.2 | V11: =(('logg värden'!V11))/('logg värden'!$V$1) -> -11.6 | W11: =(('logg värden'!W11))/('logg värden'!$W$1) -> 207 | X11: =(('logg värden'!X11))/('logg värden'!$X$1) -> 219 | Y11: =(('logg värden'!Y11))/('logg värden'!$Y$1) -> 0 | Z11: =(('logg värden'!Z11))/('logg värden'!$Z$1) -> -743.3 | AA11: =(('logg värden'!AA11))/('logg värden'!$AA$1) -> 102.5 | AB11: =(('logg värden'!AB11))/('logg värden'!$AB$1) -> 0 | AC11: =(('logg värden'!AC11))/('logg värden'!$AC$1) -> 0 | AD11: =(('logg värden'!AD11))/('logg värden'!$AD$1) -> 2.6 | AE11: =(('logg värden'!AE11))/('logg värden'!$AE$1) -> 2.6 | AF11: =(('logg värden'!AF11))/('logg värden'!$AF$1) -> 3.6 | AG11: =(('logg värden'!AG11))/('logg värden'!$AG$1) -> 0 | AH11: =(('logg värden'!AH11))/('logg värden'!$AH$1) -> 25368 | AI11: =(('logg värden'!AI11))/('logg värden'!$AI$1) -> 36741 | AJ11: =(('logg värden'!AJ11))/('logg värden'!$AJ$1) -> 27267.12 | AK11: =(('logg värden'!AK11))/('logg värden'!$AK$1) -> 5885.66 | AL11: =AJ11-AK11 -> 21381.46 | AM11: =(('logg värden'!AL11))/('logg värden'!$AL$1) -> 44 | AO11: Used addition power [kW] | AP11: =AP15*AP13 -> 11.458333
A12: ='logg värden'!A12 -> 44532 | B12: ='logg värden'!B12 -> 0.33284722 | C12: =(('logg värden'!C12))/('logg värden'!$C$1) -> -2.5 | D12: =(('logg värden'!D12))/('logg värden'!$D$1) -> -2.7 | E12: =(('logg värden'!E12))/('logg värden'!$E$1) -> 21.5 | F12: =(('logg värden'!F12))/('logg värden'!$F$1) -> 30 | G12: =(('logg värden'!G12))/('logg värden'!$G$1) -> 35.2 | H12: =(('logg värden'!H12))/('logg värden'!$H$1) -> 37.3 | I12: =(('logg värden'!I12))/('logg värden'!$I$1) -> 30 | J12: =(('logg värden'!J12))/('logg värden'!$J$1) -> 32.7 | K12: =(('logg värden'!K12))/('logg värden'!$K$1) -> 33.5 | L12: =(('logg värden'!L12))/('logg värden'!$L$1) -> 29.6 | M12: =(('logg värden'!M12))/('logg värden'!$M$1) -> 7.3 | N12: =(('logg värden'!N12))/('logg värden'!$N$1) -> 7.6 | O12: =(('logg värden'!O12))/('logg värden'!$O$1) -> 44.6 | P12: =(('logg värden'!P12))/('logg värden'!$P$1) -> 41.8 | Q12: =(('logg värden'!Q12))/('logg värden'!$Q$1) -> 37.6 | R12: =(('logg värden'!R12))/('logg värden'!$R$1) -> 94.6 | S12: =(('logg värden'!S12))/('logg värden'!$S$1) -> -16.6 | T12: =(('logg värden'!T12))/('logg värden'!$T$1) -> -0.3 | U12: =(('logg värden'!U12))/('logg värden'!$U$1) -> 22.3 | V12: =(('logg värden'!V12))/('logg värden'!$V$1) -> -11.6 | W12: =(('logg värden'!W12))/('logg värden'!$W$1) -> 213 | X12: =(('logg värden'!X12))/('logg värden'!$X$1) -> 219 | Y12: =(('logg värden'!Y12))/('logg värden'!$Y$1) -> 0 | Z12: =(('logg värden'!Z12))/('logg värden'!$Z$1) -> -740.9 | AA12: =(('logg värden'!AA12))/('logg värden'!$AA$1) -> 102.5 | AB12: =(('logg värden'!AB12))/('logg värden'!$AB$1) -> 0 | AC12: =(('logg värden'!AC12))/('logg värden'!$AC$1) -> 0 | AD12: =(('logg värden'!AD12))/('logg värden'!$AD$1) -> 3.4 | AE12: =(('logg värden'!AE12))/('logg värden'!$AE$1) -> 2.3 | AF12: =(('logg värden'!AF12))/('logg värden'!$AF$1) -> 3.6 | AG12: =(('logg värden'!AG12))/('logg värden'!$AG$1) -> 0 | AH12: =(('logg värden'!AH12))/('logg värden'!$AH$1) -> 25368 | AI12: =(('logg värden'!AI12))/('logg värden'!$AI$1) -> 36741 | AJ12: =(('logg värden'!AJ12))/('logg värden'!$AJ$1) -> 27267.12 | AK12: =(('logg värden'!AK12))/('logg värden'!$AK$1) -> 5885.66 | AL12: =AJ12-AK12 -> 21381.46 | AM12: =(('logg värden'!AL12))/('logg värden'!$AL$1) -> 44 | AO12: antal minuter med värde | AP12: =COUNTIF(Y3:Y1442,">0") -> 454
A13: ='logg värden'!A13 -> 44532 | B13: ='logg värden'!B13 -> 0.33354167 | C13: =(('logg värden'!C13))/('logg värden'!$C$1) -> -2.4 | D13: =(('logg värden'!D13))/('logg värden'!$D$1) -> -2.7 | E13: =(('logg värden'!E13))/('logg värden'!$E$1) -> 21.4 | F13: =(('logg värden'!F13))/('logg värden'!$F$1) -> 30 | G13: =(('logg värden'!G13))/('logg värden'!$G$1) -> 35 | H13: =(('logg värden'!H13))/('logg värden'!$H$1) -> 37.3 | I13: =(('logg värden'!I13))/('logg värden'!$I$1) -> 30 | J13: =(('logg värden'!J13))/('logg värden'!$J$1) -> 32.5 | K13: =(('logg värden'!K13))/('logg värden'!$K$1) -> 33.6 | L13: =(('logg värden'!L13))/('logg värden'!$L$1) -> 29.6 | M13: =(('logg värden'!M13))/('logg värden'!$M$1) -> 7.3 | N13: =(('logg värden'!N13))/('logg värden'!$N$1) -> 7.7 | O13: =(('logg värden'!O13))/('logg värden'!$O$1) -> 44.6 | P13: =(('logg värden'!P13))/('logg värden'!$P$1) -> 41.8 | Q13: =(('logg värden'!Q13))/('logg värden'!$Q$1) -> 37.7 | R13: =(('logg värden'!R13))/('logg värden'!$R$1) -> 94.6 | S13: =(('logg värden'!S13))/('logg värden'!$S$1) -> -16.6 | T13: =(('logg värden'!T13))/('logg värden'!$T$1) -> -0.3 | U13: =(('logg värden'!U13))/('logg värden'!$U$1) -> 22.3 | V13: =(('logg värden'!V13))/('logg värden'!$V$1) -> -11.6 | W13: =(('logg värden'!W13))/('logg värden'!$W$1) -> 207.9 | X13: =(('logg värden'!X13))/('logg värden'!$X$1) -> 219 | Y13: =(('logg värden'!Y13))/('logg värden'!$Y$1) -> 0 | Z13: =(('logg värden'!Z13))/('logg värden'!$Z$1) -> -738.5 | AA13: =(('logg värden'!AA13))/('logg värden'!$AA$1) -> 102.4 | AB13: =(('logg värden'!AB13))/('logg värden'!$AB$1) -> 0 | AC13: =(('logg värden'!AC13))/('logg värden'!$AC$1) -> 0 | AD13: =(('logg värden'!AD13))/('logg värden'!$AD$1) -> 3 | AE13: =(('logg värden'!AE13))/('logg värden'!$AE$1) -> 2.5 | AF13: =(('logg värden'!AF13))/('logg värden'!$AF$1) -> 4.6 | AG13: =(('logg värden'!AG13))/('logg värden'!$AG$1) -> 0 | AH13: =(('logg värden'!AH13))/('logg värden'!$AH$1) -> 25368 | AI13: =(('logg värden'!AI13))/('logg värden'!$AI$1) -> 36741 | AJ13: =(('logg värden'!AJ13))/('logg värden'!$AJ$1) -> 27267.12 | AK13: =(('logg värden'!AK13))/('logg värden'!$AK$1) -> 5885.66 | AL13: =AJ13-AK13 -> 21381.46 | AM13: =(('logg värden'!AL13))/('logg värden'!$AL$1) -> 44 | AO13: antal timmar | AP13: =AP12/60 -> 7.5666667
A14: ='logg värden'!A14 -> 44532 | B14: ='logg värden'!B14 -> 0.33423611 | C14: =(('logg värden'!C14))/('logg värden'!$C$1) -> -2.4 | D14: =(('logg värden'!D14))/('logg värden'!$D$1) -> -2.7 | E14: =(('logg värden'!E14))/('logg värden'!$E$1) -> 21.5 | F14: =(('logg värden'!F14))/('logg värden'!$F$1) -> 30 | G14: =(('logg värden'!G14))/('logg värden'!$G$1) -> 34.3 | H14: =(('logg värden'!H14))/('logg värden'!$H$1) -> 37.4 | I14: =(('logg värden'!I14))/('logg värden'!$I$1) -> 30.2 | J14: =(('logg värden'!J14))/('logg värden'!$J$1) -> 31.8 | K14: =(('logg värden'!K14))/('logg värden'!$K$1) -> 33.4 | L14: =(('logg värden'!L14))/('logg värden'!$L$1) -> 29.6 | M14: =(('logg värden'!M14))/('logg värden'!$M$1) -> 7.3 | N14: =(('logg värden'!N14))/('logg värden'!$N$1) -> 7.8 | O14: =(('logg värden'!O14))/('logg värden'!$O$1) -> 44.7 | P14: =(('logg värden'!P14))/('logg värden'!$P$1) -> 41.8 | Q14: =(('logg värden'!Q14))/('logg värden'!$Q$1) -> 38 | R14: =(('logg värden'!R14))/('logg värden'!$R$1) -> 94.7 | S14: =(('logg värden'!S14))/('logg värden'!$S$1) -> -16.6 | T14: =(('logg värden'!T14))/('logg värden'!$T$1) -> -0.5 | U14: =(('logg värden'!U14))/('logg värden'!$U$1) -> 22.3 | V14: =(('logg värden'!V14))/('logg värden'!$V$1) -> -11.6 | W14: =(('logg värden'!W14))/('logg värden'!$W$1) -> 207.8 | X14: =(('logg värden'!X14))/('logg värden'!$X$1) -> 219 | Y14: =(('logg värden'!Y14))/('logg värden'!$Y$1) -> 0 | Z14: =(('logg värden'!Z14))/('logg värden'!$Z$1) -> -735.3 | AA14: =(('logg värden'!AA14))/('logg värden'!$AA$1) -> 102.5 | AB14: =(('logg värden'!AB14))/('logg värden'!$AB$1) -> 0 | AC14: =(('logg värden'!AC14))/('logg värden'!$AC$1) -> 0 | AD14: =(('logg värden'!AD14))/('logg värden'!$AD$1) -> 2 | AE14: =(('logg värden'!AE14))/('logg värden'!$AE$1) -> 1.7 | AF14: =(('logg värden'!AF14))/('logg värden'!$AF$1) -> 4.3 | AG14: =(('logg värden'!AG14))/('logg värden'!$AG$1) -> 0 | AH14: =(('logg värden'!AH14))/('logg värden'!$AH$1) -> 25368 | AI14: =(('logg värden'!AI14))/('logg värden'!$AI$1) -> 36741 | AJ14: =(('logg värden'!AJ14))/('logg värden'!$AJ$1) -> 27267.12 | AK14: =(('logg värden'!AK14))/('logg värden'!$AK$1) -> 5885.66 | AL14: =AJ14-AK14 -> 21381.46 | AM14: =(('logg värden'!AL14))/('logg värden'!$AL$1) -> 45 | AO14: summa alla celler med värde | AP14: =SUM(Y3:Y1442) -> 687.5
A15: ='logg värden'!A15 -> 44532 | B15: ='logg värden'!B15 -> 0.33493056 | C15: =(('logg värden'!C15))/('logg värden'!$C$1) -> -2.4 | D15: =(('logg värden'!D15))/('logg värden'!$D$1) -> -2.7 | E15: =(('logg värden'!E15))/('logg värden'!$E$1) -> 21.4 | F15: =(('logg värden'!F15))/('logg värden'!$F$1) -> 30 | G15: =(('logg värden'!G15))/('logg värden'!$G$1) -> 33.9 | H15: =(('logg värden'!H15))/('logg värden'!$H$1) -> 37.5 | I15: =(('logg värden'!I15))/('logg värden'!$I$1) -> 30.4 | J15: =(('logg värden'!J15))/('logg värden'!$J$1) -> 31.4 | K15: =(('logg värden'!K15))/('logg värden'!$K$1) -> 33.1 | L15: =(('logg värden'!L15))/('logg värden'!$L$1) -> 29.6 | M15: =(('logg värden'!M15))/('logg värden'!$M$1) -> 7.3 | N15: =(('logg värden'!N15))/('logg värden'!$N$1) -> 8 | O15: =(('logg värden'!O15))/('logg värden'!$O$1) -> 44.6 | P15: =(('logg värden'!P15))/('logg värden'!$P$1) -> 41.7 | Q15: =(('logg värden'!Q15))/('logg värden'!$Q$1) -> 38.4 | R15: =(('logg värden'!R15))/('logg värden'!$R$1) -> 94.9 | S15: =(('logg värden'!S15))/('logg värden'!$S$1) -> -16.6 | T15: =(('logg värden'!T15))/('logg värden'!$T$1) -> -0.5 | U15: =(('logg värden'!U15))/('logg värden'!$U$1) -> 22.2 | V15: =(('logg värden'!V15))/('logg värden'!$V$1) -> -11.9 | W15: =(('logg värden'!W15))/('logg värden'!$W$1) -> 209 | X15: =(('logg värden'!X15))/('logg värden'!$X$1) -> 219 | Y15: =(('logg värden'!Y15))/('logg värden'!$Y$1) -> 0 | Z15: =(('logg värden'!Z15))/('logg värden'!$Z$1) -> -731 | AA15: =(('logg värden'!AA15))/('logg värden'!$AA$1) -> 99.4 | AB15: =(('logg värden'!AB15))/('logg värden'!$AB$1) -> 0 | AC15: =(('logg värden'!AC15))/('logg värden'!$AC$1) -> 0 | AD15: =(('logg värden'!AD15))/('logg värden'!$AD$1) -> 2.6 | AE15: =(('logg värden'!AE15))/('logg värden'!$AE$1) -> 2.5 | AF15: =(('logg värden'!AF15))/('logg värden'!$AF$1) -> 4.1 | AG15: =(('logg värden'!AG15))/('logg värden'!$AG$1) -> 0 | AH15: =(('logg värden'!AH15))/('logg värden'!$AH$1) -> 25368 | AI15: =(('logg värden'!AI15))/('logg värden'!$AI$1) -> 36741 | AJ15: =(('logg värden'!AJ15))/('logg värden'!$AJ$1) -> 27267.12 | AK15: =(('logg värden'!AK15))/('logg värden'!$AK$1) -> 5885.66 | AL15: =AJ15-AK15 -> 21381.46 | AM15: =(('logg värden'!AL15))/('logg värden'!$AL$1) -> 47 | AO15: medel värde | AP15: =AP14/AP12 -> 1.5143172
A16: ='logg värden'!A16 -> 44532 | B16: ='logg värden'!B16 -> 0.335625 | C16: =(('logg värden'!C16))/('logg värden'!$C$1) -> -2.4 | D16: =(('logg värden'!D16))/('logg värden'!$D$1) -> -2.7 | E16: =(('logg värden'!E16))/('logg värden'!$E$1) -> 21.4 | F16: =(('logg värden'!F16))/('logg värden'!$F$1) -> 30 | G16: =(('logg värden'!G16))/('logg värden'!$G$1) -> 33.6 | H16: =(('logg värden'!H16))/('logg värden'!$H$1) -> 37.7 | I16: =(('logg värden'!I16))/('logg värden'!$I$1) -> 30.7 | J16: =(('logg värden'!J16))/('logg värden'!$J$1) -> 31.2 | K16: =(('logg värden'!K16))/('logg värden'!$K$1) -> 32.6 | L16: =(('logg värden'!L16))/('logg värden'!$L$1) -> 29.6 | M16: =(('logg värden'!M16))/('logg värden'!$M$1) -> 7.3 | N16: =(('logg värden'!N16))/('logg värden'!$N$1) -> 8.1 | O16: =(('logg värden'!O16))/('logg värden'!$O$1) -> 44.6 | P16: =(('logg värden'!P16))/('logg värden'!$P$1) -> 41.7 | Q16: =(('logg värden'!Q16))/('logg värden'!$Q$1) -> 38.8 | R16: =(('logg värden'!R16))/('logg värden'!$R$1) -> 94.6 | S16: =(('logg värden'!S16))/('logg värden'!$S$1) -> -16.3 | T16: =(('logg värden'!T16))/('logg värden'!$T$1) -> 0 | U16: =(('logg värden'!U16))/('logg värden'!$U$1) -> 22.2 | V16: =(('logg värden'!V16))/('logg värden'!$V$1) -> -12 | W16: =(('logg värden'!W16))/('logg värden'!$W$1) -> 206.3 | X16: =(('logg värden'!X16))/('logg värden'!$X$1) -> 219 | Y16: =(('logg värden'!Y16))/('logg värden'!$Y$1) -> 0 | Z16: =(('logg värden'!Z16))/('logg värden'!$Z$1) -> -726.1 | AA16: =(('logg värden'!AA16))/('logg värden'!$AA$1) -> 96.4 | AB16: =(('logg värden'!AB16))/('logg värden'!$AB$1) -> 0 | AC16: =(('logg värden'!AC16))/('logg värden'!$AC$1) -> 0 | AD16: =(('logg värden'!AD16))/('logg värden'!$AD$1) -> 2.8 | AE16: =(('logg värden'!AE16))/('logg värden'!$AE$1) -> 2.1 | AF16: =(('logg värden'!AF16))/('logg värden'!$AF$1) -> 3.1 | AG16: =(('logg värden'!AG16))/('logg värden'!$AG$1) -> 0 | AH16: =(('logg värden'!AH16))/('logg värden'!$AH$1) -> 25368 | AI16: =(('logg värden'!AI16))/('logg värden'!$AI$1) -> 36741 | AJ16: =(('logg värden'!AJ16))/('logg värden'!$AJ$1) -> 27267.12 | AK16: =(('logg värden'!AK16))/('logg värden'!$AK$1) -> 5885.66 | AL16: =AJ16-AK16 -> 21381.46 | AM16: =(('logg värden'!AL16))/('logg värden'!$AL$1) -> 50
A17: ='logg värden'!A17 -> 44532 | B17: ='logg värden'!B17 -> 0.33631944 | C17: =(('logg värden'!C17))/('logg värden'!$C$1) -> -2.3 | D17: =(('logg värden'!D17))/('logg värden'!$D$1) -> -2.7 | E17: =(('logg värden'!E17))/('logg värden'!$E$1) -> 21.4 | F17: =(('logg värden'!F17))/('logg värden'!$F$1) -> 30 | G17: =(('logg värden'!G17))/('logg värden'!$G$1) -> 33.4 | H17: =(('logg värden'!H17))/('logg värden'!$H$1) -> 38 | I17: =(('logg värden'!I17))/('logg värden'!$I$1) -> 31.1 | J17: =(('logg värden'!J17))/('logg värden'!$J$1) -> 31 | K17: =(('logg värden'!K17))/('logg värden'!$K$1) -> 32.1 | L17: =(('logg värden'!L17))/('logg värden'!$L$1) -> 29.5 | M17: =(('logg värden'!M17))/('logg värden'!$M$1) -> 7.2 | N17: =(('logg värden'!N17))/('logg värden'!$N$1) -> 8.3 | O17: =(('logg värden'!O17))/('logg värden'!$O$1) -> 44.6 | P17: =(('logg värden'!P17))/('logg värden'!$P$1) -> 41.7 | Q17: =(('logg värden'!Q17))/('logg värden'!$Q$1) -> 39.4 | R17: =(('logg värden'!R17))/('logg värden'!$R$1) -> 94.6 | S17: =(('logg värden'!S17))/('logg värden'!$S$1) -> -15.9 | T17: =(('logg värden'!T17))/('logg värden'!$T$1) -> 0.6 | U17: =(('logg värden'!U17))/('logg värden'!$U$1) -> 22.3 | V17: =(('logg värden'!V17))/('logg värden'!$V$1) -> -11.6 | W17: =(('logg värden'!W17))/('logg värden'!$W$1) -> 208.1 | X17: =(('logg värden'!X17))/('logg värden'!$X$1) -> 219 | Y17: =(('logg värden'!Y17))/('logg värden'!$Y$1) -> 0 | Z17: =(('logg värden'!Z17))/('logg värden'!$Z$1) -> -720.5 | AA17: =(('logg värden'!AA17))/('logg värden'!$AA$1) -> 93.4 | AB17: =(('logg värden'!AB17))/('logg värden'!$AB$1) -> 0 | AC17: =(('logg värden'!AC17))/('logg värden'!$AC$1) -> 0 | AD17: =(('logg värden'!AD17))/('logg värden'!$AD$1) -> 2.9 | AE17: =(('logg värden'!AE17))/('logg värden'!$AE$1) -> 1.7 | AF17: =(('logg värden'!AF17))/('logg värden'!$AF$1) -> 3.7 | AG17: =(('logg värden'!AG17))/('logg värden'!$AG$1) -> 0 | AH17: =(('logg värden'!AH17))/('logg värden'!$AH$1) -> 25368 | AI17: =(('logg värden'!AI17))/('logg värden'!$AI$1) -> 36741 | AJ17: =(('logg värden'!AJ17))/('logg värden'!$AJ$1) -> 27267.12 | AK17: =(('logg värden'!AK17))/('logg värden'!$AK$1) -> 5885.66 | AL17: =AJ17-AK17 -> 21381.46 | AM17: =(('logg värden'!AL17))/('logg värden'!$AL$1) -> 53 | AO17: Used energy total | AP17: =(AP11+AP7+AP3) -> 31.108333
A18: ='logg värden'!A18 -> 44532 | B18: ='logg värden'!B18 -> 0.33701389 | C18: =(('logg värden'!C18))/('logg värden'!$C$1) -> -2.3 | D18: =(('logg värden'!D18))/('logg värden'!$D$1) -> -2.7 | E18: =(('logg värden'!E18))/('logg värden'!$E$1) -> 21.4 | F18: =(('logg värden'!F18))/('logg värden'!$F$1) -> 30 | G18: =(('logg värden'!G18))/('logg värden'!$G$1) -> 33.3 | H18: =(('logg värden'!H18))/('logg värden'!$H$1) -> 38.3 | I18: =(('logg värden'!I18))/('logg värden'!$I$1) -> 31.4 | J18: =(('logg värden'!J18))/('logg värden'!$J$1) -> 30.9 | K18: =(('logg värden'!K18))/('logg värden'!$K$1) -> 31.7 | L18: =(('logg värden'!L18))/('logg värden'!$L$1) -> 29.5 | M18: =(('logg värden'!M18))/('logg värden'!$M$1) -> 7.2 | N18: =(('logg värden'!N18))/('logg värden'!$N$1) -> 8.1 | O18: =(('logg värden'!O18))/('logg värden'!$O$1) -> 44.6 | P18: =(('logg värden'!P18))/('logg värden'!$P$1) -> 41.7 | Q18: =(('logg värden'!Q18))/('logg värden'!$Q$1) -> 39.5 | R18: =(('logg värden'!R18))/('logg värden'!$R$1) -> 94.1 | S18: =(('logg värden'!S18))/('logg värden'!$S$1) -> -15.4 | T18: =(('logg värden'!T18))/('logg värden'!$T$1) -> 0.5 | U18: =(('logg värden'!U18))/('logg värden'!$U$1) -> 22.3 | V18: =(('logg värden'!V18))/('logg värden'!$V$1) -> -11.3 | W18: =(('logg värden'!W18))/('logg värden'!$W$1) -> 207.1 | X18: =(('logg värden'!X18))/('logg värden'!$X$1) -> 219 | Y18: =(('logg värden'!Y18))/('logg värden'!$Y$1) -> 0 | Z18: =(('logg värden'!Z18))/('logg värden'!$Z$1) -> -714.3 | AA18: =(('logg värden'!AA18))/('logg värden'!$AA$1) -> 90.4 | AB18: =(('logg värden'!AB18))/('logg värden'!$AB$1) -> 0 | AC18: =(('logg värden'!AC18))/('logg värden'!$AC$1) -> 0 | AD18: =(('logg värden'!AD18))/('logg värden'!$AD$1) -> 2.2 | AE18: =(('logg värden'!AE18))/('logg värden'!$AE$1) -> 1.7 | AF18: =(('logg värden'!AF18))/('logg värden'!$AF$1) -> 3.5 | AG18: =(('logg värden'!AG18))/('logg värden'!$AG$1) -> 0 | AH18: =(('logg värden'!AH18))/('logg värden'!$AH$1) -> 25368 | AI18: =(('logg värden'!AI18))/('logg värden'!$AI$1) -> 36741 | AJ18: =(('logg värden'!AJ18))/('logg värden'!$AJ$1) -> 27267.12 | AK18: =(('logg värden'!AK18))/('logg värden'!$AK$1) -> 5885.66 | AL18: =AJ18-AK18 -> 21381.46 | AM18: =(('logg värden'!AL18))/('logg värden'!$AL$1) -> 55
A19: ='logg värden'!A19 -> 44532 | B19: ='logg värden'!B19 -> 0.33770833 | C19: =(('logg värden'!C19))/('logg värden'!$C$1) -> -2.3 | D19: =(('logg värden'!D19))/('logg värden'!$D$1) -> -2.7 | E19: =(('logg värden'!E19))/('logg värden'!$E$1) -> 21.5 | F19: =(('logg värden'!F19))/('logg värden'!$F$1) -> 30 | G19: =(('logg värden'!G19))/('logg värden'!$G$1) -> 33.2 | H19: =(('logg värden'!H19))/('logg värden'!$H$1) -> 38.6 | I19: =(('logg värden'!I19))/('logg värden'!$I$1) -> 31.6 | J19: =(('logg värden'!J19))/('logg värden'!$J$1) -> 30.8 | K19: =(('logg värden'!K19))/('logg värden'!$K$1) -> 31.5 | L19: =(('logg värden'!L19))/('logg värden'!$L$1) -> 29.5 | M19: =(('logg värden'!M19))/('logg värden'!$M$1) -> 7.2 | N19: =(('logg värden'!N19))/('logg värden'!$N$1) -> 7.7 | O19: =(('logg värden'!O19))/('logg värden'!$O$1) -> 44.6 | P19: =(('logg värden'!P19))/('logg värden'!$P$1) -> 41.7 | Q19: =(('logg värden'!Q19))/('logg värden'!$Q$1) -> 39.3 | R19: =(('logg värden'!R19))/('logg värden'!$R$1) -> 93.6 | S19: =(('logg värden'!S19))/('logg värden'!$S$1) -> -15 | T19: =(('logg värden'!T19))/('logg värden'!$T$1) -> 0.8 | U19: =(('logg värden'!U19))/('logg värden'!$U$1) -> 22.3 | V19: =(('logg värden'!V19))/('logg värden'!$V$1) -> -11.3 | W19: =(('logg värden'!W19))/('logg värden'!$W$1) -> 206.5 | X19: =(('logg värden'!X19))/('logg värden'!$X$1) -> 219 | Y19: =(('logg värden'!Y19))/('logg värden'!$Y$1) -> 0 | Z19: =(('logg värden'!Z19))/('logg värden'!$Z$1) -> -708.3 | AA19: =(('logg värden'!AA19))/('logg värden'!$AA$1) -> 87.4 | AB19: =(('logg värden'!AB19))/('logg värden'!$AB$1) -> 0 | AC19: =(('logg värden'!AC19))/('logg värden'!$AC$1) -> 0 | AD19: =(('logg värden'!AD19))/('logg värden'!$AD$1) -> 2.4 | AE19: =(('logg värden'!AE19))/('logg värden'!$AE$1) -> 1.7 | AF19: =(('logg värden'!AF19))/('logg värden'!$AF$1) -> 4.3 | AG19: =(('logg värden'!AG19))/('logg värden'!$AG$1) -> 0 | AH19: =(('logg värden'!AH19))/('logg värden'!$AH$1) -> 25368 | AI19: =(('logg värden'!AI19))/('logg värden'!$AI$1) -> 36741 | AJ19: =(('logg värden'!AJ19))/('logg värden'!$AJ$1) -> 27267.12 | AK19: =(('logg värden'!AK19))/('logg värden'!$AK$1) -> 5885.66 | AL19: =AJ19-AK19 -> 21381.46 | AM19: =(('logg värden'!AL19))/('logg värden'!$AL$1) -> 57
A20: ='logg värden'!A20 -> 44532 | B20: ='logg värden'!B20 -> 0.33840278 | C20: =(('logg värden'!C20))/('logg värden'!$C$1) -> -2.3 | D20: =(('logg värden'!D20))/('logg värden'!$D$1) -> -2.7 | E20: =(('logg värden'!E20))/('logg värden'!$E$1) -> 21.5 | F20: =(('logg värden'!F20))/('logg värden'!$F$1) -> 30 | G20: =(('logg värden'!G20))/('logg värden'!$G$1) -> 33.2 | H20: =(('logg värden'!H20))/('logg värden'!$H$1) -> 38.6 | I20: =(('logg värden'!I20))/('logg värden'!$I$1) -> 31.8 | J20: =(('logg värden'!J20))/('logg värden'!$J$1) -> 30.8 | K20: =(('logg värden'!K20))/('logg värden'!$K$1) -> 31.4 | L20: =(('logg värden'!L20))/('logg värden'!$L$1) -> 29.4 | M20: =(('logg värden'!M20))/('logg värden'!$M$1) -> 7.2 | N20: =(('logg värden'!N20))/('logg värden'!$N$1) -> 7.4 | O20: =(('logg värden'!O20))/('logg värden'!$O$1) -> 44.6 | P20: =(('logg värden'!P20))/('logg värden'!$P$1) -> 41.7 | Q20: =(('logg värden'!Q20))/('logg värden'!$Q$1) -> 39.1 | R20: =(('logg värden'!R20))/('logg värden'!$R$1) -> 92.8 | S20: =(('logg värden'!S20))/('logg värden'!$S$1) -> -14.7 | T20: =(('logg värden'!T20))/('logg värden'!$T$1) -> 0.9 | U20: =(('logg värden'!U20))/('logg värden'!$U$1) -> 22.3 | V20: =(('logg värden'!V20))/('logg värden'!$V$1) -> -11.1 | W20: =(('logg värden'!W20))/('logg värden'!$W$1) -> 209.5 | X20: =(('logg värden'!X20))/('logg värden'!$X$1) -> 219 | Y20: =(('logg värden'!Y20))/('logg värden'!$Y$1) -> 0 | Z20: =(('logg värden'!Z20))/('logg värden'!$Z$1) -> -702.3 | AA20: =(('logg värden'!AA20))/('logg värden'!$AA$1) -> 84.5 | AB20: =(('logg värden'!AB20))/('logg värden'!$AB$1) -> 0 | AC20: =(('logg värden'!AC20))/('logg värden'!$AC$1) -> 0 | AD20: =(('logg värden'!AD20))/('logg värden'!$AD$1) -> 1.9 | AE20: =(('logg värden'!AE20))/('logg värden'!$AE$1) -> 1.5 | AF20: =(('logg värden'!AF20))/('logg värden'!$AF$1) -> 4 | AG20: =(('logg värden'!AG20))/('logg värden'!$AG$1) -> 0 | AH20: =(('logg värden'!AH20))/('logg värden'!$AH$1) -> 25368 | AI20: =(('logg värden'!AI20))/('logg värden'!$AI$1) -> 36741 | AJ20: =(('logg värden'!AJ20))/('logg värden'!$AJ$1) -> 27267.12 | AK20: =(('logg värden'!AK20))/('logg värden'!$AK$1) -> 5885.66 | AL20: =AJ20-AK20 -> 21381.46 | AM20: =(('logg värden'!AL20))/('logg värden'!$AL$1) -> 56
A21: ='logg värden'!A21 -> 44532 | B21: ='logg värden'!B21 -> 0.33909722 | C21: =(('logg värden'!C21))/('logg värden'!$C$1) -> -2.3 | D21: =(('logg värden'!D21))/('logg värden'!$D$1) -> -2.7 | E21: =(('logg värden'!E21))/('logg värden'!$E$1) -> 21.4 | F21: =(('logg värden'!F21))/('logg värden'!$F$1) -> 30 | G21: =(('logg värden'!G21))/('logg värden'!$G$1) -> 33.1 | H21: =(('logg värden'!H21))/('logg värden'!$H$1) -> 38.7 | I21: =(('logg värden'!I21))/('logg värden'!$I$1) -> 31.9 | J21: =(('logg värden'!J21))/('logg värden'!$J$1) -> 30.8 | K21: =(('logg värden'!K21))/('logg värden'!$K$1) -> 31.4 | L21: =(('logg värden'!L21))/('logg värden'!$L$1) -> 29.4 | M21: =(('logg värden'!M21))/('logg värden'!$M$1) -> 7.2 | N21: =(('logg värden'!N21))/('logg värden'!$N$1) -> 7.1 | O21: =(('logg värden'!O21))/('logg värden'!$O$1) -> 44.6 | P21: =(('logg värden'!P21))/('logg värden'!$P$1) -> 41.7 | Q21: =(('logg värden'!Q21))/('logg värden'!$Q$1) -> 39 | R21: =(('logg värden'!R21))/('logg värden'!$R$1) -> 92.3 | S21: =(('logg värden'!S21))/('logg värden'!$S$1) -> -14.3 | T21: =(('logg värden'!T21))/('logg värden'!$T$1) -> 1.6 | U21: =(('logg värden'!U21))/('logg värden'!$U$1) -> 22.3 | V21: =(('logg värden'!V21))/('logg värden'!$V$1) -> -11.1 | W21: =(('logg värden'!W21))/('logg värden'!$W$1) -> 206.1 | X21: =(('logg värden'!X21))/('logg värden'!$X$1) -> 219 | Y21: =(('logg värden'!Y21))/('logg värden'!$Y$1) -> 0 | Z21: =(('logg värden'!Z21))/('logg värden'!$Z$1) -> -696.4 | AA21: =(('logg värden'!AA21))/('logg värden'!$AA$1) -> 81.5 | AB21: =(('logg värden'!AB21))/('logg värden'!$AB$1) -> 0 | AC21: =(('logg värden'!AC21))/('logg värden'!$AC$1) -> 0 | AD21: =(('logg värden'!AD21))/('logg värden'!$AD$1) -> 1.8 | AE21: =(('logg värden'!AE21))/('logg värden'!$AE$1) -> 1.6 | AF21: =(('logg värden'!AF21))/('logg värden'!$AF$1) -> 4.2 | AG21: =(('logg värden'!AG21))/('logg värden'!$AG$1) -> 0 | AH21: =(('logg värden'!AH21))/('logg värden'!$AH$1) -> 25368 | AI21: =(('logg värden'!AI21))/('logg värden'!$AI$1) -> 36741 | AJ21: =(('logg värden'!AJ21))/('logg värden'!$AJ$1) -> 27267.12 | AK21: =(('logg värden'!AK21))/('logg värden'!$AK$1) -> 5885.66 | AL21: =AJ21-AK21 -> 21381.46 | AM21: =(('logg värden'!AL21))/('logg värden'!$AL$1) -> 56
A22: ='logg värden'!A22 -> 44532 | B22: ='logg värden'!B22 -> 0.33979167 | C22: =(('logg värden'!C22))/('logg värden'!$C$1) -> -2.3 | D22: =(('logg värden'!D22))/('logg värden'!$D$1) -> -2.7 | E22: =(('logg värden'!E22))/('logg värden'!$E$1) -> 21.4 | F22: =(('logg värden'!F22))/('logg värden'!$F$1) -> 30 | G22: =(('logg värden'!G22))/('logg värden'!$G$1) -> 33.1 | H22: =(('logg värden'!H22))/('logg värden'!$H$1) -> 38.8 | I22: =(('logg värden'!I22))/('logg värden'!$I$1) -> 32 | J22: =(('logg värden'!J22))/('logg värden'!$J$1) -> 30.8 | K22: =(('logg värden'!K22))/('logg värden'!$K$1) -> 31.3 | L22: =(('logg värden'!L22))/('logg värden'!$L$1) -> 29.4 | M22: =(('logg värden'!M22))/('logg värden'!$M$1) -> 7.2 | N22: =(('logg värden'!N22))/('logg värden'!$N$1) -> 7 | O22: =(('logg värden'!O22))/('logg värden'!$O$1) -> 44.6 | P22: =(('logg värden'!P22))/('logg värden'!$P$1) -> 41.7 | Q22: =(('logg värden'!Q22))/('logg värden'!$Q$1) -> 39 | R22: =(('logg värden'!R22))/('logg värden'!$R$1) -> 91.6 | S22: =(('logg värden'!S22))/('logg värden'!$S$1) -> -13.8 | T22: =(('logg värden'!T22))/('logg värden'!$T$1) -> 1.8 | U22: =(('logg värden'!U22))/('logg värden'!$U$1) -> 22.3 | V22: =(('logg värden'!V22))/('logg värden'!$V$1) -> -11.3 | W22: =(('logg värden'!W22))/('logg värden'!$W$1) -> 206.2 | X22: =(('logg värden'!X22))/('logg värden'!$X$1) -> 219 | Y22: =(('logg värden'!Y22))/('logg värden'!$Y$1) -> 0 | Z22: =(('logg värden'!Z22))/('logg värden'!$Z$1) -> -690.5 | AA22: =(('logg värden'!AA22))/('logg värden'!$AA$1) -> 78.5 | AB22: =(('logg värden'!AB22))/('logg värden'!$AB$1) -> 0 | AC22: =(('logg värden'!AC22))/('logg värden'!$AC$1) -> 0 | AD22: =(('logg värden'!AD22))/('logg värden'!$AD$1) -> 2.1 | AE22: =(('logg värden'!AE22))/('logg värden'!$AE$1) -> 1.4 | AF22: =(('logg värden'!AF22))/('logg värden'!$AF$1) -> 3.7 | AG22: =(('logg värden'!AG22))/('logg värden'!$AG$1) -> 0 | AH22: =(('logg värden'!AH22))/('logg värden'!$AH$1) -> 25368 | AI22: =(('logg värden'!AI22))/('logg värden'!$AI$1) -> 36741 | AJ22: =(('logg värden'!AJ22))/('logg värden'!$AJ$1) -> 27267.12 | AK22: =(('logg värden'!AK22))/('logg värden'!$AK$1) -> 5885.66 | AL22: =AJ22-AK22 -> 21381.46 | AM22: =(('logg värden'!AL22))/('logg värden'!$AL$1) -> 56
A23: ='logg värden'!A23 -> 44532 | B23: ='logg värden'!B23 -> 0.34048611 | C23: =(('logg värden'!C23))/('logg värden'!$C$1) -> -2.3 | D23: =(('logg värden'!D23))/('logg värden'!$D$1) -> -2.7 | E23: =(('logg värden'!E23))/('logg värden'!$E$1) -> 21.4 | F23: =(('logg värden'!F23))/('logg värden'!$F$1) -> 30 | G23: =(('logg värden'!G23))/('logg värden'!$G$1) -> 33.1 | H23: =(('logg värden'!H23))/('logg värden'!$H$1) -> 38.8 | I23: =(('logg värden'!I23))/('logg värden'!$I$1) -> 32.1 | J23: =(('logg värden'!J23))/('logg värden'!$J$1) -> 30.8 | K23: =(('logg värden'!K23))/('logg värden'!$K$1) -> 31.3 | L23: =(('logg värden'!L23))/('logg värden'!$L$1) -> 29.4 | M23: =(('logg värden'!M23))/('logg värden'!$M$1) -> 7.2 | N23: =(('logg värden'!N23))/('logg värden'!$N$1) -> 6.8 | O23: =(('logg värden'!O23))/('logg värden'!$O$1) -> 44.6 | P23: =(('logg värden'!P23))/('logg värden'!$P$1) -> 41.7 | Q23: =(('logg värden'!Q23))/('logg värden'!$Q$1) -> 38.9 | R23: =(('logg värden'!R23))/('logg värden'!$R$1) -> 90.9 | S23: =(('logg värden'!S23))/('logg värden'!$S$1) -> -13.4 | T23: =(('logg värden'!T23))/('logg värden'!$T$1) -> 1.9 | U23: =(('logg värden'!U23))/('logg värden'!$U$1) -> 22.3 | V23: =(('logg värden'!V23))/('logg värden'!$V$1) -> -10.8 | W23: =(('logg värden'!W23))/('logg värden'!$W$1) -> 207.3 | X23: =(('logg värden'!X23))/('logg värden'!$X$1) -> 219 | Y23: =(('logg värden'!Y23))/('logg värden'!$Y$1) -> 0 | Z23: =(('logg värden'!Z23))/('logg värden'!$Z$1) -> -684.7 | AA23: =(('logg värden'!AA23))/('logg värden'!$AA$1) -> 75.4 | AB23: =(('logg värden'!AB23))/('logg värden'!$AB$1) -> 0 | AC23: =(('logg värden'!AC23))/('logg värden'!$AC$1) -> 0 | AD23: =(('logg värden'!AD23))/('logg värden'!$AD$1) -> 2 | AE23: =(('logg värden'!AE23))/('logg värden'!$AE$1) -> 1.4 | AF23: =(('logg värden'!AF23))/('logg värden'!$AF$1) -> 3.3 | AG23: =(('logg värden'!AG23))/('logg värden'!$AG$1) -> 0 | AH23: =(('logg värden'!AH23))/('logg värden'!$AH$1) -> 25368 | AI23: =(('logg värden'!AI23))/('logg värden'!$AI$1) -> 36741 | AJ23: =(('logg värden'!AJ23))/('logg värden'!$AJ$1) -> 27267.12 | AK23: =(('logg värden'!AK23))/('logg värden'!$AK$1) -> 5885.66 | AL23: =AJ23-AK23 -> 21381.46 | AM23: =(('logg värden'!AL23))/('logg värden'!$AL$1) -> 55
A24: ='logg värden'!A24 -> 44532 | B24: ='logg värden'!B24 -> 0.34118056 | C24: =(('logg värden'!C24))/('logg värden'!$C$1) -> -2.3 | D24: =(('logg värden'!D24))/('logg värden'!$D$1) -> -2.7 | E24: =(('logg värden'!E24))/('logg värden'!$E$1) -> 21.4 | F24: =(('logg värden'!F24))/('logg värden'!$F$1) -> 30 | G24: =(('logg värden'!G24))/('logg värden'!$G$1) -> 33.1 | H24: =(('logg värden'!H24))/('logg värden'!$H$1) -> 38.8 | I24: =(('logg värden'!I24))/('logg värden'!$I$1) -> 32.3 | J24: =(('logg värden'!J24))/('logg värden'!$J$1) -> 30.8 | K24: =(('logg värden'!K24))/('logg värden'!$K$1) -> 31.2 | L24: =(('logg värden'!L24))/('logg värden'!$L$1) -> 29.4 | M24: =(('logg värden'!M24))/('logg värden'!$M$1) -> 7.2 | N24: =(('logg värden'!N24))/('logg värden'!$N$1) -> 6.7 | O24: =(('logg värden'!O24))/('logg värden'!$O$1) -> 44.6 | P24: =(('logg värden'!P24))/('logg värden'!$P$1) -> 41.7 | Q24: =(('logg värden'!Q24))/('logg värden'!$Q$1) -> 39 | R24: =(('logg värden'!R24))/('logg värden'!$R$1) -> 89.9 | S24: =(('logg värden'!S24))/('logg värden'!$S$1) -> -12.8 | T24: =(('logg värden'!T24))/('logg värden'!$T$1) -> 2.7 | U24: =(('logg värden'!U24))/('logg värden'!$U$1) -> 22.3 | V24: =(('logg värden'!V24))/('logg värden'!$V$1) -> -10.5 | W24: =(('logg värden'!W24))/('logg värden'!$W$1) -> 208.3 | X24: =(('logg värden'!X24))/('logg värden'!$X$1) -> 219 | Y24: =(('logg värden'!Y24))/('logg värden'!$Y$1) -> 0 | Z24: =(('logg värden'!Z24))/('logg värden'!$Z$1) -> -678.9 | AA24: =(('logg värden'!AA24))/('logg värden'!$AA$1) -> 72.5 | AB24: =(('logg värden'!AB24))/('logg värden'!$AB$1) -> 0 | AC24: =(('logg värden'!AC24))/('logg värden'!$AC$1) -> 0 | AD24: =(('logg värden'!AD24))/('logg värden'!$AD$1) -> 1.8 | AE24: =(('logg värden'!AE24))/('logg värden'!$AE$1) -> 1.5 | AF24: =(('logg värden'!AF24))/('logg värden'!$AF$1) -> 3.3 | AG24: =(('logg värden'!AG24))/('logg värden'!$AG$1) -> 0 | AH24: =(('logg värden'!AH24))/('logg värden'!$AH$1) -> 25368 | AI24: =(('logg värden'!AI24))/('logg värden'!$AI$1) -> 36741 | AJ24: =(('logg värden'!AJ24))/('logg värden'!$AJ$1) -> 27267.12 | AK24: =(('logg värden'!AK24))/('logg värden'!$AK$1) -> 5885.66 | AL24: =AJ24-AK24 -> 21381.46 | AM24: =(('logg värden'!AL24))/('logg värden'!$AL$1) -> 53
A25: ='logg värden'!A25 -> 44532 | B25: ='logg värden'!B25 -> 0.341875 | C25: =(('logg värden'!C25))/('logg värden'!$C$1) -> -2.2 | D25: =(('logg värden'!D25))/('logg värden'!$D$1) -> -2.7 | E25: =(('logg värden'!E25))/('logg värden'!$E$1) -> 21.4 | F25: =(('logg värden'!F25))/('logg värden'!$F$1) -> 30 | G25: =(('logg värden'!G25))/('logg värden'!$G$1) -> 33.1 | H25: =(('logg värden'!H25))/('logg värden'!$H$1) -> 38.8 | I25: =(('logg värden'!I25))/('logg värden'!$I$1) -> 32.3 | J25: =(('logg värden'!J25))/('logg värden'!$J$1) -> 30.8 | K25: =(('logg värden'!K25))/('logg värden'!$K$1) -> 31.2 | L25: =(('logg värden'!L25))/('logg värden'!$L$1) -> 29.3 | M25: =(('logg värden'!M25))/('logg värden'!$M$1) -> 7.2 | N25: =(('logg värden'!N25))/('logg värden'!$N$1) -> 6.7 | O25: =(('logg värden'!O25))/('logg värden'!$O$1) -> 44.6 | P25: =(('logg värden'!P25))/('logg värden'!$P$1) -> 41.7 | Q25: =(('logg värden'!Q25))/('logg värden'!$Q$1) -> 39 | R25: =(('logg värden'!R25))/('logg värden'!$R$1) -> 89.3 | S25: =(('logg värden'!S25))/('logg värden'!$S$1) -> -12.3 | T25: =(('logg värden'!T25))/('logg värden'!$T$1) -> 2.6 | U25: =(('logg värden'!U25))/('logg värden'!$U$1) -> 22.3 | V25: =(('logg värden'!V25))/('logg värden'!$V$1) -> -10 | W25: =(('logg värden'!W25))/('logg värden'!$W$1) -> 205.7 | X25: =(('logg värden'!X25))/('logg värden'!$X$1) -> 219 | Y25: =(('logg värden'!Y25))/('logg värden'!$Y$1) -> 0 | Z25: =(('logg värden'!Z25))/('logg värden'!$Z$1) -> -673 | AA25: =(('logg värden'!AA25))/('logg värden'!$AA$1) -> 69.4 | AB25: =(('logg värden'!AB25))/('logg värden'!$AB$1) -> 0 | AC25: =(('logg värden'!AC25))/('logg värden'!$AC$1) -> 0 | AD25: =(('logg värden'!AD25))/('logg värden'!$AD$1) -> 1.6 | AE25: =(('logg värden'!AE25))/('logg värden'!$AE$1) -> 1.8 | AF25: =(('logg värden'!AF25))/('logg värden'!$AF$1) -> 3.2 | AG25: =(('logg värden'!AG25))/('logg värden'!$AG$1) -> 0 | AH25: =(('logg värden'!AH25))/('logg värden'!$AH$1) -> 25368 | AI25: =(('logg värden'!AI25))/('logg värden'!$AI$1) -> 36741 | AJ25: =(('logg värden'!AJ25))/('logg värden'!$AJ$1) -> 27267.12 | AK25: =(('logg värden'!AK25))/('logg värden'!$AK$1) -> 5885.66 | AL25: =AJ25-AK25 -> 21381.46 | AM25: =(('logg värden'!AL25))/('logg värden'!$AL$1) -> 52
A26: ='logg värden'!A26 -> 44532 | B26: ='logg värden'!B26 -> 0.34194444 | C26: =(('logg värden'!C26))/('logg värden'!$C$1) -> -2.3 | D26: =(('logg värden'!D26))/('logg värden'!$D$1) -> -2.7 | E26: =(('logg värden'!E26))/('logg värden'!$E$1) -> 21.4 | F26: =(('logg värden'!F26))/('logg värden'!$F$1) -> 30 | G26: =(('logg värden'!G26))/('logg värden'!$G$1) -> 33.1 | H26: =(('logg värden'!H26))/('logg värden'!$H$1) -> 38.8 | I26: =(('logg värden'!I26))/('logg värden'!$I$1) -> 32.4 | J26: =(('logg värden'!J26))/('logg värden'!$J$1) -> 30.8 | K26: =(('logg värden'!K26))/('logg värden'!$K$1) -> 31.1 | L26: =(('logg värden'!L26))/('logg värden'!$L$1) -> 29.3 | M26: =(('logg värden'!M26))/('logg värden'!$M$1) -> 7.2 | N26: =(('logg värden'!N26))/('logg värden'!$N$1) -> 6.7 | O26: =(('logg värden'!O26))/('logg värden'!$O$1) -> 44.5 | P26: =(('logg värden'!P26))/('logg värden'!$P$1) -> 41.7 | Q26: =(('logg värden'!Q26))/('logg värden'!$Q$1) -> 39.1 | R26: =(('logg värden'!R26))/('logg värden'!$R$1) -> 88.4 | S26: =(('logg värden'!S26))/('logg värden'!$S$1) -> -11.9 | T26: =(('logg värden'!T26))/('logg värden'!$T$1) -> 3.4 | U26: =(('logg värden'!U26))/('logg värden'!$U$1) -> 22.3 | V26: =(('logg värden'!V26))/('logg värden'!$V$1) -> -9.5 | W26: =(('logg värden'!W26))/('logg värden'!$W$1) -> 204.9 | X26: =(('logg värden'!X26))/('logg värden'!$X$1) -> 219 | Y26: =(('logg värden'!Y26))/('logg värden'!$Y$1) -> 0 | Z26: =(('logg värden'!Z26))/('logg värden'!$Z$1) -> -667 | AA26: =(('logg värden'!AA26))/('logg värden'!$AA$1) -> 66.4 | AB26: =(('logg värden'!AB26))/('logg värden'!$AB$1) -> 0 | AC26: =(('logg värden'!AC26))/('logg värden'!$AC$1) -> 0 | AD26: =(('logg värden'!AD26))/('logg värden'!$AD$1) -> 2.6 | AE26: =(('logg värden'!AE26))/('logg värden'!$AE$1) -> 1.2 | AF26: =(('logg värden'!AF26))/('logg värden'!$AF$1) -> 3.4 | AG26: =(('logg värden'!AG26))/('logg värden'!$AG$1) -> 0 | AH26: =(('logg värden'!AH26))/('logg värden'!$AH$1) -> 25368 | AI26: =(('logg värden'!AI26))/('logg värden'!$AI$1) -> 36741 | AJ26: =(('logg värden'!AJ26))/('logg värden'!$AJ$1) -> 27267.12 | AK26: =(('logg värden'!AK26))/('logg värden'!$AK$1) -> 5885.66 | AL26: =AJ26-AK26 -> 21381.46 | AM26: =(('logg värden'!AL26))/('logg värden'!$AL$1) -> 50
A27: ='logg värden'!A27 -> 44532 | B27: ='logg värden'!B27 -> 0.34260417 | C27: =(('logg värden'!C27))/('logg värden'!$C$1) -> -2.2 | D27: =(('logg värden'!D27))/('logg värden'!$D$1) -> -2.7 | E27: =(('logg värden'!E27))/('logg värden'!$E$1) -> 21.5 | F27: =(('logg värden'!F27))/('logg värden'!$F$1) -> 30 | G27: =(('logg värden'!G27))/('logg värden'!$G$1) -> 33.1 | H27: =(('logg värden'!H27))/('logg värden'!$H$1) -> 38.8 | I27: =(('logg värden'!I27))/('logg värden'!$I$1) -> 32.5 | J27: =(('logg värden'!J27))/('logg värden'!$J$1) -> 30.8 | K27: =(('logg värden'!K27))/('logg värden'!$K$1) -> 31.1 | L27: =(('logg värden'!L27))/('logg värden'!$L$1) -> 29.3 | M27: =(('logg värden'!M27))/('logg värden'!$M$1) -> 7.2 | N27: =(('logg värden'!N27))/('logg värden'!$N$1) -> 6.6 | O27: =(('logg värden'!O27))/('logg värden'!$O$1) -> 44.6 | P27: =(('logg värden'!P27))/('logg värden'!$P$1) -> 41.6 | Q27: =(('logg värden'!Q27))/('logg värden'!$Q$1) -> 39.1 | R27: =(('logg värden'!R27))/('logg värden'!$R$1) -> 87.7 | S27: =(('logg värden'!S27))/('logg värden'!$S$1) -> -11.3 | T27: =(('logg värden'!T27))/('logg värden'!$T$1) -> 3.8 | U27: =(('logg värden'!U27))/('logg värden'!$U$1) -> 22.3 | V27: =(('logg värden'!V27))/('logg värden'!$V$1) -> -9 | W27: =(('logg värden'!W27))/('logg värden'!$W$1) -> 207.7 | X27: =(('logg värden'!X27))/('logg värden'!$X$1) -> 219 | Y27: =(('logg värden'!Y27))/('logg värden'!$Y$1) -> 0 | Z27: =(('logg värden'!Z27))/('logg värden'!$Z$1) -> -661 | AA27: =(('logg värden'!AA27))/('logg värden'!$AA$1) -> 63.4 | AB27: =(('logg värden'!AB27))/('logg värden'!$AB$1) -> 0 | AC27: =(('logg värden'!AC27))/('logg värden'!$AC$1) -> 0 | AD27: =(('logg värden'!AD27))/('logg värden'!$AD$1) -> 2.2 | AE27: =(('logg värden'!AE27))/('logg värden'!$AE$1) -> 1.3 | AF27: =(('logg värden'!AF27))/('logg värden'!$AF$1) -> 2.4 | AG27: =(('logg värden'!AG27))/('logg värden'!$AG$1) -> 0 | AH27: =(('logg värden'!AH27))/('logg värden'!$AH$1) -> 25368 | AI27: =(('logg värden'!AI27))/('logg värden'!$AI$1) -> 36741 | AJ27: =(('logg värden'!AJ27))/('logg värden'!$AJ$1) -> 27267.12 | AK27: =(('logg värden'!AK27))/('logg värden'!$AK$1) -> 5885.66 | AL27: =AJ27-AK27 -> 21381.46 | AM27: =(('logg värden'!AL27))/('logg värden'!$AL$1) -> 47
A28: ='logg värden'!A28 -> 44532 | B28: ='logg värden'!B28 -> 0.34329861 | C28: =(('logg värden'!C28))/('logg värden'!$C$1) -> -2.2 | D28: =(('logg värden'!D28))/('logg värden'!$D$1) -> -2.7 | E28: =(('logg värden'!E28))/('logg värden'!$E$1) -> 21.4 | F28: =(('logg värden'!F28))/('logg värden'!$F$1) -> 30 | G28: =(('logg värden'!G28))/('logg värden'!$G$1) -> 33.1 | H28: =(('logg värden'!H28))/('logg värden'!$H$1) -> 38.8 | I28: =(('logg värden'!I28))/('logg värden'!$I$1) -> 32.5 | J28: =(('logg värden'!J28))/('logg värden'!$J$1) -> 30.8 | K28: =(('logg värden'!K28))/('logg värden'!$K$1) -> 31 | L28: =(('logg värden'!L28))/('logg värden'!$L$1) -> 29.3 | M28: =(('logg värden'!M28))/('logg värden'!$M$1) -> 7.2 | N28: =(('logg värden'!N28))/('logg värden'!$N$1) -> 6.6 | O28: =(('logg värden'!O28))/('logg värden'!$O$1) -> 44.6 | P28: =(('logg värden'!P28))/('logg värden'!$P$1) -> 41.6 | Q28: =(('logg värden'!Q28))/('logg värden'!$Q$1) -> 39.1 | R28: =(('logg värden'!R28))/('logg värden'!$R$1) -> 86.8 | S28: =(('logg värden'!S28))/('logg värden'!$S$1) -> -10.8 | T28: =(('logg värden'!T28))/('logg värden'!$T$1) -> 4.4 | U28: =(('logg värden'!U28))/('logg värden'!$U$1) -> 22.3 | V28: =(('logg värden'!V28))/('logg värden'!$V$1) -> -8.7 | W28: =(('logg värden'!W28))/('logg värden'!$W$1) -> 206.7 | X28: =(('logg värden'!X28))/('logg värden'!$X$1) -> 219 | Y28: =(('logg värden'!Y28))/('logg värden'!$Y$1) -> 0 | Z28: =(('logg värden'!Z28))/('logg värden'!$Z$1) -> -654.9 | AA28: =(('logg värden'!AA28))/('logg värden'!$AA$1) -> 60.4 | AB28: =(('logg värden'!AB28))/('logg värden'!$AB$1) -> 0 | AC28: =(('logg värden'!AC28))/('logg värden'!$AC$1) -> 0 | AD28: =(('logg värden'!AD28))/('logg värden'!$AD$1) -> 1.3 | AE28: =(('logg värden'!AE28))/('logg värden'!$AE$1) -> 1.2 | AF28: =(('logg värden'!AF28))/('logg värden'!$AF$1) -> 4.7 | AG28: =(('logg värden'!AG28))/('logg värden'!$AG$1) -> 0 | AH28: =(('logg värden'!AH28))/('logg värden'!$AH$1) -> 25368 | AI28: =(('logg värden'!AI28))/('logg värden'!$AI$1) -> 36741 | AJ28: =(('logg värden'!AJ28))/('logg värden'!$AJ$1) -> 27267.12 | AK28: =(('logg värden'!AK28))/('logg värden'!$AK$1) -> 5885.66 | AL28: =AJ28-AK28 -> 21381.46 | AM28: =(('logg värden'!AL28))/('logg värden'!$AL$1) -> 45
A29: ='logg värden'!A29 -> 44532 | B29: ='logg värden'!B29 -> 0.34399306 | C29: =(('logg värden'!C29))/('logg värden'!$C$1) -> -2.3 | D29: =(('logg värden'!D29))/('logg värden'!$D$1) -> -2.7 | E29: =(('logg värden'!E29))/('logg värden'!$E$1) -> 21.5 | F29: =(('logg värden'!F29))/('logg värden'!$F$1) -> 30 | G29: =(('logg värden'!G29))/('logg värden'!$G$1) -> 33.1 | H29: =(('logg värden'!H29))/('logg värden'!$H$1) -> 38.8 | I29: =(('logg värden'!I29))/('logg värden'!$I$1) -> 32.5 | J29: =(('logg värden'!J29))/('logg värden'!$J$1) -> 30.8 | K29: =(('logg värden'!K29))/('logg värden'!$K$1) -> 30.9 | L29: =(('logg värden'!L29))/('logg värden'!$L$1) -> 29.3 | M29: =(('logg värden'!M29))/('logg värden'!$M$1) -> 7.2 | N29: =(('logg värden'!N29))/('logg värden'!$N$1) -> 6.6 | O29: =(('logg värden'!O29))/('logg värden'!$O$1) -> 44.5 | P29: =(('logg värden'!P29))/('logg värden'!$P$1) -> 41.6 | Q29: =(('logg värden'!Q29))/('logg värden'!$Q$1) -> 39.1 | R29: =(('logg värden'!R29))/('logg värden'!$R$1) -> 86.2 | S29: =(('logg värden'!S29))/('logg värden'!$S$1) -> -10.3 | T29: =(('logg värden'!T29))/('logg värden'!$T$1) -> 4.9 | U29: =(('logg värden'!U29))/('logg värden'!$U$1) -> 22.3 | V29: =(('logg värden'!V29))/('logg värden'!$V$1) -> -8.2 | W29: =(('logg värden'!W29))/('logg värden'!$W$1) -> 204.9 | X29: =(('logg värden'!X29))/('logg värden'!$X$1) -> 219 | Y29: =(('logg värden'!Y29))/('logg värden'!$Y$1) -> 0 | Z29: =(('logg värden'!Z29))/('logg värden'!$Z$1) -> -648.9 | AA29: =(('logg värden'!AA29))/('logg värden'!$AA$1) -> 57.5 | AB29: =(('logg värden'!AB29))/('logg värden'!$AB$1) -> 0 | AC29: =(('logg värden'!AC29))/('logg värden'!$AC$1) -> 0 | AD29: =(('logg värden'!AD29))/('logg värden'!$AD$1) -> 1.5 | AE29: =(('logg värden'!AE29))/('logg värden'!$AE$1) -> 1.1 | AF29: =(('logg värden'!AF29))/('logg värden'!$AF$1) -> 2.6 | AG29: =(('logg värden'!AG29))/('logg värden'!$AG$1) -> 0 | AH29: =(('logg värden'!AH29))/('logg värden'!$AH$1) -> 25368 | AI29: =(('logg värden'!AI29))/('logg värden'!$AI$1) -> 36741 | AJ29: =(('logg värden'!AJ29))/('logg värden'!$AJ$1) -> 27267.12 | AK29: =(('logg värden'!AK29))/('logg värden'!$AK$1) -> 5885.66 | AL29: =AJ29-AK29 -> 21381.46 | AM29: =(('logg värden'!AL29))/('logg värden'!$AL$1) -> 43
... A1442: ='logg värden'!A1442 -> 44533 | B1442: ='logg värden'!B1442 -> 0.32600694 | C1442: =(('logg värden'!C1442))/('logg värden'!$C$1) -> -6 | D1442: =(('logg värden'!D1442))/('logg värden'!$D$1) -> -4.5 | E1442: =(('logg värden'!E1442))/('logg värden'!$E$1) -> 20.8 | F1442: =(('logg värden'!F1442))/('logg värden'!$F$1) -> 20 | G1442: =(('logg värden'!G1442))/('logg värden'!$G$1) -> 31.9 | H1442: =(('logg värden'!H1442))/('logg värden'!$H$1) -> 30.4 | I1442: =(('logg värden'!I1442))/('logg värden'!$I$1) -> 47 | J1442: =(('logg värden'!J1442))/('logg värden'!$J$1) -> 29.5 | K1442: =(('logg värden'!K1442))/('logg värden'!$K$1) -> 28.5 | L1442: =(('logg värden'!L1442))/('logg värden'!$L$1) -> 28 | M1442: =(('logg värden'!M1442))/('logg värden'!$M$1) -> -3276.8 | N1442: =(('logg värden'!N1442))/('logg värden'!$N$1) -> -3276.8 | O1442: =(('logg värden'!O1442))/('logg värden'!$O$1) -> 44.7 | P1442: =(('logg värden'!P1442))/('logg värden'!$P$1) -> 44 | Q1442: =(('logg värden'!Q1442))/('logg värden'!$Q$1) -> 49.8 | R1442: =(('logg värden'!R1442))/('logg värden'!$R$1) -> 98.5 | S1442: =(('logg värden'!S1442))/('logg värden'!$S$1) -> -9.8 | T1442: =(('logg värden'!T1442))/('logg värden'!$T$1) -> 4.4 | U1442: =(('logg värden'!U1442))/('logg värden'!$U$1) -> 21.9 | V1442: =(('logg värden'!V1442))/('logg värden'!$V$1) -> -3.4 | W1442: =(('logg värden'!W1442))/('logg värden'!$W$1) -> 211.9 | X1442: =(('logg värden'!X1442))/('logg värden'!$X$1) -> 222.4 | Y1442: =(('logg värden'!Y1442))/('logg värden'!$Y$1) -> 0 | Z1442: =(('logg värden'!Z1442))/('logg värden'!$Z$1) -> -805 | AA1442: =(('logg värden'!AA1442))/('logg värden'!$AA$1) -> 77.5 | AB1442: =(('logg värden'!AB1442))/('logg värden'!$AB$1) -> 0 | AC1442: =(('logg värden'!AC1442))/('logg värden'!$AC$1) -> 0 | AD1442: =(('logg värden'!AD1442))/('logg värden'!$AD$1) -> 3.3 | AE1442: =(('logg värden'!AE1442))/('logg värden'!$AE$1) -> 1.8 | AF1442: =(('logg värden'!AF1442))/('logg värden'!$AF$1) -> 3.8 | AG1442: =(('logg värden'!AG1442))/('logg värden'!$AG$1) -> 0 | AH1442: =(('logg värden'!AH1442))/('logg värden'!$AH$1) -> 25380 | AI1442: =(('logg värden'!AI1442))/('logg värden'!$AI$1) -> 36761 | AJ1442: =(('logg värden'!AJ1442))/('logg värden'!$AJ$1) -> 27285.18 | AK1442: =(('logg värden'!AK1442))/('logg värden'!$AK$1) -> 5887.83 | AL1442: =AJ1442-AK1442 -> 21397.35 | AM1442: =(('logg värden'!AL1442))/('logg värden'!$AL$1) -> 100

Sheet gradminuter

Sheet radiatorer,golvvärme temperatur

Sheet ute,inne,avluft temperaturer

Sheet Värmepump

Sheet varmvatten, eltillsats

Sheet luftflöde, kompressor frev, avf

Sheet Ström, tilsatt elpatron

Sheet Använd effekt
